BEGIN:VCALENDAR
VERSION:2.0
PRODID:-//Brian Hayes, Classical Guitarist - ECPv6.15.20//NONSGML v1.0//EN
CALSCALE:GREGORIAN
METHOD:PUBLISH
X-WR-CALNAME:Brian Hayes, Classical Guitarist
X-ORIGINAL-URL:https://classicalguitarorlando.com
X-WR-CALDESC:Events for Brian Hayes, Classical Guitarist
REFRESH-INTERVAL;VALUE=DURATION:PT1H
X-Robots-Tag:noindex
X-PUBLISHED-TTL:PT1H
BEGIN:VTIMEZONE
TZID:America/New_York
BEGIN:DAYLIGHT
TZOFFSETFROM:-0500
TZOFFSETTO:-0400
TZNAME:EDT
DTSTART:20180311T070000
END:DAYLIGHT
BEGIN:STANDARD
TZOFFSETFROM:-0400
TZOFFSETTO:-0500
TZNAME:EST
DTSTART:20181104T060000
END:STANDARD
BEGIN:DAYLIGHT
TZOFFSETFROM:-0500
TZOFFSETTO:-0400
TZNAME:EDT
DTSTART:20190310T070000
END:DAYLIGHT
BEGIN:STANDARD
TZOFFSETFROM:-0400
TZOFFSETTO:-0500
TZNAME:EST
DTSTART:20191103T060000
END:STANDARD
BEGIN:DAYLIGHT
TZOFFSETFROM:-0500
TZOFFSETTO:-0400
TZNAME:EDT
DTSTART:20200308T070000
END:DAYLIGHT
BEGIN:STANDARD
TZOFFSETFROM:-0400
TZOFFSETTO:-0500
TZNAME:EST
DTSTART:20201101T060000
END:STANDARD
BEGIN:DAYLIGHT
TZOFFSETFROM:-0500
TZOFFSETTO:-0400
TZNAME:EDT
DTSTART:20210314T070000
END:DAYLIGHT
BEGIN:STANDARD
TZOFFSETFROM:-0400
TZOFFSETTO:-0500
TZNAME:EST
DTSTART:20211107T060000
END:STANDARD
END:VTIMEZONE
BEGIN:VEVENT
DTSTART;TZID=America/New_York:20200203T120000
DTEND;TZID=America/New_York:20200203T140000
DTSTAMP:20260421T163859
CREATED:20200202T152851Z
LAST-MODIFIED:20230202T160411Z
UID:10000091-1580731200-1580738400@classicalguitarorlando.com
SUMMARY:Birthday Party
DESCRIPTION:
URL:https://classicalguitarorlando.com/event/private-event-100/
LOCATION:Seasons 52\, 7700 Sand Lake Rd.\, Orlando\, FL\, 32819\, United States
ATTACH;FMTTYPE=image/jpeg:https://classicalguitarorlando.com/wp-content/uploads/2019/05/Birthday-dinner.jpg
END:VEVENT
BEGIN:VEVENT
DTSTART;TZID=America/New_York:20200130T180000
DTEND;TZID=America/New_York:20200130T210000
DTSTAMP:20260421T163859
CREATED:20200912T183600Z
LAST-MODIFIED:20230828T173751Z
UID:10000327-1580407200-1580418000@classicalguitarorlando.com
SUMMARY:Bulla Gastrobar
DESCRIPTION:TEXT: “GUITAR” \nTO: 833-602-8479 \nto be notified whenever Brian performs at Orlando area venues!
URL:https://classicalguitarorlando.com/event/bulla-gastrobar/2020-01-30/
LOCATION:Bulla Gastrobar\, 110 S ORLANDO AVE\, SUITE #7\, FL\, 32789\, United States
ATTACH;FMTTYPE=image/jpeg:https://classicalguitarorlando.com/wp-content/uploads/2019/02/Bulla-Gastrobar2.jpg
END:VEVENT
BEGIN:VEVENT
DTSTART;TZID=America/New_York:20191226T180000
DTEND;TZID=America/New_York:20191226T210000
DTSTAMP:20260421T163859
CREATED:20200912T183600Z
LAST-MODIFIED:20230828T173751Z
UID:10000326-1577383200-1577394000@classicalguitarorlando.com
SUMMARY:Bulla Gastrobar
DESCRIPTION:TEXT: “GUITAR” \nTO: 833-602-8479 \nto be notified whenever Brian performs at Orlando area venues!
URL:https://classicalguitarorlando.com/event/bulla-gastrobar/2019-12-26/
LOCATION:Bulla Gastrobar\, 110 S ORLANDO AVE\, SUITE #7\, FL\, 32789\, United States
ATTACH;FMTTYPE=image/jpeg:https://classicalguitarorlando.com/wp-content/uploads/2019/02/Bulla-Gastrobar2.jpg
END:VEVENT
BEGIN:VEVENT
DTSTART;TZID=America/New_York:20191219T170000
DTEND;TZID=America/New_York:20191219T200000
DTSTAMP:20260421T163859
CREATED:20190916T052759Z
LAST-MODIFIED:20230202T160430Z
UID:10000092-1576774800-1576785600@classicalguitarorlando.com
SUMMARY:The Market at Café Zuppina
DESCRIPTION:
URL:https://classicalguitarorlando.com/event/cafe-zuppina-2019-12-12/
LOCATION:Café Zuppina\, 4417 Florida Ave S\, Lakeland\, FL\, 33813\, United States
ATTACH;FMTTYPE=image/jpeg:https://classicalguitarorlando.com/wp-content/uploads/2019/09/Cafe-Zuppina.jpg
END:VEVENT
BEGIN:VEVENT
DTSTART;TZID=America/New_York:20191207T190000
DTEND;TZID=America/New_York:20191207T220000
DTSTAMP:20260421T163859
CREATED:20190719T042425Z
LAST-MODIFIED:20230202T160448Z
UID:10000093-1575745200-1575756000@classicalguitarorlando.com
SUMMARY:Holiday Party
DESCRIPTION:
URL:https://classicalguitarorlando.com/event/private-event-93/
LOCATION:FL
ATTACH;FMTTYPE=image/jpeg:https://classicalguitarorlando.com/wp-content/uploads/2017/05/Private-Dinner-Party.jpg
END:VEVENT
BEGIN:VEVENT
DTSTART;TZID=America/New_York:20191205T173000
DTEND;TZID=America/New_York:20191205T190000
DTSTAMP:20260421T163859
CREATED:20191205T125350Z
LAST-MODIFIED:20230202T160507Z
UID:10000094-1575567000-1575572400@classicalguitarorlando.com
SUMMARY:Dexter's New Standard
DESCRIPTION:
URL:https://classicalguitarorlando.com/event/dexters-new-standard/
LOCATION:Dexter’s New Standard\, 1035 Orlando Ave\, Winter Park\, FL\, 32789\, United States
ATTACH;FMTTYPE=image/jpeg:https://classicalguitarorlando.com/wp-content/uploads/2019/12/Dexters-New-Standard.jpg
END:VEVENT
BEGIN:VEVENT
DTSTART;TZID=America/New_York:20191128T180000
DTEND;TZID=America/New_York:20191128T210000
DTSTAMP:20260421T163859
CREATED:20200912T183600Z
LAST-MODIFIED:20230828T173751Z
UID:10000325-1574964000-1574974800@classicalguitarorlando.com
SUMMARY:Bulla Gastrobar
DESCRIPTION:TEXT: “GUITAR” \nTO: 833-602-8479 \nto be notified whenever Brian performs at Orlando area venues!
URL:https://classicalguitarorlando.com/event/bulla-gastrobar/2019-11-28/
LOCATION:Bulla Gastrobar\, 110 S ORLANDO AVE\, SUITE #7\, FL\, 32789\, United States
ATTACH;FMTTYPE=image/jpeg:https://classicalguitarorlando.com/wp-content/uploads/2019/02/Bulla-Gastrobar2.jpg
END:VEVENT
BEGIN:VEVENT
DTSTART;TZID=America/New_York:20191124T120000
DTEND;TZID=America/New_York:20191124T150000
DTSTAMP:20260421T163859
CREATED:20200913T142859Z
LAST-MODIFIED:20230202T160530Z
UID:10000095-1574596800-1574607600@classicalguitarorlando.com
SUMMARY:In Concert at Casa Feliz
DESCRIPTION:
URL:https://classicalguitarorlando.com/event/in-concert-at-casa-feliz-16/
LOCATION:Casa Feliz\, 656 N Park Ave\, Winter Park\, FL\, 32789\, United States
ATTACH;FMTTYPE=image/jpeg:https://classicalguitarorlando.com/wp-content/uploads/2015/02/Casa-Feliz-image-tweaked.jpg
GEO:28.6026677;-81.3510844
X-APPLE-STRUCTURED-LOCATION;VALUE=URI;X-ADDRESS=Casa Feliz 656 N Park Ave Winter Park FL 32789 United States;X-APPLE-RADIUS=500;X-TITLE=656 N Park Ave:geo:-81.3510844,28.6026677
END:VEVENT
BEGIN:VEVENT
DTSTART;TZID=America/New_York:20191122T190000
DTEND;TZID=America/New_York:20191122T230000
DTSTAMP:20260421T163859
CREATED:20191031T035104Z
LAST-MODIFIED:20230202T160550Z
UID:10000096-1574449200-1574463600@classicalguitarorlando.com
SUMMARY:The Ritz-Carlton Orlando\, Grand Lakes
DESCRIPTION:
URL:https://classicalguitarorlando.com/event/ritz-carlton/
LOCATION:The Ritz-Carlton\, Orlando\, Grand Lakes\, 4012 Central Florida Pkwy\, Orlando\, FL\, 32837\, United States
ATTACH;FMTTYPE=image/jpeg:https://classicalguitarorlando.com/wp-content/uploads/2016/03/Ritz-Club-Lounge.jpg
GEO:28.4047463;-81.4289125
X-APPLE-STRUCTURED-LOCATION;VALUE=URI;X-ADDRESS=The Ritz-Carlton Orlando Grand Lakes 4012 Central Florida Pkwy Orlando FL 32837 United States;X-APPLE-RADIUS=500;X-TITLE=4012 Central Florida Pkwy:geo:-81.4289125,28.4047463
END:VEVENT
BEGIN:VEVENT
DTSTART;TZID=America/New_York:20191114T170000
DTEND;TZID=America/New_York:20191114T200000
DTSTAMP:20260421T163859
CREATED:20190916T052759Z
LAST-MODIFIED:20230202T160608Z
UID:10000097-1573750800-1573761600@classicalguitarorlando.com
SUMMARY:The Market at Café Zuppina
DESCRIPTION:
URL:https://classicalguitarorlando.com/event/cafe-zuppina/
LOCATION:Café Zuppina\, 4417 Florida Ave S\, Lakeland\, FL\, 33813\, United States
ATTACH;FMTTYPE=image/jpeg:https://classicalguitarorlando.com/wp-content/uploads/2019/09/Cafe-Zuppina.jpg
END:VEVENT
BEGIN:VEVENT
DTSTART;TZID=America/New_York:20191113T120000
DTEND;TZID=America/New_York:20191113T130000
DTSTAMP:20260421T163859
CREATED:20190916T045708Z
LAST-MODIFIED:20230202T160627Z
UID:10000098-1573646400-1573650000@classicalguitarorlando.com
SUMMARY:Orange County Library (Chickasaw)
DESCRIPTION:
URL:https://classicalguitarorlando.com/event/music-in-the-library-event-4/
LOCATION:Orange County Library (Chickasaw)\, 870 N Chickasaw Trail\, Orlando\, FL\, 32825\, United States
ATTACH;FMTTYPE=image/jpeg:https://classicalguitarorlando.com/wp-content/uploads/2019/05/OCPL.jpg
END:VEVENT
BEGIN:VEVENT
DTSTART;TZID=America/New_York:20191109T140000
DTEND;TZID=America/New_York:20191109T150000
DTSTAMP:20260421T163859
CREATED:20190916T045549Z
LAST-MODIFIED:20230202T160649Z
UID:10000099-1573308000-1573311600@classicalguitarorlando.com
SUMMARY:Orange County Library (South Creek)
DESCRIPTION:
URL:https://classicalguitarorlando.com/event/music-in-the-library-event-3/
LOCATION:Orange County Library (South Creek)\, 1702 Deerfield Blvd\, Orlando\, FL\, 32837\, United States
ATTACH;FMTTYPE=image/jpeg:https://classicalguitarorlando.com/wp-content/uploads/2019/05/OCPL.jpg
END:VEVENT
BEGIN:VEVENT
DTSTART;TZID=America/New_York:20191103T170000
DTEND;TZID=America/New_York:20191103T193000
DTSTAMP:20260421T163859
CREATED:20191017T072742Z
LAST-MODIFIED:20230202T160720Z
UID:10000100-1572800400-1572809400@classicalguitarorlando.com
SUMMARY:Wedding Ceremony
DESCRIPTION:
URL:https://classicalguitarorlando.com/event/private-event-98/
LOCATION:FL
ATTACH;FMTTYPE=image/jpeg:https://classicalguitarorlando.com/wp-content/uploads/2016/03/Wedding-scaled.jpg
END:VEVENT
BEGIN:VEVENT
DTSTART;TZID=America/New_York:20191102T191500
DTEND;TZID=America/New_York:20191102T213000
DTSTAMP:20260421T163859
CREATED:20190825T034042Z
LAST-MODIFIED:20230202T160743Z
UID:10000101-1572722100-1572730200@classicalguitarorlando.com
SUMMARY:Dinner Party
DESCRIPTION:
URL:https://classicalguitarorlando.com/event/private-event-96/
LOCATION:Waldorf Astoria Orlando\, 14200 Bonnet Creek Resort Lane\, Orlando\, FL\, 32821\, United States
ATTACH;FMTTYPE=image/jpeg:https://classicalguitarorlando.com/wp-content/uploads/2019/08/Dinner-Party.jpg
END:VEVENT
BEGIN:VEVENT
DTSTART;TZID=America/New_York:20191101T140000
DTEND;TZID=America/New_York:20191101T150000
DTSTAMP:20260421T163859
CREATED:20191030T182010Z
LAST-MODIFIED:20230202T160803Z
UID:10000102-1572616800-1572620400@classicalguitarorlando.com
SUMMARY:Orange County Library (Southwest)
DESCRIPTION:
URL:https://classicalguitarorlando.com/event/music-in-the-library-event-6/
LOCATION:Orange County Library (Southwest)\, 7255 Della Dr.\, Orlando\, FL\, 32819\, United States
ATTACH;FMTTYPE=image/jpeg:https://classicalguitarorlando.com/wp-content/uploads/2019/05/OCPL.jpg
END:VEVENT
BEGIN:VEVENT
DTSTART;TZID=America/New_York:20191031T180000
DTEND;TZID=America/New_York:20191031T210000
DTSTAMP:20260421T163859
CREATED:20200912T183600Z
LAST-MODIFIED:20230828T173751Z
UID:10000324-1572544800-1572555600@classicalguitarorlando.com
SUMMARY:Bulla Gastrobar
DESCRIPTION:TEXT: “GUITAR” \nTO: 833-602-8479 \nto be notified whenever Brian performs at Orlando area venues!
URL:https://classicalguitarorlando.com/event/bulla-gastrobar/2019-10-31/
LOCATION:Bulla Gastrobar\, 110 S ORLANDO AVE\, SUITE #7\, FL\, 32789\, United States
ATTACH;FMTTYPE=image/jpeg:https://classicalguitarorlando.com/wp-content/uploads/2019/02/Bulla-Gastrobar2.jpg
END:VEVENT
BEGIN:VEVENT
DTSTART;TZID=America/New_York:20191017T190000
DTEND;TZID=America/New_York:20191017T210000
DTSTAMP:20260421T163859
CREATED:20190725T055254Z
LAST-MODIFIED:20230202T160825Z
UID:10000103-1571338800-1571346000@classicalguitarorlando.com
SUMMARY:Spanish Wine Dinner Event
DESCRIPTION:
URL:https://classicalguitarorlando.com/event/private-event-94/
LOCATION:Bulla Gastrobar\, 110 S ORLANDO AVE\, SUITE #7\, FL\, 32789\, United States
ATTACH;FMTTYPE=image/jpeg:https://classicalguitarorlando.com/wp-content/uploads/2019/01/Bulla-Gastrobar.jpg
END:VEVENT
BEGIN:VEVENT
DTSTART;TZID=America/New_York:20191010T170000
DTEND;TZID=America/New_York:20191010T200000
DTSTAMP:20260421T163859
CREATED:20200914T050330Z
LAST-MODIFIED:20230202T160848Z
UID:10000104-1570726800-1570737600@classicalguitarorlando.com
SUMMARY:The Market at Café Zuppina
DESCRIPTION:
URL:https://classicalguitarorlando.com/event/the-market-at-cafe-zuppina-2/
LOCATION:Café Zuppina\, 4417 Florida Ave S\, Lakeland\, FL\, 33813\, United States
ATTACH;FMTTYPE=image/jpeg:https://classicalguitarorlando.com/wp-content/uploads/2019/09/Cafe-Zuppina.jpg
END:VEVENT
BEGIN:VEVENT
DTSTART;TZID=America/New_York:20191003T170000
DTEND;TZID=America/New_York:20191003T200000
DTSTAMP:20260421T163859
CREATED:20191001T031848Z
LAST-MODIFIED:20230202T160913Z
UID:10000105-1570122000-1570132800@classicalguitarorlando.com
SUMMARY:The Market at Café Zuppina
DESCRIPTION:
URL:https://classicalguitarorlando.com/event/cafe-zuppina-2/
LOCATION:Café Zuppina\, 4417 Florida Ave S\, Lakeland\, FL\, 33813\, United States
ATTACH;FMTTYPE=image/jpeg:https://classicalguitarorlando.com/wp-content/uploads/2019/09/Cafe-Zuppina.jpg
END:VEVENT
BEGIN:VEVENT
DTSTART;TZID=America/New_York:20190926T180000
DTEND;TZID=America/New_York:20190926T210000
DTSTAMP:20260421T163859
CREATED:20200912T183600Z
LAST-MODIFIED:20230828T173751Z
UID:10000323-1569520800-1569531600@classicalguitarorlando.com
SUMMARY:Bulla Gastrobar
DESCRIPTION:TEXT: “GUITAR” \nTO: 833-602-8479 \nto be notified whenever Brian performs at Orlando area venues!
URL:https://classicalguitarorlando.com/event/bulla-gastrobar/2019-09-26/
LOCATION:Bulla Gastrobar\, 110 S ORLANDO AVE\, SUITE #7\, FL\, 32789\, United States
ATTACH;FMTTYPE=image/jpeg:https://classicalguitarorlando.com/wp-content/uploads/2019/02/Bulla-Gastrobar2.jpg
END:VEVENT
BEGIN:VEVENT
DTSTART;TZID=America/New_York:20190919T170000
DTEND;TZID=America/New_York:20190919T200000
DTSTAMP:20260421T163859
CREATED:20200914T050154Z
LAST-MODIFIED:20230202T160938Z
UID:10000106-1568912400-1568923200@classicalguitarorlando.com
SUMMARY:The Market at Café Zuppina
DESCRIPTION:
URL:https://classicalguitarorlando.com/event/the-market-at-cafe-zuppina/
LOCATION:Café Zuppina\, 4417 Florida Ave S\, Lakeland\, FL\, 33813\, United States
ATTACH;FMTTYPE=image/jpeg:https://classicalguitarorlando.com/wp-content/uploads/2019/09/Cafe-Zuppina.jpg
END:VEVENT
BEGIN:VEVENT
DTSTART;TZID=America/New_York:20190914T180000
DTEND;TZID=America/New_York:20190914T210000
DTSTAMP:20260421T163859
CREATED:20190525T050614Z
LAST-MODIFIED:20230202T161228Z
UID:10000107-1568484000-1568494800@classicalguitarorlando.com
SUMMARY:Birthday Dinner
DESCRIPTION:
URL:https://classicalguitarorlando.com/event/private-event-90/
LOCATION:Café Zuppina\, 4417 Florida Ave S\, Lakeland\, FL\, 33813\, United States
ATTACH;FMTTYPE=image/jpeg:https://classicalguitarorlando.com/wp-content/uploads/2019/05/Birthday-dinner.jpg
END:VEVENT
BEGIN:VEVENT
DTSTART;TZID=America/New_York:20190907T110000
DTEND;TZID=America/New_York:20190907T120000
DTSTAMP:20260421T163859
CREATED:20200912T184707Z
LAST-MODIFIED:20230202T161250Z
UID:10000108-1567854000-1567857600@classicalguitarorlando.com
SUMMARY:Orange County Library (Winter Garden)
DESCRIPTION:
URL:https://classicalguitarorlando.com/event/orange-county-library-winter-garden/
LOCATION:Orange County Library (Winter Garden)\, 805 E Plant St\, Winter Garden\, FL\, 34787\, United States
ATTACH;FMTTYPE=image/jpeg:https://classicalguitarorlando.com/wp-content/uploads/2019/10/Tavares-Public-Library.jpg
END:VEVENT
BEGIN:VEVENT
DTSTART;TZID=America/New_York:20190829T180000
DTEND;TZID=America/New_York:20190829T210000
DTSTAMP:20260421T163859
CREATED:20200912T183600Z
LAST-MODIFIED:20230828T173751Z
UID:10000322-1567101600-1567112400@classicalguitarorlando.com
SUMMARY:Bulla Gastrobar
DESCRIPTION:TEXT: “GUITAR” \nTO: 833-602-8479 \nto be notified whenever Brian performs at Orlando area venues!
URL:https://classicalguitarorlando.com/event/bulla-gastrobar/2019-08-29/
LOCATION:Bulla Gastrobar\, 110 S ORLANDO AVE\, SUITE #7\, FL\, 32789\, United States
ATTACH;FMTTYPE=image/jpeg:https://classicalguitarorlando.com/wp-content/uploads/2019/02/Bulla-Gastrobar2.jpg
END:VEVENT
BEGIN:VEVENT
DTSTART;TZID=America/New_York:20190811T120000
DTEND;TZID=America/New_York:20190811T150000
DTSTAMP:20260421T163859
CREATED:20200913T142820Z
LAST-MODIFIED:20230202T161310Z
UID:10000109-1565524800-1565535600@classicalguitarorlando.com
SUMMARY:In Concert at Casa Feliz
DESCRIPTION:
URL:https://classicalguitarorlando.com/event/in-concert-at-casa-feliz-15/
LOCATION:Casa Feliz\, 656 N Park Ave\, Winter Park\, FL\, 32789\, United States
ATTACH;FMTTYPE=image/jpeg:https://classicalguitarorlando.com/wp-content/uploads/2015/02/Casa-Feliz-image-tweaked.jpg
GEO:28.6026677;-81.3510844
X-APPLE-STRUCTURED-LOCATION;VALUE=URI;X-ADDRESS=Casa Feliz 656 N Park Ave Winter Park FL 32789 United States;X-APPLE-RADIUS=500;X-TITLE=656 N Park Ave:geo:-81.3510844,28.6026677
END:VEVENT
BEGIN:VEVENT
DTSTART;TZID=America/New_York:20190725T180000
DTEND;TZID=America/New_York:20190725T210000
DTSTAMP:20260421T163859
CREATED:20200912T183600Z
LAST-MODIFIED:20230828T173751Z
UID:10000321-1564077600-1564088400@classicalguitarorlando.com
SUMMARY:Bulla Gastrobar
DESCRIPTION:TEXT: “GUITAR” \nTO: 833-602-8479 \nto be notified whenever Brian performs at Orlando area venues!
URL:https://classicalguitarorlando.com/event/bulla-gastrobar/2019-07-25/
LOCATION:Bulla Gastrobar\, 110 S ORLANDO AVE\, SUITE #7\, FL\, 32789\, United States
ATTACH;FMTTYPE=image/jpeg:https://classicalguitarorlando.com/wp-content/uploads/2019/02/Bulla-Gastrobar2.jpg
END:VEVENT
BEGIN:VEVENT
DTSTART;TZID=America/New_York:20190720T140000
DTEND;TZID=America/New_York:20190720T160000
DTSTAMP:20260421T163859
CREATED:20200912T185449Z
LAST-MODIFIED:20230202T161329Z
UID:10000110-1563631200-1563638400@classicalguitarorlando.com
SUMMARY:Earth Origins
DESCRIPTION:
URL:https://classicalguitarorlando.com/event/7-20-19-from-2pm-to-4pm/
LOCATION:Earth Origins Outlet\, 3005 W Lake Mary Blvd\, Lake Mary\, FL\, 32746 \, United States
ATTACH;FMTTYPE=image/jpeg:https://classicalguitarorlando.com/wp-content/uploads/2016/05/Earth-Origins-logo.jpg
GEO:28.754936;-81.3325318
X-APPLE-STRUCTURED-LOCATION;VALUE=URI;X-ADDRESS=Earth Origins Outlet 3005 W Lake Mary Blvd Lake Mary FL 32746  United States;X-APPLE-RADIUS=500;X-TITLE=3005 W Lake Mary Blvd:geo:-81.3325318,28.754936
END:VEVENT
BEGIN:VEVENT
DTSTART;TZID=America/New_York:20190629T170000
DTEND;TZID=America/New_York:20190629T210000
DTSTAMP:20260421T163859
CREATED:20200916T145429Z
LAST-MODIFIED:20230202T161349Z
UID:10000111-1561827600-1561842000@classicalguitarorlando.com
SUMMARY:Club Event
DESCRIPTION:
URL:https://classicalguitarorlando.com/event/club-event-2/
LOCATION:FL
ATTACH;FMTTYPE=image/jpeg:https://classicalguitarorlando.com/wp-content/uploads/2020/09/Political-Funderaiser.jpg
END:VEVENT
BEGIN:VEVENT
DTSTART;TZID=America/New_York:20190627T180000
DTEND;TZID=America/New_York:20190627T210000
DTSTAMP:20260421T163859
CREATED:20200912T183600Z
LAST-MODIFIED:20230828T173751Z
UID:10000320-1561658400-1561669200@classicalguitarorlando.com
SUMMARY:Bulla Gastrobar
DESCRIPTION:TEXT: “GUITAR” \nTO: 833-602-8479 \nto be notified whenever Brian performs at Orlando area venues!
URL:https://classicalguitarorlando.com/event/bulla-gastrobar/2019-06-27/
LOCATION:Bulla Gastrobar\, 110 S ORLANDO AVE\, SUITE #7\, FL\, 32789\, United States
ATTACH;FMTTYPE=image/jpeg:https://classicalguitarorlando.com/wp-content/uploads/2019/02/Bulla-Gastrobar2.jpg
END:VEVENT
BEGIN:VEVENT
DTSTART;TZID=America/New_York:20190620T190000
DTEND;TZID=America/New_York:20190620T220000
DTSTAMP:20260421T163859
CREATED:20200914T045002Z
LAST-MODIFIED:20230202T161412Z
UID:10000112-1561057200-1561068000@classicalguitarorlando.com
SUMMARY:Bite Night Orlando
DESCRIPTION:
URL:https://classicalguitarorlando.com/event/bite-night-orlando/
LOCATION:Orchid Garden\, 126 West Church Street  \, Orlando  \, FL\, 32801\, United States
ATTACH;FMTTYPE=image/jpeg:https://classicalguitarorlando.com/wp-content/uploads/2019/05/Bite-Night-Orlando.jpg
GEO:28.5399266;-81.381204
X-APPLE-STRUCTURED-LOCATION;VALUE=URI;X-ADDRESS=Orchid Garden 126 West Church Street   Orlando   FL 32801 United States;X-APPLE-RADIUS=500;X-TITLE=126 West Church Street:geo:-81.381204,28.5399266
END:VEVENT
END:VCALENDAR