BEGIN:VCALENDAR
VERSION:2.0
PRODID:-//Brian Hayes, Classical Guitarist - ECPv6.15.20//NONSGML v1.0//EN
CALSCALE:GREGORIAN
METHOD:PUBLISH
X-WR-CALNAME:Brian Hayes, Classical Guitarist
X-ORIGINAL-URL:https://classicalguitarorlando.com
X-WR-CALDESC:Events for Brian Hayes, Classical Guitarist
REFRESH-INTERVAL;VALUE=DURATION:PT1H
X-Robots-Tag:noindex
X-PUBLISHED-TTL:PT1H
BEGIN:VTIMEZONE
TZID:America/New_York
BEGIN:DAYLIGHT
TZOFFSETFROM:-0500
TZOFFSETTO:-0400
TZNAME:EDT
DTSTART:20150308T070000
END:DAYLIGHT
BEGIN:STANDARD
TZOFFSETFROM:-0400
TZOFFSETTO:-0500
TZNAME:EST
DTSTART:20151101T060000
END:STANDARD
BEGIN:DAYLIGHT
TZOFFSETFROM:-0500
TZOFFSETTO:-0400
TZNAME:EDT
DTSTART:20160313T070000
END:DAYLIGHT
BEGIN:STANDARD
TZOFFSETFROM:-0400
TZOFFSETTO:-0500
TZNAME:EST
DTSTART:20161106T060000
END:STANDARD
BEGIN:DAYLIGHT
TZOFFSETFROM:-0500
TZOFFSETTO:-0400
TZNAME:EDT
DTSTART:20170312T070000
END:DAYLIGHT
BEGIN:STANDARD
TZOFFSETFROM:-0400
TZOFFSETTO:-0500
TZNAME:EST
DTSTART:20171105T060000
END:STANDARD
END:VTIMEZONE
BEGIN:VEVENT
DTSTART;TZID=America/New_York:20161113T180000
DTEND;TZID=America/New_York:20161113T210000
DTSTAMP:20260422T034416
CREATED:20200913T155539Z
LAST-MODIFIED:20230202T234223Z
UID:10000205-1479060000-1479070800@classicalguitarorlando.com
SUMMARY:Bella Tuscany Italian Restaurant
DESCRIPTION:
URL:https://classicalguitarorlando.com/event/bella-tuscany-italian-restaurant-7/
LOCATION:Bella Tuscany Italian Restaurant\, 13424 Summerport Village Pkwy\, Windermere\, FL\, 34786\, United States
ATTACH;FMTTYPE=image/jpeg:https://classicalguitarorlando.com/wp-content/uploads/2015/08/Bella-Tuscany-image.jpg
GEO:28.4783369;-81.5833901
X-APPLE-STRUCTURED-LOCATION;VALUE=URI;X-ADDRESS=Bella Tuscany Italian Restaurant 13424 Summerport Village Pkwy Windermere FL 34786 United States;X-APPLE-RADIUS=500;X-TITLE=13424 Summerport Village Pkwy:geo:-81.5833901,28.4783369
END:VEVENT
BEGIN:VEVENT
DTSTART;TZID=America/New_York:20161105T180000
DTEND;TZID=America/New_York:20161105T210000
DTSTAMP:20260422T034416
CREATED:20200913T144912Z
LAST-MODIFIED:20230202T234335Z
UID:10000206-1478368800-1478379600@classicalguitarorlando.com
SUMMARY:El Potro Mexican Restaurant
DESCRIPTION:
URL:https://classicalguitarorlando.com/event/el-potro-mexican-restaurant-3/
LOCATION:El Potro Mexican Restaurant\, 501 N Orlando Ave\, Suite 217\, Winter Park\,\, FL\, 32789\, United States
ATTACH;FMTTYPE=image/bmp:https://classicalguitarorlando.com/wp-content/uploads/2014/11/el-potro-larger.bmp
GEO:28.6051872;-81.3673996
X-APPLE-STRUCTURED-LOCATION;VALUE=URI;X-ADDRESS=El Potro Mexican Restaurant 501 N Orlando Ave Suite 217 Winter Park FL 32789 United States;X-APPLE-RADIUS=500;X-TITLE=501 N Orlando Ave\, Suite 217:geo:-81.3673996,28.6051872
END:VEVENT
BEGIN:VEVENT
DTSTART;TZID=America/New_York:20161029T160000
DTEND;TZID=America/New_York:20161029T170000
DTSTAMP:20260422T034416
CREATED:20200915T160919Z
LAST-MODIFIED:20230202T234346Z
UID:10000207-1477756800-1477760400@classicalguitarorlando.com
SUMMARY:Wedding Ceremony
DESCRIPTION:
URL:https://classicalguitarorlando.com/event/wedding-ceremony-4/
LOCATION:FL
ATTACH;FMTTYPE=image/jpeg:https://classicalguitarorlando.com/wp-content/uploads/2016/03/Wedding-scaled.jpg
END:VEVENT
BEGIN:VEVENT
DTSTART;TZID=America/New_York:20161028T180000
DTEND;TZID=America/New_York:20161028T203000
DTSTAMP:20260422T034416
CREATED:20200912T024409Z
LAST-MODIFIED:20230202T234355Z
UID:10000208-1477677600-1477686600@classicalguitarorlando.com
SUMMARY:The Grille at Magnolia House
DESCRIPTION:
URL:https://classicalguitarorlando.com/event/trilogy-orlando-event/
LOCATION:FL
ATTACH;FMTTYPE=image/jpeg:https://classicalguitarorlando.com/wp-content/uploads/2019/12/Dexters-New-Standard.jpg
END:VEVENT
BEGIN:VEVENT
DTSTART;TZID=America/New_York:20161014T180000
DTEND;TZID=America/New_York:20161014T203000
DTSTAMP:20260422T034416
CREATED:20200912T023405Z
LAST-MODIFIED:20230202T234407Z
UID:10000209-1476468000-1476477000@classicalguitarorlando.com
SUMMARY:The Grille at Magnolia House
DESCRIPTION:
URL:https://classicalguitarorlando.com/event/private-event-25/
LOCATION:FL
ATTACH;FMTTYPE=image/jpeg:https://classicalguitarorlando.com/wp-content/uploads/2019/12/Dexters-New-Standard.jpg
END:VEVENT
BEGIN:VEVENT
DTSTART;TZID=America/New_York:20161007T173000
DTEND;TZID=America/New_York:20161007T193000
DTSTAMP:20260422T034416
CREATED:20200912T024824Z
LAST-MODIFIED:20230202T234420Z
UID:10000210-1475861400-1475868600@classicalguitarorlando.com
SUMMARY:Funeral Reception
DESCRIPTION:
URL:https://classicalguitarorlando.com/event/private-event-26/
LOCATION:FL
ATTACH;FMTTYPE=image/jpeg:https://classicalguitarorlando.com/wp-content/uploads/2016/09/Funeral-Reception.jpg
END:VEVENT
BEGIN:VEVENT
DTSTART;TZID=America/New_York:20160826T180000
DTEND;TZID=America/New_York:20160826T210000
DTSTAMP:20260422T034416
CREATED:20200912T020803Z
LAST-MODIFIED:20230202T234430Z
UID:10000211-1472234400-1472245200@classicalguitarorlando.com
SUMMARY:Dinner Event
DESCRIPTION:
URL:https://classicalguitarorlando.com/event/private-event-17/
LOCATION:Oak Harbor Clubhouse\, 4755 S Harbor Dr\, \, Vero Beach\, FL\, 32967\, United States
ATTACH;FMTTYPE=image/jpeg:https://classicalguitarorlando.com/wp-content/uploads/2017/05/Private-Dinner-Party.jpg
GEO:27.679461;-80.397481
X-APPLE-STRUCTURED-LOCATION;VALUE=URI;X-ADDRESS=Oak Harbor Clubhouse 4755 S Harbor Dr  Vero Beach FL 32967 United States;X-APPLE-RADIUS=500;X-TITLE=4755 S Harbor Dr\,:geo:-80.397481,27.679461
END:VEVENT
BEGIN:VEVENT
DTSTART;TZID=America/New_York:20160818T120000
DTEND;TZID=America/New_York:20160818T130000
DTSTAMP:20260422T034416
CREATED:20200912T022627Z
LAST-MODIFIED:20230202T234441Z
UID:10000212-1471521600-1471525200@classicalguitarorlando.com
SUMMARY:La Tomatina Festival
DESCRIPTION:
URL:https://classicalguitarorlando.com/event/la-tomatina-festival/
LOCATION:FL
ATTACH;FMTTYPE=image/jpeg:https://classicalguitarorlando.com/wp-content/uploads/2016/08/image.jpeg
END:VEVENT
BEGIN:VEVENT
DTSTART;TZID=America/New_York:20160806T183000
DTEND;TZID=America/New_York:20160806T223000
DTSTAMP:20260422T034416
CREATED:20200912T022000Z
LAST-MODIFIED:20230202T234448Z
UID:10000213-1470508200-1470522600@classicalguitarorlando.com
SUMMARY:Baby Shower
DESCRIPTION:
URL:https://classicalguitarorlando.com/event/private-event-21/
LOCATION:FL
ATTACH;FMTTYPE=image/jpeg:https://classicalguitarorlando.com/wp-content/uploads/2019/03/Baptism-and-1st-Birthday.jpg
END:VEVENT
BEGIN:VEVENT
DTSTART;TZID=America/New_York:20160727T120000
DTEND;TZID=America/New_York:20160727T130000
DTSTAMP:20260422T034416
CREATED:20200912T021722Z
LAST-MODIFIED:20230202T234458Z
UID:10000214-1469620800-1469624400@classicalguitarorlando.com
SUMMARY:Private Event
DESCRIPTION:
URL:https://classicalguitarorlando.com/event/private-event-20/
LOCATION:Somerset House\, 1540 Oak Harbor Boulevard\, Vero Beach\, FL\, 32967\, United States
ATTACH;FMTTYPE=image/jpeg:https://classicalguitarorlando.com/wp-content/uploads/2019/12/Dexters-New-Standard.jpg
GEO:27.678009;-80.400832
X-APPLE-STRUCTURED-LOCATION;VALUE=URI;X-ADDRESS=Somerset House 1540 Oak Harbor Boulevard Vero Beach FL 32967 United States;X-APPLE-RADIUS=500;X-TITLE=1540 Oak Harbor Boulevard:geo:-80.400832,27.678009
END:VEVENT
BEGIN:VEVENT
DTSTART;TZID=America/New_York:20160716T160000
DTEND;TZID=America/New_York:20160716T180000
DTSTAMP:20260422T034416
CREATED:20200912T201632Z
LAST-MODIFIED:20230202T234511Z
UID:10000215-1468684800-1468692000@classicalguitarorlando.com
SUMMARY:Earth Origins event
DESCRIPTION:
URL:https://classicalguitarorlando.com/event/earth-origins-event/
LOCATION:Earth Origins Outlet\, 3005 W Lake Mary Blvd\, Lake Mary\, FL\, 32746 \, United States
ATTACH;FMTTYPE=image/jpeg:https://classicalguitarorlando.com/wp-content/uploads/2016/05/Earth-Origins-logo.jpg
GEO:28.754936;-81.3325318
X-APPLE-STRUCTURED-LOCATION;VALUE=URI;X-ADDRESS=Earth Origins Outlet 3005 W Lake Mary Blvd Lake Mary FL 32746  United States;X-APPLE-RADIUS=500;X-TITLE=3005 W Lake Mary Blvd:geo:-81.3325318,28.754936
END:VEVENT
BEGIN:VEVENT
DTSTART;TZID=America/New_York:20160707T163000
DTEND;TZID=America/New_York:20160707T193000
DTSTAMP:20260422T034416
CREATED:20200912T020924Z
LAST-MODIFIED:20230202T234520Z
UID:10000216-1467909000-1467919800@classicalguitarorlando.com
SUMMARY:Wedding Ceremony
DESCRIPTION:
URL:https://classicalguitarorlando.com/event/private-event-18/
LOCATION:FL
ATTACH;FMTTYPE=image/jpeg:https://classicalguitarorlando.com/wp-content/uploads/2018/03/Wedding-Reception.jpg
END:VEVENT
BEGIN:VEVENT
DTSTART;TZID=America/New_York:20160629T173000
DTEND;TZID=America/New_York:20160629T193000
DTSTAMP:20260422T034416
CREATED:20200912T021113Z
LAST-MODIFIED:20230202T234529Z
UID:10000217-1467221400-1467228600@classicalguitarorlando.com
SUMMARY:Cocktail Reception
DESCRIPTION:
URL:https://classicalguitarorlando.com/event/private-event-19/
LOCATION:Sheltair at Tampa International Airport\, 4751 Jim Walter Boulevard\, Tampa \, FL\, 33607\, United States
ATTACH;FMTTYPE=image/jpeg:https://classicalguitarorlando.com/wp-content/uploads/2017/03/Cocktail-Party.jpg
GEO:27.967403;-82.5212974
X-APPLE-STRUCTURED-LOCATION;VALUE=URI;X-ADDRESS=Sheltair at Tampa International Airport 4751 Jim Walter Boulevard Tampa  FL 33607 United States;X-APPLE-RADIUS=500;X-TITLE=4751 Jim Walter Boulevard:geo:-82.5212974,27.967403
END:VEVENT
BEGIN:VEVENT
DTSTART;TZID=America/New_York:20160616T170000
DTEND;TZID=America/New_York:20160616T190000
DTSTAMP:20260422T034416
CREATED:20200912T015543Z
LAST-MODIFIED:20230202T234540Z
UID:10000218-1466096400-1466103600@classicalguitarorlando.com
SUMMARY:FAIA Convention
DESCRIPTION:
URL:https://classicalguitarorlando.com/event/faia-convention/
LOCATION:Orlando World Center Marriott\, 8701 World Center Drive\, Orlando\, FL\, 32821\, United States
ATTACH;FMTTYPE=image/jpeg:https://classicalguitarorlando.com/wp-content/uploads/2016/01/FAIA-convention.jpg
GEO:28.3610293;-81.5097109
X-APPLE-STRUCTURED-LOCATION;VALUE=URI;X-ADDRESS=Orlando World Center Marriott 8701 World Center Drive Orlando FL 32821 United States;X-APPLE-RADIUS=500;X-TITLE=8701 World Center Drive:geo:-81.5097109,28.3610293
END:VEVENT
BEGIN:VEVENT
DTSTART;TZID=America/New_York:20160606T180000
DTEND;TZID=America/New_York:20160606T200000
DTSTAMP:20260422T034416
CREATED:20200912T014857Z
LAST-MODIFIED:20230202T234549Z
UID:10000219-1465236000-1465243200@classicalguitarorlando.com
SUMMARY:Anniversary Party
DESCRIPTION:
URL:https://classicalguitarorlando.com/event/private-event-14/
LOCATION:Maxine’s on Shine\, 337 N Shine Ave\, Orlando\, FL \, FL\, 32803\, United States
ATTACH;FMTTYPE=image/jpeg:https://classicalguitarorlando.com/wp-content/uploads/2016/06/Anniversary-Party2-scaled.jpg
GEO:28.5472333;-81.3620824
X-APPLE-STRUCTURED-LOCATION;VALUE=URI;X-ADDRESS=Maxine’s on Shine 337 N Shine Ave Orlando FL  FL 32803 United States;X-APPLE-RADIUS=500;X-TITLE=337 N Shine Ave:geo:-81.3620824,28.5472333
END:VEVENT
BEGIN:VEVENT
DTSTART;TZID=America/New_York:20160528T180000
DTEND;TZID=America/New_York:20160528T210000
DTSTAMP:20260422T034416
CREATED:20200913T155456Z
LAST-MODIFIED:20230202T234609Z
UID:10000220-1464458400-1464469200@classicalguitarorlando.com
SUMMARY:Bella Tuscany Italian Restaurant
DESCRIPTION:
URL:https://classicalguitarorlando.com/event/bella-tuscany-italian-restaurant-6/
LOCATION:Bella Tuscany Italian Restaurant\, 13424 Summerport Village Pkwy\, Windermere\, FL\, 34786\, United States
ATTACH;FMTTYPE=image/jpeg:https://classicalguitarorlando.com/wp-content/uploads/2015/08/Bella-Tuscany-image.jpg
GEO:28.4783369;-81.5833901
X-APPLE-STRUCTURED-LOCATION;VALUE=URI;X-ADDRESS=Bella Tuscany Italian Restaurant 13424 Summerport Village Pkwy Windermere FL 34786 United States;X-APPLE-RADIUS=500;X-TITLE=13424 Summerport Village Pkwy:geo:-81.5833901,28.4783369
END:VEVENT
BEGIN:VEVENT
DTSTART;TZID=America/New_York:20160521T160000
DTEND;TZID=America/New_York:20160521T180000
DTSTAMP:20260422T034416
CREATED:20200916T183938Z
LAST-MODIFIED:20230202T234619Z
UID:10000221-1463846400-1463853600@classicalguitarorlando.com
SUMMARY:Wedding Ceremony
DESCRIPTION:
URL:https://classicalguitarorlando.com/event/wedding-ceremony-14/
LOCATION:FL
ATTACH;FMTTYPE=image/jpeg:https://classicalguitarorlando.com/wp-content/uploads/2016/03/Wedding-scaled.jpg
END:VEVENT
BEGIN:VEVENT
DTSTART;TZID=America/New_York:20160515T120000
DTEND;TZID=America/New_York:20160515T150000
DTSTAMP:20260422T034416
CREATED:20200913T142138Z
LAST-MODIFIED:20230202T234627Z
UID:10000222-1463313600-1463324400@classicalguitarorlando.com
SUMMARY:In Concert at Casa Feliz
DESCRIPTION:
URL:https://classicalguitarorlando.com/event/in-concert-at-casa-feliz-6/
LOCATION:Casa Feliz\, 656 N Park Ave\, Winter Park\, FL\, 32789\, United States
ATTACH;FMTTYPE=image/jpeg:https://classicalguitarorlando.com/wp-content/uploads/2015/02/Casa-Feliz-image-tweaked.jpg
GEO:28.6026677;-81.3510844
X-APPLE-STRUCTURED-LOCATION;VALUE=URI;X-ADDRESS=Casa Feliz 656 N Park Ave Winter Park FL 32789 United States;X-APPLE-RADIUS=500;X-TITLE=656 N Park Ave:geo:-81.3510844,28.6026677
END:VEVENT
BEGIN:VEVENT
DTSTART;TZID=America/New_York:20160508T180000
DTEND;TZID=America/New_York:20160508T200000
DTSTAMP:20260422T034416
CREATED:20200915T154138Z
LAST-MODIFIED:20230202T234636Z
UID:10000223-1462730400-1462737600@classicalguitarorlando.com
SUMMARY:Corporate Function
DESCRIPTION:
URL:https://classicalguitarorlando.com/event/corporate-function/
LOCATION:Hilton Bonnet Creek\, 14100 Bonnet Creek Resort Ln\, Orlando\, 32821\, United States
ATTACH;FMTTYPE=image/jpeg:https://classicalguitarorlando.com/wp-content/uploads/2020/09/Political-Funderaiser.jpg
END:VEVENT
BEGIN:VEVENT
DTSTART;TZID=America/New_York:20160505T170000
DTEND;TZID=America/New_York:20160505T210000
DTSTAMP:20260422T034416
CREATED:20200913T152242Z
LAST-MODIFIED:20230202T234647Z
UID:10000224-1462467600-1462482000@classicalguitarorlando.com
SUMMARY:Cinco de Mayo at El Potro Mexican Restaurant
DESCRIPTION:
URL:https://classicalguitarorlando.com/event/cinco-de-mayo-at-el-potro-mexican-restaurant-2/
LOCATION:El Potro Mexican Restaurant\, 501 N Orlando Ave\, Suite 217\, Winter Park\,\, FL\, 32789\, United States
ATTACH;FMTTYPE=image/jpeg:https://classicalguitarorlando.com/wp-content/uploads/2016/04/El-Potro-Cinco-de-Mayo-flyer-2016.jpg
GEO:28.6051872;-81.3673996
X-APPLE-STRUCTURED-LOCATION;VALUE=URI;X-ADDRESS=El Potro Mexican Restaurant 501 N Orlando Ave Suite 217 Winter Park FL 32789 United States;X-APPLE-RADIUS=500;X-TITLE=501 N Orlando Ave\, Suite 217:geo:-81.3673996,28.6051872
END:VEVENT
BEGIN:VEVENT
DTSTART;TZID=America/New_York:20160430T160000
DTEND;TZID=America/New_York:20160430T190000
DTSTAMP:20260422T034416
CREATED:20200912T021510Z
LAST-MODIFIED:20230202T234656Z
UID:10000225-1462032000-1462042800@classicalguitarorlando.com
SUMMARY:Earth Origins Outlet event
DESCRIPTION:
URL:https://classicalguitarorlando.com/event/earth-origins-outlet-event/
LOCATION:Earth Origins Outlet\, 3005 W Lake Mary Blvd\, Lake Mary\, FL\, 32746 \, United States
ATTACH;FMTTYPE=image/jpeg:https://classicalguitarorlando.com/wp-content/uploads/2016/05/Earth-Origins-logo.jpg
GEO:28.754936;-81.3325318
X-APPLE-STRUCTURED-LOCATION;VALUE=URI;X-ADDRESS=Earth Origins Outlet 3005 W Lake Mary Blvd Lake Mary FL 32746  United States;X-APPLE-RADIUS=500;X-TITLE=3005 W Lake Mary Blvd:geo:-81.3325318,28.754936
END:VEVENT
BEGIN:VEVENT
DTSTART;TZID=America/New_York:20160426T173000
DTEND;TZID=America/New_York:20160426T193000
DTSTAMP:20260422T034416
CREATED:20200912T015858Z
LAST-MODIFIED:20230202T234704Z
UID:10000226-1461691800-1461699000@classicalguitarorlando.com
SUMMARY:CCIM event
DESCRIPTION:
URL:https://classicalguitarorlando.com/event/ccim-event-3/
LOCATION:The Abbey\, 515 E Pine St\, Orlando\, FL\, 32801\, United States
ATTACH;FMTTYPE=image/jpeg:https://classicalguitarorlando.com/wp-content/uploads/2016/04/CCIM-Social-Event-of-the-Year-4-26-16.jpg
GEO:28.541545;-81.370741
X-APPLE-STRUCTURED-LOCATION;VALUE=URI;X-ADDRESS=The Abbey 515 E Pine St Orlando FL 32801 United States;X-APPLE-RADIUS=500;X-TITLE=515 E Pine St:geo:-81.370741,28.541545
END:VEVENT
BEGIN:VEVENT
DTSTART;TZID=America/New_York:20160423T220000
DTEND;TZID=America/New_York:20160424T000000
DTSTAMP:20260422T034416
CREATED:20200912T020157Z
LAST-MODIFIED:20230202T234717Z
UID:10000227-1461448800-1461456000@classicalguitarorlando.com
SUMMARY:Private Event
DESCRIPTION:
URL:https://classicalguitarorlando.com/event/private-event-16/
LOCATION:FL
ATTACH;FMTTYPE=image/jpeg:https://classicalguitarorlando.com/wp-content/uploads/2017/05/Private-Dinner-Party.jpg
END:VEVENT
BEGIN:VEVENT
DTSTART;TZID=America/New_York:20160421T190000
DTEND;TZID=America/New_York:20160421T220000
DTSTAMP:20260422T034416
CREATED:20200912T214337Z
LAST-MODIFIED:20230202T234724Z
UID:10000228-1461265200-1461276000@classicalguitarorlando.com
SUMMARY:Maxine's On Shine
DESCRIPTION:
URL:https://classicalguitarorlando.com/event/maxines-on-shine-5/
LOCATION:Maxine’s on Shine\, 337 N Shine Ave\, Orlando\, FL \, FL\, 32803\, United States
ATTACH;FMTTYPE=image/jpeg:https://classicalguitarorlando.com/wp-content/uploads/2014/11/Maxines2-smaller.jpg
GEO:28.5472333;-81.3620824
X-APPLE-STRUCTURED-LOCATION;VALUE=URI;X-ADDRESS=Maxine’s on Shine 337 N Shine Ave Orlando FL  FL 32803 United States;X-APPLE-RADIUS=500;X-TITLE=337 N Shine Ave:geo:-81.3620824,28.5472333
END:VEVENT
BEGIN:VEVENT
DTSTART;TZID=America/New_York:20160417T120000
DTEND;TZID=America/New_York:20160417T150000
DTSTAMP:20260422T034416
CREATED:20200913T142047Z
LAST-MODIFIED:20230202T234733Z
UID:10000229-1460894400-1460905200@classicalguitarorlando.com
SUMMARY:In Concert at Casa Feliz
DESCRIPTION:
URL:https://classicalguitarorlando.com/event/in-concert-at-casa-feliz-5/
LOCATION:Casa Feliz\, 656 N Park Ave\, Winter Park\, FL\, 32789\, United States
ATTACH;FMTTYPE=image/jpeg:https://classicalguitarorlando.com/wp-content/uploads/2015/02/Casa-Feliz-image-tweaked.jpg
GEO:28.6026677;-81.3510844
X-APPLE-STRUCTURED-LOCATION;VALUE=URI;X-ADDRESS=Casa Feliz 656 N Park Ave Winter Park FL 32789 United States;X-APPLE-RADIUS=500;X-TITLE=656 N Park Ave:geo:-81.3510844,28.6026677
END:VEVENT
BEGIN:VEVENT
DTSTART;TZID=America/New_York:20160409T173000
DTEND;TZID=America/New_York:20160409T193000
DTSTAMP:20260422T034416
CREATED:20200916T184330Z
LAST-MODIFIED:20230202T234743Z
UID:10000230-1460223000-1460230200@classicalguitarorlando.com
SUMMARY:Anniversary Party
DESCRIPTION:
URL:https://classicalguitarorlando.com/event/anniversary-party-3/
LOCATION:FL
ATTACH;FMTTYPE=image/jpeg:https://classicalguitarorlando.com/wp-content/uploads/2016/01/50th-anniversary-party.jpg
END:VEVENT
BEGIN:VEVENT
DTSTART;TZID=America/New_York:20160331T180000
DTEND;TZID=America/New_York:20160331T210000
DTSTAMP:20260422T034416
CREATED:20200913T155411Z
LAST-MODIFIED:20230202T234752Z
UID:10000231-1459447200-1459458000@classicalguitarorlando.com
SUMMARY:Bella Tuscany Italian Restaurant
DESCRIPTION:
URL:https://classicalguitarorlando.com/event/bella-tuscany-italian-restaurant-5/
LOCATION:Bella Tuscany Italian Restaurant\, 13424 Summerport Village Pkwy\, Windermere\, FL\, 34786\, United States
ATTACH;FMTTYPE=image/jpeg:https://classicalguitarorlando.com/wp-content/uploads/2015/08/Bella-Tuscany-image.jpg
GEO:28.4783369;-81.5833901
X-APPLE-STRUCTURED-LOCATION;VALUE=URI;X-ADDRESS=Bella Tuscany Italian Restaurant 13424 Summerport Village Pkwy Windermere FL 34786 United States;X-APPLE-RADIUS=500;X-TITLE=13424 Summerport Village Pkwy:geo:-81.5833901,28.4783369
END:VEVENT
BEGIN:VEVENT
DTSTART;TZID=America/New_York:20160219T150000
DTEND;TZID=America/New_York:20160219T163000
DTSTAMP:20260422T034416
CREATED:20200915T153444Z
LAST-MODIFIED:20230202T234805Z
UID:10000232-1455894000-1455899400@classicalguitarorlando.com
SUMMARY:Wedding Ceremony
DESCRIPTION:
URL:https://classicalguitarorlando.com/event/wedding-ceremony-3/
LOCATION:Leu Gardens\, 1920 North Forest Avenue\, Orlando\, FL\, United States
ATTACH;FMTTYPE=image/jpeg:https://classicalguitarorlando.com/wp-content/uploads/2016/06/Church-Wedding.jpg
END:VEVENT
BEGIN:VEVENT
DTSTART;TZID=America/New_York:20160214T180000
DTEND;TZID=America/New_York:20160214T203000
DTSTAMP:20260422T034416
CREATED:20200914T122841Z
LAST-MODIFIED:20230202T234815Z
UID:10000233-1455472800-1455481800@classicalguitarorlando.com
SUMMARY:The Grille at Magnolia House
DESCRIPTION:
URL:https://classicalguitarorlando.com/event/the-grille-at-magnolia-house-2/
LOCATION:FL
ATTACH;FMTTYPE=image/jpeg:https://classicalguitarorlando.com/wp-content/uploads/2019/12/Dexters-New-Standard.jpg
END:VEVENT
BEGIN:VEVENT
DTSTART;TZID=America/New_York:20160214T120000
DTEND;TZID=America/New_York:20160214T160000
DTSTAMP:20260422T034416
CREATED:20200915T154815Z
LAST-MODIFIED:20230202T234823Z
UID:10000234-1455451200-1455465600@classicalguitarorlando.com
SUMMARY:Club Event
DESCRIPTION:
URL:https://classicalguitarorlando.com/event/club-event/
LOCATION:FL
ATTACH;FMTTYPE=image/jpeg:https://classicalguitarorlando.com/wp-content/uploads/2015/04/Smyrna-Yacht-Club-image.jpg
END:VEVENT
END:VCALENDAR