BEGIN:VCALENDAR
VERSION:2.0
PRODID:-//Brian Hayes, Classical Guitarist - ECPv6.15.20//NONSGML v1.0//EN
CALSCALE:GREGORIAN
METHOD:PUBLISH
X-WR-CALNAME:Brian Hayes, Classical Guitarist
X-ORIGINAL-URL:https://classicalguitarorlando.com
X-WR-CALDESC:Events for Brian Hayes, Classical Guitarist
REFRESH-INTERVAL;VALUE=DURATION:PT1H
X-Robots-Tag:noindex
X-PUBLISHED-TTL:PT1H
BEGIN:VTIMEZONE
TZID:America/New_York
BEGIN:DAYLIGHT
TZOFFSETFROM:-0500
TZOFFSETTO:-0400
TZNAME:EDT
DTSTART:20130310T070000
END:DAYLIGHT
BEGIN:STANDARD
TZOFFSETFROM:-0400
TZOFFSETTO:-0500
TZNAME:EST
DTSTART:20131103T060000
END:STANDARD
BEGIN:DAYLIGHT
TZOFFSETFROM:-0500
TZOFFSETTO:-0400
TZNAME:EDT
DTSTART:20140309T070000
END:DAYLIGHT
BEGIN:STANDARD
TZOFFSETFROM:-0400
TZOFFSETTO:-0500
TZNAME:EST
DTSTART:20141102T060000
END:STANDARD
BEGIN:DAYLIGHT
TZOFFSETFROM:-0500
TZOFFSETTO:-0400
TZNAME:EDT
DTSTART:20150308T070000
END:DAYLIGHT
BEGIN:STANDARD
TZOFFSETFROM:-0400
TZOFFSETTO:-0500
TZNAME:EST
DTSTART:20151101T060000
END:STANDARD
BEGIN:DAYLIGHT
TZOFFSETFROM:-0500
TZOFFSETTO:-0400
TZNAME:EDT
DTSTART:20160313T070000
END:DAYLIGHT
BEGIN:STANDARD
TZOFFSETFROM:-0400
TZOFFSETTO:-0500
TZNAME:EST
DTSTART:20161106T060000
END:STANDARD
END:VTIMEZONE
BEGIN:VEVENT
DTSTART;TZID=America/New_York:20150911T200000
DTEND;TZID=America/New_York:20150911T220000
DTSTAMP:20260422T061102
CREATED:20200913T151333Z
LAST-MODIFIED:20230202T235105Z
UID:10000245-1442001600-1442008800@classicalguitarorlando.com
SUMMARY:Dandelion Communitea Cafe
DESCRIPTION:
URL:https://classicalguitarorlando.com/event/dandelion-communitea-cafe-5/
LOCATION:Dandelion Communitea Cafe\, 618 North Thornton Avenue\, \, Orlando\, FL\, 32803\, United States
ATTACH;FMTTYPE=image/jpeg:https://classicalguitarorlando.com/wp-content/uploads/2015/02/Dandelion-Communitea-image.jpg
GEO:28.5520203;-81.3657273
X-APPLE-STRUCTURED-LOCATION;VALUE=URI;X-ADDRESS=Dandelion Communitea Cafe 618 North Thornton Avenue  Orlando FL 32803 United States;X-APPLE-RADIUS=500;X-TITLE=618 North Thornton Avenue\,:geo:-81.3657273,28.5520203
END:VEVENT
BEGIN:VEVENT
DTSTART;TZID=America/New_York:20150905T180000
DTEND;TZID=America/New_York:20150905T210000
DTSTAMP:20260422T061102
CREATED:20200913T154920Z
LAST-MODIFIED:20230202T235114Z
UID:10000246-1441476000-1441486800@classicalguitarorlando.com
SUMMARY:Bella Tuscany Italian Restaurant
DESCRIPTION:
URL:https://classicalguitarorlando.com/event/bella-tuscany-italian-restaurant-3/
LOCATION:Bella Tuscany Italian Restaurant\, 13424 Summerport Village Pkwy\, Windermere\, FL\, 34786\, United States
ATTACH;FMTTYPE=image/jpeg:https://classicalguitarorlando.com/wp-content/uploads/2015/08/Bella-Tuscany-image.jpg
GEO:28.4783369;-81.5833901
X-APPLE-STRUCTURED-LOCATION;VALUE=URI;X-ADDRESS=Bella Tuscany Italian Restaurant 13424 Summerport Village Pkwy Windermere FL 34786 United States;X-APPLE-RADIUS=500;X-TITLE=13424 Summerport Village Pkwy:geo:-81.5833901,28.4783369
END:VEVENT
BEGIN:VEVENT
DTSTART;TZID=America/New_York:20150822T180000
DTEND;TZID=America/New_York:20150822T210000
DTSTAMP:20260422T061102
CREATED:20200913T154607Z
LAST-MODIFIED:20230202T235125Z
UID:10000247-1440266400-1440277200@classicalguitarorlando.com
SUMMARY:Bella Tuscany Italian Restaurant
DESCRIPTION:
URL:https://classicalguitarorlando.com/event/bella-tuscany-italian-restaurant/
LOCATION:Bella Tuscany Italian Restaurant\, 13424 Summerport Village Pkwy\, Windermere\, FL\, 34786\, United States
ATTACH;FMTTYPE=image/jpeg:https://classicalguitarorlando.com/wp-content/uploads/2015/08/Bella-Tuscany-image.jpg
GEO:28.4783369;-81.5833901
X-APPLE-STRUCTURED-LOCATION;VALUE=URI;X-ADDRESS=Bella Tuscany Italian Restaurant 13424 Summerport Village Pkwy Windermere FL 34786 United States;X-APPLE-RADIUS=500;X-TITLE=13424 Summerport Village Pkwy:geo:-81.5833901,28.4783369
END:VEVENT
BEGIN:VEVENT
DTSTART;TZID=America/New_York:20150725T200000
DTEND;TZID=America/New_York:20150725T220000
DTSTAMP:20260422T061102
CREATED:20200913T151233Z
LAST-MODIFIED:20230202T235137Z
UID:10000248-1437854400-1437861600@classicalguitarorlando.com
SUMMARY:Dandelion Communitea Cafe
DESCRIPTION:
URL:https://classicalguitarorlando.com/event/dandelion-communitea-cafe-4/
LOCATION:Dandelion Communitea Cafe\, 618 North Thornton Avenue\, \, Orlando\, FL\, 32803\, United States
ATTACH;FMTTYPE=image/jpeg:https://classicalguitarorlando.com/wp-content/uploads/2015/02/Dandelion-Communitea-image.jpg
GEO:28.5520203;-81.3657273
X-APPLE-STRUCTURED-LOCATION;VALUE=URI;X-ADDRESS=Dandelion Communitea Cafe 618 North Thornton Avenue  Orlando FL 32803 United States;X-APPLE-RADIUS=500;X-TITLE=618 North Thornton Avenue\,:geo:-81.3657273,28.5520203
END:VEVENT
BEGIN:VEVENT
DTSTART;TZID=America/New_York:20150618T170000
DTEND;TZID=America/New_York:20150618T190000
DTSTAMP:20260422T061102
CREATED:20200916T182955Z
LAST-MODIFIED:20230202T235149Z
UID:10000249-1434646800-1434654000@classicalguitarorlando.com
SUMMARY:FAIA Convention
DESCRIPTION:
URL:https://classicalguitarorlando.com/event/faia-convention-june-18-2015-500-pm-700-pm/
LOCATION:Rosen Shingle Creek\, 9939 Universal Blvd\, Orlando\, FL\, 32819\, United States
ATTACH;FMTTYPE=image/jpeg:https://classicalguitarorlando.com/wp-content/uploads/2016/01/FAIA-convention.jpg
GEO:28.4258288;-81.4345457
X-APPLE-STRUCTURED-LOCATION;VALUE=URI;X-ADDRESS=Rosen Shingle Creek 9939 Universal Blvd Orlando FL 32819 United States;X-APPLE-RADIUS=500;X-TITLE=9939 Universal Blvd:geo:-81.4345457,28.4258288
END:VEVENT
BEGIN:VEVENT
DTSTART;TZID=America/New_York:20150606T200000
DTEND;TZID=America/New_York:20150606T220000
DTSTAMP:20260422T061102
CREATED:20200913T151122Z
LAST-MODIFIED:20230202T235159Z
UID:10000250-1433620800-1433628000@classicalguitarorlando.com
SUMMARY:Dandelion Communitea Cafe
DESCRIPTION:
URL:https://classicalguitarorlando.com/event/dandelion-communitea-cafe-3/
LOCATION:Dandelion Communitea Cafe\, 618 North Thornton Avenue\, \, Orlando\, FL\, 32803\, United States
ATTACH;FMTTYPE=image/jpeg:https://classicalguitarorlando.com/wp-content/uploads/2015/02/Dandelion-Communitea-image.jpg
GEO:28.5520203;-81.3657273
X-APPLE-STRUCTURED-LOCATION;VALUE=URI;X-ADDRESS=Dandelion Communitea Cafe 618 North Thornton Avenue  Orlando FL 32803 United States;X-APPLE-RADIUS=500;X-TITLE=618 North Thornton Avenue\,:geo:-81.3657273,28.5520203
END:VEVENT
BEGIN:VEVENT
DTSTART;TZID=America/New_York:20150604T180000
DTEND;TZID=America/New_York:20150604T210000
DTSTAMP:20260422T061102
CREATED:20200913T153611Z
LAST-MODIFIED:20230202T235209Z
UID:10000251-1433440800-1433451600@classicalguitarorlando.com
SUMMARY:A-Aki Sushi & Steakhouse
DESCRIPTION:
URL:https://classicalguitarorlando.com/event/a-aki-sushi-steakhouse/
LOCATION:A-Aki Sushi & Steakhouse\, 1400 Sand Lake Rd \, Orlando\, FL\, 32809\, United States
ATTACH;FMTTYPE=image/png:https://classicalguitarorlando.com/wp-content/uploads/2015/05/A-Aki-Japanese-Sushi-Logo.png
GEO:28.4505475;-81.3939609
X-APPLE-STRUCTURED-LOCATION;VALUE=URI;X-ADDRESS=A-Aki Sushi & Steakhouse 1400 Sand Lake Rd  Orlando FL 32809 United States;X-APPLE-RADIUS=500;X-TITLE=1400 Sand Lake Rd:geo:-81.3939609,28.4505475
END:VEVENT
BEGIN:VEVENT
DTSTART;TZID=America/New_York:20150531T130000
DTEND;TZID=America/New_York:20150531T160000
DTSTAMP:20260422T061102
CREATED:20200913T153216Z
LAST-MODIFIED:20230202T235217Z
UID:10000252-1433077200-1433088000@classicalguitarorlando.com
SUMMARY:Cafe Mineiro Brazilian Steakhouse
DESCRIPTION:
URL:https://classicalguitarorlando.com/event/cafe-mineiro-brazilian-steakhouse/
LOCATION:Cafe Mineiro Brazilian Steakhouse\, 8043 S. Orange Blossom Trail\, Suite 1800\, Orlando\, FL\, 32809 \, United States
ATTACH;FMTTYPE=image/jpeg:https://classicalguitarorlando.com/wp-content/uploads/2015/05/Cafe-Mineiro-restaurant-image.jpg
END:VEVENT
BEGIN:VEVENT
DTSTART;TZID=America/New_York:20150530T160000
DTEND;TZID=America/New_York:20150530T180000
DTSTAMP:20260422T061102
CREATED:20200912T003651Z
LAST-MODIFIED:20230202T235232Z
UID:10000253-1433001600-1433008800@classicalguitarorlando.com
SUMMARY:Private Event
DESCRIPTION:
URL:https://classicalguitarorlando.com/event/saturday-may-30th-2015-begin-4pm-end-6pm/
ATTACH;FMTTYPE=image/jpeg:https://classicalguitarorlando.com/wp-content/uploads/2016/03/Wedding-scaled.jpg
END:VEVENT
BEGIN:VEVENT
DTSTART;TZID=America/New_York:20150524T120000
DTEND;TZID=America/New_York:20150524T150000
DTSTAMP:20260422T061102
CREATED:20200913T141806Z
LAST-MODIFIED:20230202T235246Z
UID:10000254-1432468800-1432479600@classicalguitarorlando.com
SUMMARY:In Concert at Casa Feliz
DESCRIPTION:
URL:https://classicalguitarorlando.com/event/in-concert-at-casa-feliz-3/
LOCATION:Casa Feliz\, 656 N Park Ave\, Winter Park\, FL\, 32789\, United States
ATTACH;FMTTYPE=image/jpeg:https://classicalguitarorlando.com/wp-content/uploads/2015/02/Casa-Feliz-image-tweaked.jpg
GEO:28.6026677;-81.3510844
X-APPLE-STRUCTURED-LOCATION;VALUE=URI;X-ADDRESS=Casa Feliz 656 N Park Ave Winter Park FL 32789 United States;X-APPLE-RADIUS=500;X-TITLE=656 N Park Ave:geo:-81.3510844,28.6026677
END:VEVENT
BEGIN:VEVENT
DTSTART;TZID=America/New_York:20150521T170000
DTEND;TZID=America/New_York:20150521T190000
DTSTAMP:20260422T061102
CREATED:20200912T003925Z
LAST-MODIFIED:20230202T235257Z
UID:10000255-1432227600-1432234800@classicalguitarorlando.com
SUMMARY:CCIM Event
DESCRIPTION:
URL:https://classicalguitarorlando.com/event/ccim-event/
LOCATION:Lowndes\, Drosdick\, Doster & Reed\, P.A.\, 215 N Eola Drive\, Orlando \, FL\, 32801\, United States
ATTACH;FMTTYPE=image/jpeg:https://classicalguitarorlando.com/wp-content/uploads/2015/04/Lowndes-Drosdick-Doster-Kantor-Reed-image.jpg
END:VEVENT
BEGIN:VEVENT
DTSTART;TZID=America/New_York:20150510T120000
DTEND;TZID=America/New_York:20150510T143000
DTSTAMP:20260422T061102
CREATED:20200913T135647Z
LAST-MODIFIED:20230202T235309Z
UID:10000256-1431259200-1431268200@classicalguitarorlando.com
SUMMARY:The Smiling Bison
DESCRIPTION:
URL:https://classicalguitarorlando.com/event/the-smiling-bison-6/
LOCATION:The Smiling Bison\, 745 Bennett Rd.\, Orlando\, FL\, 32803\, United States
ATTACH;FMTTYPE=image/jpeg:https://classicalguitarorlando.com/wp-content/uploads/2015/01/Smiling-Bison-Image2.jpg
END:VEVENT
BEGIN:VEVENT
DTSTART;TZID=America/New_York:20150505T170000
DTEND;TZID=America/New_York:20150505T210000
DTSTAMP:20260422T061102
CREATED:20200913T152036Z
LAST-MODIFIED:20230202T235325Z
UID:10000257-1430845200-1430859600@classicalguitarorlando.com
SUMMARY:Cinco de Mayo at El Potro Mexican Restaurant
DESCRIPTION:
URL:https://classicalguitarorlando.com/event/cinco-de-mayo-at-el-potro-mexican-restaurant/
LOCATION:El Potro Mexican Restaurant\, 501 N Orlando Ave\, Suite 217\, Winter Park\,\, FL\, 32789\, United States
ATTACH;FMTTYPE=image/jpeg:https://classicalguitarorlando.com/wp-content/uploads/2014/11/El-Potro.jpg
GEO:28.6051872;-81.3673996
X-APPLE-STRUCTURED-LOCATION;VALUE=URI;X-ADDRESS=El Potro Mexican Restaurant 501 N Orlando Ave Suite 217 Winter Park FL 32789 United States;X-APPLE-RADIUS=500;X-TITLE=501 N Orlando Ave\, Suite 217:geo:-81.3673996,28.6051872
END:VEVENT
BEGIN:VEVENT
DTSTART;TZID=America/New_York:20150424T200000
DTEND;TZID=America/New_York:20150424T220000
DTSTAMP:20260422T061102
CREATED:20200913T151031Z
LAST-MODIFIED:20230202T235341Z
UID:10000258-1429905600-1429912800@classicalguitarorlando.com
SUMMARY:Dandelion Communitea Cafe
DESCRIPTION:
URL:https://classicalguitarorlando.com/event/dandelion-communitea-cafe-2/
LOCATION:Dandelion Communitea Cafe\, 618 North Thornton Avenue\, \, Orlando\, FL\, 32803\, United States
ATTACH;FMTTYPE=image/jpeg:https://classicalguitarorlando.com/wp-content/uploads/2015/02/Dandelion-Communitea-image.jpg
GEO:28.5520203;-81.3657273
X-APPLE-STRUCTURED-LOCATION;VALUE=URI;X-ADDRESS=Dandelion Communitea Cafe 618 North Thornton Avenue  Orlando FL 32803 United States;X-APPLE-RADIUS=500;X-TITLE=618 North Thornton Avenue\,:geo:-81.3657273,28.5520203
END:VEVENT
BEGIN:VEVENT
DTSTART;TZID=America/New_York:20150419T190000
DTEND;TZID=America/New_York:20150419T220000
DTSTAMP:20260422T061102
CREATED:20200912T214005Z
LAST-MODIFIED:20230202T235525Z
UID:10000259-1429470000-1429480800@classicalguitarorlando.com
SUMMARY:Maxine's On Shine
DESCRIPTION:
URL:https://classicalguitarorlando.com/event/maxines-on-shine-4/
LOCATION:Maxine’s on Shine\, 337 N Shine Ave\, Orlando\, FL \, FL\, 32803\, United States
ATTACH;FMTTYPE=image/jpeg:https://classicalguitarorlando.com/wp-content/uploads/2014/11/Maxines2-smaller.jpg
GEO:28.5472333;-81.3620824
X-APPLE-STRUCTURED-LOCATION;VALUE=URI;X-ADDRESS=Maxine’s on Shine 337 N Shine Ave Orlando FL  FL 32803 United States;X-APPLE-RADIUS=500;X-TITLE=337 N Shine Ave:geo:-81.3620824,28.5472333
END:VEVENT
BEGIN:VEVENT
DTSTART;TZID=America/New_York:20150412T120000
DTEND;TZID=America/New_York:20150412T143000
DTSTAMP:20260422T061102
CREATED:20200913T135414Z
LAST-MODIFIED:20230202T235534Z
UID:10000260-1428840000-1428849000@classicalguitarorlando.com
SUMMARY:The Smiling Bison
DESCRIPTION:
URL:https://classicalguitarorlando.com/event/the-smiling-bison-5/
LOCATION:The Smiling Bison\, 745 Bennett Rd.\, Orlando\, FL\, 32803\, United States
ATTACH;FMTTYPE=image/jpeg:https://classicalguitarorlando.com/wp-content/uploads/2015/01/Smiling-Bison-Image2.jpg
END:VEVENT
BEGIN:VEVENT
DTSTART;TZID=America/New_York:20150409T170000
DTEND;TZID=America/New_York:20150409T200000
DTSTAMP:20260422T061102
CREATED:20200912T013248Z
LAST-MODIFIED:20230202T235544Z
UID:10000261-1428598800-1428609600@classicalguitarorlando.com
SUMMARY:Wedding Ceremony
DESCRIPTION:
URL:https://classicalguitarorlando.com/event/thursday-april-9-2015-begin-5pm-end-8pm/
ATTACH;FMTTYPE=image/jpeg:https://classicalguitarorlando.com/wp-content/uploads/2016/03/Wedding-scaled.jpg
END:VEVENT
BEGIN:VEVENT
DTSTART;TZID=America/New_York:20150405T190000
DTEND;TZID=America/New_York:20150405T220000
DTSTAMP:20260422T061102
CREATED:20200912T213641Z
LAST-MODIFIED:20230202T235553Z
UID:10000262-1428260400-1428271200@classicalguitarorlando.com
SUMMARY:Maxine's On Shine
DESCRIPTION:
URL:https://classicalguitarorlando.com/event/maxines-on-shine-3/
LOCATION:Maxine’s on Shine\, 337 N Shine Ave\, Orlando\, FL \, FL\, 32803\, United States
ATTACH;FMTTYPE=image/jpeg:https://classicalguitarorlando.com/wp-content/uploads/2014/11/Maxines2-smaller.jpg
GEO:28.5472333;-81.3620824
X-APPLE-STRUCTURED-LOCATION;VALUE=URI;X-ADDRESS=Maxine’s on Shine 337 N Shine Ave Orlando FL  FL 32803 United States;X-APPLE-RADIUS=500;X-TITLE=337 N Shine Ave:geo:-81.3620824,28.5472333
END:VEVENT
BEGIN:VEVENT
DTSTART;TZID=America/New_York:20150329T160000
DTEND;TZID=America/New_York:20150329T200000
DTSTAMP:20260422T061102
CREATED:20200912T003438Z
LAST-MODIFIED:20230202T235602Z
UID:10000263-1427644800-1427659200@classicalguitarorlando.com
SUMMARY:Open House Event
DESCRIPTION:
URL:https://classicalguitarorlando.com/event/private-event-3/
ATTACH;FMTTYPE=image/jpeg:https://classicalguitarorlando.com/wp-content/uploads/2015/03/Random-open-house-part-pic.jpg
END:VEVENT
BEGIN:VEVENT
DTSTART;TZID=America/New_York:20150328T200000
DTEND;TZID=America/New_York:20150328T220000
DTSTAMP:20260422T061102
CREATED:20200913T150938Z
LAST-MODIFIED:20230202T235615Z
UID:10000264-1427572800-1427580000@classicalguitarorlando.com
SUMMARY:Dandelion Communitea Cafe
DESCRIPTION:
URL:https://classicalguitarorlando.com/event/dandelion-communitea-cafe/
LOCATION:Dandelion Communitea Cafe\, 618 North Thornton Avenue\, \, Orlando\, FL\, 32803\, United States
ATTACH;FMTTYPE=image/jpeg:https://classicalguitarorlando.com/wp-content/uploads/2015/02/Dandelion-Communitea-image.jpg
GEO:28.5520203;-81.3657273
X-APPLE-STRUCTURED-LOCATION;VALUE=URI;X-ADDRESS=Dandelion Communitea Cafe 618 North Thornton Avenue  Orlando FL 32803 United States;X-APPLE-RADIUS=500;X-TITLE=618 North Thornton Avenue\,:geo:-81.3657273,28.5520203
END:VEVENT
BEGIN:VEVENT
DTSTART;TZID=America/New_York:20150321T183000
DTEND;TZID=America/New_York:20150321T203000
DTSTAMP:20260422T061102
CREATED:20200913T150012Z
LAST-MODIFIED:20230202T235625Z
UID:10000265-1426962600-1426969800@classicalguitarorlando.com
SUMMARY:Christopher's Italian Restaurant
DESCRIPTION:
URL:https://classicalguitarorlando.com/event/christophers-italian-restaurant-2/
LOCATION:Christopher’s Italian Restaurant\, 3907 Wekiva Springs Rd. \, Longwood\, FL\, 32779\, United States
ATTACH;FMTTYPE=image/jpeg:https://classicalguitarorlando.com/wp-content/uploads/2015/01/Christophers-image.jpg
END:VEVENT
BEGIN:VEVENT
DTSTART;TZID=America/New_York:20150317T173000
DTEND;TZID=America/New_York:20150317T193000
DTSTAMP:20260422T061102
CREATED:20200912T003134Z
LAST-MODIFIED:20230202T235634Z
UID:10000266-1426613400-1426620600@classicalguitarorlando.com
SUMMARY:CCIM Event  (St. Patrick’s Day Party)
DESCRIPTION:
URL:https://classicalguitarorlando.com/event/classical-guitar-performance-at-docs-streetside-grille-on-3-17-15-530pm-to-730pm/
LOCATION:Doc’s Streetside Grill\, 1315 S Orange Ave\, Orlando\, FL\, 32806\, United States
ATTACH;FMTTYPE=image/jpeg:https://classicalguitarorlando.com/wp-content/uploads/2015/02/CCIM-Central-District-St-Patricks-Day-Party-3-17-15.jpg
GEO:28.526027;-81.376124
X-APPLE-STRUCTURED-LOCATION;VALUE=URI;X-ADDRESS=Doc’s Streetside Grill 1315 S Orange Ave Orlando FL 32806 United States;X-APPLE-RADIUS=500;X-TITLE=1315 S Orange Ave:geo:-81.376124,28.526027
END:VEVENT
BEGIN:VEVENT
DTSTART;TZID=America/New_York:20150315T120000
DTEND;TZID=America/New_York:20150315T143000
DTSTAMP:20260422T061102
CREATED:20200913T135227Z
LAST-MODIFIED:20230202T235643Z
UID:10000267-1426420800-1426429800@classicalguitarorlando.com
SUMMARY:The Smiling Bison
DESCRIPTION:
URL:https://classicalguitarorlando.com/event/the-smiling-bison-4/
LOCATION:The Smiling Bison\, 745 Bennett Rd.\, Orlando\, FL\, 32803\, United States
ATTACH;FMTTYPE=image/jpeg:https://classicalguitarorlando.com/wp-content/uploads/2015/01/Smiling-Bison-Image2.jpg
END:VEVENT
BEGIN:VEVENT
DTSTART;TZID=America/New_York:20150301T120000
DTEND;TZID=America/New_York:20150301T150000
DTSTAMP:20260422T061102
CREATED:20200913T141712Z
LAST-MODIFIED:20230202T235657Z
UID:10000268-1425211200-1425222000@classicalguitarorlando.com
SUMMARY:In Concert at Casa Feliz
DESCRIPTION:
URL:https://classicalguitarorlando.com/event/in-concert-at-casa-feliz-2/
LOCATION:Casa Feliz\, 656 N Park Ave\, Winter Park\, FL\, 32789\, United States
ATTACH;FMTTYPE=image/jpeg:https://classicalguitarorlando.com/wp-content/uploads/2015/02/Casa-Feliz-image-tweaked.jpg
GEO:28.6026677;-81.3510844
X-APPLE-STRUCTURED-LOCATION;VALUE=URI;X-ADDRESS=Casa Feliz 656 N Park Ave Winter Park FL 32789 United States;X-APPLE-RADIUS=500;X-TITLE=656 N Park Ave:geo:-81.3510844,28.6026677
END:VEVENT
BEGIN:VEVENT
DTSTART;TZID=America/New_York:20150215T120000
DTEND;TZID=America/New_York:20150215T143000
DTSTAMP:20260422T061102
CREATED:20200913T135144Z
LAST-MODIFIED:20230202T235705Z
UID:10000269-1424001600-1424010600@classicalguitarorlando.com
SUMMARY:The Smiling Bison
DESCRIPTION:
URL:https://classicalguitarorlando.com/event/the-smiling-bison-3/
LOCATION:The Smiling Bison\, 745 Bennett Rd.\, Orlando\, FL\, 32803\, United States
ATTACH;FMTTYPE=image/jpeg:https://classicalguitarorlando.com/wp-content/uploads/2015/01/Smiling-Bison-Image2.jpg
END:VEVENT
BEGIN:VEVENT
DTSTART;TZID=America/New_York:20150207T183000
DTEND;TZID=America/New_York:20150207T203000
DTSTAMP:20260422T061102
CREATED:20200913T145802Z
LAST-MODIFIED:20230202T235713Z
UID:10000270-1423333800-1423341000@classicalguitarorlando.com
SUMMARY:Christopher's Italian Restaurant
DESCRIPTION:
URL:https://classicalguitarorlando.com/event/christophers-italian-restaurant/
LOCATION:Christopher’s Italian Restaurant\, 3907 Wekiva Springs Rd. \, Longwood\, FL\, 32779\, United States
ATTACH;FMTTYPE=image/jpeg:https://classicalguitarorlando.com/wp-content/uploads/2015/01/Christophers-image.jpg
END:VEVENT
BEGIN:VEVENT
DTSTART;TZID=America/New_York:20150131T190000
DTEND;TZID=America/New_York:20150131T200000
DTSTAMP:20260422T061102
CREATED:20200915T150649Z
LAST-MODIFIED:20230202T235722Z
UID:10000271-1422730800-1422734400@classicalguitarorlando.com
SUMMARY:Awards Night Party
DESCRIPTION:
URL:https://classicalguitarorlando.com/event/awards-night-party/
LOCATION:Grand Bohemian Hotel\, Orlando\, FL\, United States
ATTACH;FMTTYPE=image/jpeg:https://classicalguitarorlando.com/wp-content/uploads/2017/05/Private-Dinner-Party.jpg
END:VEVENT
BEGIN:VEVENT
DTSTART;TZID=America/New_York:20150122T180000
DTEND;TZID=America/New_York:20150122T200000
DTSTAMP:20260422T061102
CREATED:20200912T013026Z
LAST-MODIFIED:20230202T235732Z
UID:10000272-1421949600-1421956800@classicalguitarorlando.com
SUMMARY:Second Harvest Cocktail Party
DESCRIPTION:
URL:https://classicalguitarorlando.com/event/second-harvest-cocktail-party/
LOCATION:Second Harvest Food Bank\, 411 Mercy Dr\, Orlando\, FL\, 32805-1019\, United States
ATTACH;FMTTYPE=image/jpeg:https://classicalguitarorlando.com/wp-content/uploads/2016/10/Second-Harvest-Food-Bank.jpg
GEO:28.5481265;-81.4294676
X-APPLE-STRUCTURED-LOCATION;VALUE=URI;X-ADDRESS=Second Harvest Food Bank 411 Mercy Dr Orlando FL 32805-1019 United States;X-APPLE-RADIUS=500;X-TITLE=411 Mercy Dr:geo:-81.4294676,28.5481265
END:VEVENT
BEGIN:VEVENT
DTSTART;TZID=America/New_York:20150111T120000
DTEND;TZID=America/New_York:20150111T143000
DTSTAMP:20260422T061102
CREATED:20200913T135054Z
LAST-MODIFIED:20230202T235746Z
UID:10000273-1420977600-1420986600@classicalguitarorlando.com
SUMMARY:The Smiling Bison
DESCRIPTION:
URL:https://classicalguitarorlando.com/event/the-smiling-bison-2/
LOCATION:The Smiling Bison\, 745 Bennett Rd.\, Orlando\, FL\, 32803\, United States
ATTACH;FMTTYPE=image/jpeg:https://classicalguitarorlando.com/wp-content/uploads/2015/01/Smiling-Bison-Image2.jpg
END:VEVENT
BEGIN:VEVENT
DTSTART;TZID=America/New_York:20141228T190000
DTEND;TZID=America/New_York:20141228T210000
DTSTAMP:20260422T061102
CREATED:20200915T121203Z
LAST-MODIFIED:20230202T235755Z
UID:10000274-1419793200-1419800400@classicalguitarorlando.com
SUMMARY:Private Event
DESCRIPTION:
URL:https://classicalguitarorlando.com/event/private-event-41/
ATTACH;FMTTYPE=image/jpeg:https://classicalguitarorlando.com/wp-content/uploads/2019/10/Guitar-Services-2018.jpg
END:VEVENT
END:VCALENDAR