BEGIN:VCALENDAR
VERSION:2.0
PRODID:-//Brian Hayes, Classical Guitarist - ECPv6.15.20//NONSGML v1.0//EN
CALSCALE:GREGORIAN
METHOD:PUBLISH
X-WR-CALNAME:Brian Hayes, Classical Guitarist
X-ORIGINAL-URL:https://classicalguitarorlando.com
X-WR-CALDESC:Events for Brian Hayes, Classical Guitarist
REFRESH-INTERVAL;VALUE=DURATION:PT1H
X-Robots-Tag:noindex
X-PUBLISHED-TTL:PT1H
BEGIN:VTIMEZONE
TZID:America/New_York
BEGIN:DAYLIGHT
TZOFFSETFROM:-0500
TZOFFSETTO:-0400
TZNAME:EDT
DTSTART:20120311T070000
END:DAYLIGHT
BEGIN:STANDARD
TZOFFSETFROM:-0400
TZOFFSETTO:-0500
TZNAME:EST
DTSTART:20121104T060000
END:STANDARD
BEGIN:DAYLIGHT
TZOFFSETFROM:-0500
TZOFFSETTO:-0400
TZNAME:EDT
DTSTART:20130310T070000
END:DAYLIGHT
BEGIN:STANDARD
TZOFFSETFROM:-0400
TZOFFSETTO:-0500
TZNAME:EST
DTSTART:20131103T060000
END:STANDARD
BEGIN:DAYLIGHT
TZOFFSETFROM:-0500
TZOFFSETTO:-0400
TZNAME:EDT
DTSTART:20140309T070000
END:DAYLIGHT
BEGIN:STANDARD
TZOFFSETFROM:-0400
TZOFFSETTO:-0500
TZNAME:EST
DTSTART:20141102T060000
END:STANDARD
BEGIN:DAYLIGHT
TZOFFSETFROM:-0500
TZOFFSETTO:-0400
TZNAME:EDT
DTSTART:20150308T070000
END:DAYLIGHT
BEGIN:STANDARD
TZOFFSETFROM:-0400
TZOFFSETTO:-0500
TZNAME:EST
DTSTART:20151101T060000
END:STANDARD
BEGIN:DAYLIGHT
TZOFFSETFROM:-0500
TZOFFSETTO:-0400
TZNAME:EDT
DTSTART:20160313T070000
END:DAYLIGHT
BEGIN:STANDARD
TZOFFSETFROM:-0400
TZOFFSETTO:-0500
TZNAME:EST
DTSTART:20161106T060000
END:STANDARD
END:VTIMEZONE
BEGIN:VEVENT
DTSTART;TZID=America/New_York:20150207T183000
DTEND;TZID=America/New_York:20150207T203000
DTSTAMP:20260422T182959
CREATED:20200913T145802Z
LAST-MODIFIED:20230202T235713Z
UID:10000270-1423333800-1423341000@classicalguitarorlando.com
SUMMARY:Christopher's Italian Restaurant
DESCRIPTION:
URL:https://classicalguitarorlando.com/event/christophers-italian-restaurant/
LOCATION:Christopher’s Italian Restaurant\, 3907 Wekiva Springs Rd. \, Longwood\, FL\, 32779\, United States
ATTACH;FMTTYPE=image/jpeg:https://classicalguitarorlando.com/wp-content/uploads/2015/01/Christophers-image.jpg
END:VEVENT
BEGIN:VEVENT
DTSTART;TZID=America/New_York:20150131T190000
DTEND;TZID=America/New_York:20150131T200000
DTSTAMP:20260422T182959
CREATED:20200915T150649Z
LAST-MODIFIED:20230202T235722Z
UID:10000271-1422730800-1422734400@classicalguitarorlando.com
SUMMARY:Awards Night Party
DESCRIPTION:
URL:https://classicalguitarorlando.com/event/awards-night-party/
LOCATION:Grand Bohemian Hotel\, Orlando\, FL\, United States
ATTACH;FMTTYPE=image/jpeg:https://classicalguitarorlando.com/wp-content/uploads/2017/05/Private-Dinner-Party.jpg
END:VEVENT
BEGIN:VEVENT
DTSTART;TZID=America/New_York:20150122T180000
DTEND;TZID=America/New_York:20150122T200000
DTSTAMP:20260422T182959
CREATED:20200912T013026Z
LAST-MODIFIED:20230202T235732Z
UID:10000272-1421949600-1421956800@classicalguitarorlando.com
SUMMARY:Second Harvest Cocktail Party
DESCRIPTION:
URL:https://classicalguitarorlando.com/event/second-harvest-cocktail-party/
LOCATION:Second Harvest Food Bank\, 411 Mercy Dr\, Orlando\, FL\, 32805-1019\, United States
ATTACH;FMTTYPE=image/jpeg:https://classicalguitarorlando.com/wp-content/uploads/2016/10/Second-Harvest-Food-Bank.jpg
GEO:28.5481265;-81.4294676
X-APPLE-STRUCTURED-LOCATION;VALUE=URI;X-ADDRESS=Second Harvest Food Bank 411 Mercy Dr Orlando FL 32805-1019 United States;X-APPLE-RADIUS=500;X-TITLE=411 Mercy Dr:geo:-81.4294676,28.5481265
END:VEVENT
BEGIN:VEVENT
DTSTART;TZID=America/New_York:20150111T120000
DTEND;TZID=America/New_York:20150111T143000
DTSTAMP:20260422T182959
CREATED:20200913T135054Z
LAST-MODIFIED:20230202T235746Z
UID:10000273-1420977600-1420986600@classicalguitarorlando.com
SUMMARY:The Smiling Bison
DESCRIPTION:
URL:https://classicalguitarorlando.com/event/the-smiling-bison-2/
LOCATION:The Smiling Bison\, 745 Bennett Rd.\, Orlando\, FL\, 32803\, United States
ATTACH;FMTTYPE=image/jpeg:https://classicalguitarorlando.com/wp-content/uploads/2015/01/Smiling-Bison-Image2.jpg
END:VEVENT
BEGIN:VEVENT
DTSTART;TZID=America/New_York:20141228T190000
DTEND;TZID=America/New_York:20141228T210000
DTSTAMP:20260422T182959
CREATED:20200915T121203Z
LAST-MODIFIED:20230202T235755Z
UID:10000274-1419793200-1419800400@classicalguitarorlando.com
SUMMARY:Private Event
DESCRIPTION:
URL:https://classicalguitarorlando.com/event/private-event-41/
ATTACH;FMTTYPE=image/jpeg:https://classicalguitarorlando.com/wp-content/uploads/2019/10/Guitar-Services-2018.jpg
END:VEVENT
BEGIN:VEVENT
DTSTART;TZID=America/New_York:20141214T120000
DTEND;TZID=America/New_York:20141214T150000
DTSTAMP:20260422T182959
CREATED:20200913T133839Z
LAST-MODIFIED:20230202T235806Z
UID:10000275-1418558400-1418569200@classicalguitarorlando.com
SUMMARY:Brunch at Mi Tomatina
DESCRIPTION:
URL:https://classicalguitarorlando.com/event/brunch-at-mi-tomatina/
LOCATION:mi Tomatina – Paella Bar\,  433 W New England Ave\,  Winter Park\, 32789\, United States
ATTACH;FMTTYPE=image/jpeg:https://classicalguitarorlando.com/wp-content/uploads/2014/05/mi-tomatina-paella-bar-smaller.jpg
GEO:28.596127;-81.355643
X-APPLE-STRUCTURED-LOCATION;VALUE=URI;X-ADDRESS=mi Tomatina – Paella Bar  433 W New England Ave  Winter Park 32789 United States;X-APPLE-RADIUS=500;X-TITLE=433 W New England Ave:geo:-81.355643,28.596127
END:VEVENT
BEGIN:VEVENT
DTSTART;TZID=America/New_York:20141209T173000
DTEND;TZID=America/New_York:20141209T193000
DTSTAMP:20260422T182959
CREATED:20200912T012724Z
LAST-MODIFIED:20230202T235814Z
UID:10000276-1418146200-1418153400@classicalguitarorlando.com
SUMMARY:CCIM event
DESCRIPTION:
URL:https://classicalguitarorlando.com/event/ccim-event-2/
LOCATION:Doc’s Streetside Grill\, 1315 S Orange Ave\, Orlando\, FL\, 32806\, United States
ATTACH;FMTTYPE=image/jpeg:https://classicalguitarorlando.com/wp-content/uploads/2014/11/CCIM-Central-District-Networking-Event-12-09-141.jpg
GEO:28.526027;-81.376124
X-APPLE-STRUCTURED-LOCATION;VALUE=URI;X-ADDRESS=Doc’s Streetside Grill 1315 S Orange Ave Orlando FL 32806 United States;X-APPLE-RADIUS=500;X-TITLE=1315 S Orange Ave:geo:-81.376124,28.526027
END:VEVENT
BEGIN:VEVENT
DTSTART;TZID=America/New_York:20141106T153000
DTEND;TZID=America/New_York:20141106T163000
DTSTAMP:20260422T182959
CREATED:20200912T012348Z
LAST-MODIFIED:20230202T235825Z
UID:10000277-1415287800-1415291400@classicalguitarorlando.com
SUMMARY:Wedding Ceremony
DESCRIPTION:
URL:https://classicalguitarorlando.com/event/thu-nov-6-2014-begin-330pm-end-430pm/
ATTACH;FMTTYPE=image/jpeg:https://classicalguitarorlando.com/wp-content/uploads/2018/03/Wedding-Reception.jpg
END:VEVENT
BEGIN:VEVENT
DTSTART;TZID=America/New_York:20140913T180000
DTEND;TZID=America/New_York:20140913T210000
DTSTAMP:20260422T182959
CREATED:20200913T144427Z
LAST-MODIFIED:20230202T235838Z
UID:10000278-1410631200-1410642000@classicalguitarorlando.com
SUMMARY:El Potro Mexican Restaurant
DESCRIPTION:
URL:https://classicalguitarorlando.com/event/el-potro-mexican-restaurant-2/
LOCATION:El Potro Mexican Restaurant\, 501 N Orlando Ave\, Suite 217\, Winter Park\,\, FL\, 32789\, United States
ATTACH;FMTTYPE=image/bmp:https://classicalguitarorlando.com/wp-content/uploads/2014/11/el-potro-larger.bmp
GEO:28.6051872;-81.3673996
X-APPLE-STRUCTURED-LOCATION;VALUE=URI;X-ADDRESS=El Potro Mexican Restaurant 501 N Orlando Ave Suite 217 Winter Park FL 32789 United States;X-APPLE-RADIUS=500;X-TITLE=501 N Orlando Ave\, Suite 217:geo:-81.3673996,28.6051872
END:VEVENT
BEGIN:VEVENT
DTSTART;TZID=America/New_York:20140816T180000
DTEND;TZID=America/New_York:20140816T193000
DTSTAMP:20260422T182959
CREATED:20200912T012237Z
LAST-MODIFIED:20230202T235858Z
UID:10000279-1408212000-1408217400@classicalguitarorlando.com
SUMMARY:Private Event
DESCRIPTION:
URL:https://classicalguitarorlando.com/event/private-event-12/
LOCATION:Down the Hatch\, 4894 Front St.\, Ponce Inlet\, FL\, 32127\, United States
ATTACH;FMTTYPE=image/jpeg:https://classicalguitarorlando.com/wp-content/uploads/2016/03/Wedding-scaled.jpg
END:VEVENT
BEGIN:VEVENT
DTSTART;TZID=America/New_York:20140712T170000
DTEND;TZID=America/New_York:20140712T180000
DTSTAMP:20260422T182959
CREATED:20200912T011238Z
LAST-MODIFIED:20230202T235907Z
UID:10000280-1405184400-1405188000@classicalguitarorlando.com
SUMMARY:Wedding Ceremony
DESCRIPTION:
URL:https://classicalguitarorlando.com/event/private-event-9/
LOCATION:Ceviche\, 125 W Church St\, Orlando\, FL\, 32801-3367\, United States
ATTACH;FMTTYPE=image/jpeg:https://classicalguitarorlando.com/wp-content/uploads/2016/03/Wedding-scaled.jpg
END:VEVENT
BEGIN:VEVENT
DTSTART;TZID=America/New_York:20140629T130000
DTEND;TZID=America/New_York:20140629T150000
DTSTAMP:20260422T182959
CREATED:20200916T182805Z
LAST-MODIFIED:20230202T235916Z
UID:10000281-1404046800-1404054000@classicalguitarorlando.com
SUMMARY:Engagement Party
DESCRIPTION:
URL:https://classicalguitarorlando.com/event/engagement-party/
ATTACH;FMTTYPE=image/jpeg:https://classicalguitarorlando.com/wp-content/uploads/2019/08/Dinner-Party.jpg
END:VEVENT
BEGIN:VEVENT
DTSTART;TZID=America/New_York:20140622T120000
DTEND;TZID=America/New_York:20140622T150000
DTSTAMP:20260422T182959
CREATED:20200913T141620Z
LAST-MODIFIED:20230202T235924Z
UID:10000282-1403438400-1403449200@classicalguitarorlando.com
SUMMARY:In Concert at Casa Feliz
DESCRIPTION:
URL:https://classicalguitarorlando.com/event/in-concert-at-casa-feliz/
LOCATION:Casa Feliz\, 656 N Park Ave\, Winter Park\, FL\, 32789\, United States
ATTACH;FMTTYPE=image/jpeg:https://classicalguitarorlando.com/wp-content/uploads/2015/02/Casa-Feliz-image-tweaked.jpg
GEO:28.6026677;-81.3510844
X-APPLE-STRUCTURED-LOCATION;VALUE=URI;X-ADDRESS=Casa Feliz 656 N Park Ave Winter Park FL 32789 United States;X-APPLE-RADIUS=500;X-TITLE=656 N Park Ave:geo:-81.3510844,28.6026677
END:VEVENT
BEGIN:VEVENT
DTSTART;TZID=America/New_York:20140613T203000
DTEND;TZID=America/New_York:20140613T223000
DTSTAMP:20260422T182959
CREATED:20200913T140216Z
LAST-MODIFIED:20230202T235933Z
UID:10000283-1402691400-1402698600@classicalguitarorlando.com
SUMMARY:Ellen's Wine Room
DESCRIPTION:
URL:https://classicalguitarorlando.com/event/ellens-wine-room/
ATTACH;FMTTYPE=image/jpeg:https://classicalguitarorlando.com/wp-content/uploads/2018/09/Wine-Tasting-Event.jpg
END:VEVENT
BEGIN:VEVENT
DTSTART;TZID=America/New_York:20140607T210000
DTEND;TZID=America/New_York:20140607T234500
DTSTAMP:20260422T182959
CREATED:20200913T134934Z
LAST-MODIFIED:20230202T235954Z
UID:10000284-1402174800-1402184700@classicalguitarorlando.com
SUMMARY:The Smiling Bison
DESCRIPTION:
URL:https://classicalguitarorlando.com/event/the-smiling-bison/
LOCATION:The Smiling Bison\, 745 Bennett Rd.\, Orlando\, FL\, 32803\, United States
ATTACH;FMTTYPE=image/jpeg:https://classicalguitarorlando.com/wp-content/uploads/2015/01/Smiling-Bison-Image2.jpg
END:VEVENT
BEGIN:VEVENT
DTSTART;TZID=America/New_York:20140607T153000
DTEND;TZID=America/New_York:20140607T170000
DTSTAMP:20260422T182959
CREATED:20200916T182521Z
LAST-MODIFIED:20230203T000004Z
UID:10000285-1402155000-1402160400@classicalguitarorlando.com
SUMMARY:Wedding Ceremony
DESCRIPTION:
URL:https://classicalguitarorlando.com/event/wedding-ceremony-13/
LOCATION:Leu Gardens\, 1920 North Forest Avenue\, Orlando\, FL\, United States
ATTACH;FMTTYPE=image/jpeg:https://classicalguitarorlando.com/wp-content/uploads/2016/03/Wedding-scaled.jpg
END:VEVENT
BEGIN:VEVENT
DTSTART;TZID=America/New_York:20140527T173000
DTEND;TZID=America/New_York:20140527T193000
DTSTAMP:20260422T182959
CREATED:20200912T011927Z
LAST-MODIFIED:20230203T000013Z
UID:10000286-1401211800-1401219000@classicalguitarorlando.com
SUMMARY:Bob Cortes Political fundraiser
DESCRIPTION:
URL:https://classicalguitarorlando.com/event/private-event-11/
ATTACH;FMTTYPE=image/jpeg:https://classicalguitarorlando.com/wp-content/uploads/2020/09/Political-Funderaiser.jpg
END:VEVENT
BEGIN:VEVENT
DTSTART;TZID=America/New_York:20140508T200000
DTEND;TZID=America/New_York:20140508T220000
DTSTAMP:20260422T182959
CREATED:20200913T133722Z
LAST-MODIFIED:20230203T000022Z
UID:10000287-1399579200-1399586400@classicalguitarorlando.com
SUMMARY:Mi Tomatina Paella Bar
DESCRIPTION:
URL:https://classicalguitarorlando.com/event/mi-tomatina-paella-bar-3/
LOCATION:mi Tomatina – Paella Bar\,  433 W New England Ave\,  Winter Park\, 32789\, United States
ATTACH;FMTTYPE=image/jpeg:https://classicalguitarorlando.com/wp-content/uploads/2014/05/mi-tomatina-paella-bar-smaller.jpg
GEO:28.596127;-81.355643
X-APPLE-STRUCTURED-LOCATION;VALUE=URI;X-ADDRESS=mi Tomatina – Paella Bar  433 W New England Ave  Winter Park 32789 United States;X-APPLE-RADIUS=500;X-TITLE=433 W New England Ave:geo:-81.355643,28.596127
END:VEVENT
BEGIN:VEVENT
DTSTART;TZID=America/New_York:20140502T200000
DTEND;TZID=America/New_York:20140502T220000
DTSTAMP:20260422T182959
CREATED:20200913T133446Z
LAST-MODIFIED:20230203T000033Z
UID:10000288-1399060800-1399068000@classicalguitarorlando.com
SUMMARY:Mi Tomatina Paella Bar
DESCRIPTION:
URL:https://classicalguitarorlando.com/event/mi-tomatina-paella-bar-2/
LOCATION:mi Tomatina – Paella Bar\,  433 W New England Ave\,  Winter Park\, 32789\, United States
ATTACH;FMTTYPE=image/jpeg:https://classicalguitarorlando.com/wp-content/uploads/2014/05/mi-tomatina-paella-bar-smaller.jpg
GEO:28.596127;-81.355643
X-APPLE-STRUCTURED-LOCATION;VALUE=URI;X-ADDRESS=mi Tomatina – Paella Bar  433 W New England Ave  Winter Park 32789 United States;X-APPLE-RADIUS=500;X-TITLE=433 W New England Ave:geo:-81.355643,28.596127
END:VEVENT
BEGIN:VEVENT
DTSTART;TZID=America/New_York:20140426T190000
DTEND;TZID=America/New_York:20140426T220000
DTSTAMP:20260422T182959
CREATED:20200912T213418Z
LAST-MODIFIED:20230203T000047Z
UID:10000289-1398538800-1398549600@classicalguitarorlando.com
SUMMARY:Maxine's On Shine
DESCRIPTION:
URL:https://classicalguitarorlando.com/event/maxines-on-shine-2/
LOCATION:Maxine’s on Shine\, 337 N Shine Ave\, Orlando\, FL \, FL\, 32803\, United States
ATTACH;FMTTYPE=image/jpeg:https://classicalguitarorlando.com/wp-content/uploads/2014/11/Maxines2-smaller.jpg
GEO:28.5472333;-81.3620824
X-APPLE-STRUCTURED-LOCATION;VALUE=URI;X-ADDRESS=Maxine’s on Shine 337 N Shine Ave Orlando FL  FL 32803 United States;X-APPLE-RADIUS=500;X-TITLE=337 N Shine Ave:geo:-81.3620824,28.5472333
END:VEVENT
BEGIN:VEVENT
DTSTART;TZID=America/New_York:20140405T190000
DTEND;TZID=America/New_York:20140405T210000
DTSTAMP:20260422T182959
CREATED:20200912T010444Z
LAST-MODIFIED:20230203T000058Z
UID:10000290-1396724400-1396731600@classicalguitarorlando.com
SUMMARY:Private Event
DESCRIPTION:
URL:https://classicalguitarorlando.com/event/private-event-7/
ATTACH;FMTTYPE=image/jpeg:https://classicalguitarorlando.com/wp-content/uploads/2019/05/Birthday-dinner.jpg
END:VEVENT
BEGIN:VEVENT
DTSTART;TZID=America/New_York:20140322T173000
DTEND;TZID=America/New_York:20140322T190000
DTSTAMP:20260422T182959
CREATED:20200912T011552Z
LAST-MODIFIED:20230203T000108Z
UID:10000291-1395509400-1395514800@classicalguitarorlando.com
SUMMARY:Hispanic Chamber of Commerce event
DESCRIPTION:
URL:https://classicalguitarorlando.com/event/private-event-10/
ATTACH;FMTTYPE=image/jpeg:https://classicalguitarorlando.com/wp-content/uploads/2020/09/Florida-Living-Quarters-.jpg
END:VEVENT
BEGIN:VEVENT
DTSTART;TZID=America/New_York:20140308T190000
DTEND;TZID=America/New_York:20140308T200000
DTSTAMP:20260422T182959
CREATED:20200912T005555Z
LAST-MODIFIED:20230203T000122Z
UID:10000292-1394305200-1394308800@classicalguitarorlando.com
SUMMARY:Wedding Ceremony
DESCRIPTION:
URL:https://classicalguitarorlando.com/event/private-event-6/
ATTACH;FMTTYPE=image/jpeg:https://classicalguitarorlando.com/wp-content/uploads/2018/03/Wedding-Reception.jpg
END:VEVENT
BEGIN:VEVENT
DTSTART;TZID=America/New_York:20140131T180000
DTEND;TZID=America/New_York:20140131T210000
DTSTAMP:20260422T182959
CREATED:20200912T211715Z
LAST-MODIFIED:20230203T000131Z
UID:10000293-1391191200-1391202000@classicalguitarorlando.com
SUMMARY:Spanish Wine Experience
DESCRIPTION:
URL:https://classicalguitarorlando.com/event/spanish-wine-experience/
LOCATION:Txokos Basque Kitchen\, 3201 Corrine Dr\, Suite 100\, Orlando\, FL\, 32803\, United States
ATTACH;FMTTYPE=image/jpeg:https://classicalguitarorlando.com/wp-content/uploads/2018/09/Wine-Tasting-Event.jpg
END:VEVENT
BEGIN:VEVENT
DTSTART;TZID=America/New_York:20140118T170000
DTEND;TZID=America/New_York:20140118T180000
DTSTAMP:20260422T182959
CREATED:20200912T010946Z
LAST-MODIFIED:20230203T000143Z
UID:10000294-1390064400-1390068000@classicalguitarorlando.com
SUMMARY:Wedding Ceremony
DESCRIPTION:
URL:https://classicalguitarorlando.com/event/private-event-8/
ATTACH;FMTTYPE=image/jpeg:https://classicalguitarorlando.com/wp-content/uploads/2018/03/Wedding-Reception.jpg
END:VEVENT
BEGIN:VEVENT
DTSTART;TZID=America/New_York:20140111T190000
DTEND;TZID=America/New_York:20140111T220000
DTSTAMP:20260422T182959
CREATED:20200912T002540Z
LAST-MODIFIED:20230203T000149Z
UID:10000295-1389466800-1389477600@classicalguitarorlando.com
SUMMARY:Engagement Party
DESCRIPTION:
URL:https://classicalguitarorlando.com/event/private-event-2/
ATTACH;FMTTYPE=image/jpeg:https://classicalguitarorlando.com/wp-content/uploads/2016/09/Funeral-Reception.jpg
END:VEVENT
BEGIN:VEVENT
DTSTART;TZID=America/New_York:20131122T193000
DTEND;TZID=America/New_York:20131122T213000
DTSTAMP:20260422T182959
CREATED:20200912T002259Z
LAST-MODIFIED:20230203T000158Z
UID:10000296-1385148600-1385155800@classicalguitarorlando.com
SUMMARY:Welcoming Reception
DESCRIPTION:
URL:https://classicalguitarorlando.com/event/private-event/
LOCATION:Grand Bohemian Hotel\, Orlando\, FL\, United States
ATTACH;FMTTYPE=image/jpeg:https://classicalguitarorlando.com/wp-content/uploads/2016/09/IMG_6957.jpg
END:VEVENT
BEGIN:VEVENT
DTSTART;TZID=America/New_York:20131115T150000
DTEND;TZID=America/New_York:20131115T160000
DTSTAMP:20260422T182959
CREATED:20200912T002800Z
LAST-MODIFIED:20230203T000220Z
UID:10000297-1384527600-1384531200@classicalguitarorlando.com
SUMMARY:Private Event
DESCRIPTION:
URL:https://classicalguitarorlando.com/event/friday-nov-15-2013-begin-3pm-end-4pm/
ATTACH;FMTTYPE=image/jpeg:https://classicalguitarorlando.com/wp-content/uploads/2018/03/Wedding-Reception.jpg
END:VEVENT
END:VCALENDAR