BEGIN:VCALENDAR
VERSION:2.0
PRODID:-//Brian Hayes, Classical Guitarist - ECPv6.15.20//NONSGML v1.0//EN
CALSCALE:GREGORIAN
METHOD:PUBLISH
X-WR-CALNAME:Brian Hayes, Classical Guitarist
X-ORIGINAL-URL:https://classicalguitarorlando.com
X-WR-CALDESC:Events for Brian Hayes, Classical Guitarist
REFRESH-INTERVAL;VALUE=DURATION:PT1H
X-Robots-Tag:noindex
X-PUBLISHED-TTL:PT1H
BEGIN:VTIMEZONE
TZID:America/New_York
BEGIN:DAYLIGHT
TZOFFSETFROM:-0500
TZOFFSETTO:-0400
TZNAME:EDT
DTSTART:20220313T070000
END:DAYLIGHT
BEGIN:STANDARD
TZOFFSETFROM:-0400
TZOFFSETTO:-0500
TZNAME:EST
DTSTART:20221106T060000
END:STANDARD
BEGIN:DAYLIGHT
TZOFFSETFROM:-0500
TZOFFSETTO:-0400
TZNAME:EDT
DTSTART:20230312T070000
END:DAYLIGHT
BEGIN:STANDARD
TZOFFSETFROM:-0400
TZOFFSETTO:-0500
TZNAME:EST
DTSTART:20231105T060000
END:STANDARD
BEGIN:DAYLIGHT
TZOFFSETFROM:-0500
TZOFFSETTO:-0400
TZNAME:EDT
DTSTART:20240310T070000
END:DAYLIGHT
BEGIN:STANDARD
TZOFFSETFROM:-0400
TZOFFSETTO:-0500
TZNAME:EST
DTSTART:20241103T060000
END:STANDARD
BEGIN:DAYLIGHT
TZOFFSETFROM:-0500
TZOFFSETTO:-0400
TZNAME:EDT
DTSTART:20250309T070000
END:DAYLIGHT
BEGIN:STANDARD
TZOFFSETFROM:-0400
TZOFFSETTO:-0500
TZNAME:EST
DTSTART:20251102T060000
END:STANDARD
END:VTIMEZONE
BEGIN:VEVENT
DTSTART;TZID=America/New_York:20240416T180000
DTEND;TZID=America/New_York:20240416T210000
DTSTAMP:20260421T220018
CREATED:20240322T205614Z
LAST-MODIFIED:20240322T205614Z
UID:10000351-1713290400-1713301200@classicalguitarorlando.com
SUMMARY:Corporate Function
DESCRIPTION:
URL:https://classicalguitarorlando.com/event/corporate-function-2/
LOCATION:Alfond Inn\, 300 E New England Ave\, Winter Park\, FL\, 32789\, United States
ATTACH;FMTTYPE=image/jpeg:https://classicalguitarorlando.com/wp-content/uploads/2022/02/Corporate-Reception.jpg
END:VEVENT
BEGIN:VEVENT
DTSTART;TZID=America/New_York:20240407T173000
DTEND;TZID=America/New_York:20240407T193000
DTSTAMP:20260421T220018
CREATED:20240323T224441Z
LAST-MODIFIED:20240323T224441Z
UID:10000352-1712511000-1712518200@classicalguitarorlando.com
SUMMARY:Private Party
DESCRIPTION:
URL:https://classicalguitarorlando.com/event/private-party-2/
LOCATION:FL
ATTACH;FMTTYPE=image/jpeg:https://classicalguitarorlando.com/wp-content/uploads/2024/03/Private-Dinner-Party.jpg
END:VEVENT
BEGIN:VEVENT
DTSTART;TZID=America/New_York:20240406T170000
DTEND;TZID=America/New_York:20240406T193000
DTSTAMP:20260421T220018
CREATED:20231219T195848Z
LAST-MODIFIED:20231219T195848Z
UID:10000341-1712422800-1712431800@classicalguitarorlando.com
SUMMARY:Wedding Ceremony and Cocktail Hour
DESCRIPTION:
URL:https://classicalguitarorlando.com/event/wedding-ceremony-and-cocktail-hour/
LOCATION:Art & History Museums of Maitland\, 231 W Packwood Ave\, Maitland\, FL\, 32751\, United States
ATTACH;FMTTYPE=image/jpeg:https://classicalguitarorlando.com/wp-content/uploads/2016/03/Wedding-scaled.jpg
END:VEVENT
BEGIN:VEVENT
DTSTART;TZID=America/New_York:20240403T180000
DTEND;TZID=America/New_York:20240403T210000
DTSTAMP:20260421T220018
CREATED:20240322T205007Z
LAST-MODIFIED:20240403T155147Z
UID:10000348-1712167200-1712178000@classicalguitarorlando.com
SUMMARY:Blend & Barrel
DESCRIPTION:TO BE NOTIFIED\, VIA TEXT\, WHENEVER I’M PERFORMING AT THIS VENUE\, TEXT “EXECUTIVE” TO: 833-602-8479!
URL:https://classicalguitarorlando.com/event/blend-barrel-5/
LOCATION:Blend & Barrel\, 225 W Seminole Blvd #1108\, Sanford\, FL\, 32771\, United States
ATTACH;FMTTYPE=image/jpeg:https://classicalguitarorlando.com/wp-content/uploads/2024/03/Blend-Barrel-new.jpg
END:VEVENT
BEGIN:VEVENT
DTSTART;TZID=America/New_York:20240320T180000
DTEND;TZID=America/New_York:20240320T210000
DTSTAMP:20260421T220018
CREATED:20240308T200549Z
LAST-MODIFIED:20240308T200549Z
UID:10000347-1710957600-1710968400@classicalguitarorlando.com
SUMMARY:Blend & Barrel
DESCRIPTION:
URL:https://classicalguitarorlando.com/event/blend-barrel-4/
LOCATION:Blend & Barrel\, 225 W Seminole Blvd #1108\, Sanford\, FL\, 32771\, United States
ATTACH;FMTTYPE=image/jpeg:https://classicalguitarorlando.com/wp-content/uploads/2023/09/Blend-Barrel.jpg
END:VEVENT
BEGIN:VEVENT
DTSTART;TZID=America/New_York:20240214T180000
DTEND;TZID=America/New_York:20240214T210000
DTSTAMP:20260421T220018
CREATED:20240112T172459Z
LAST-MODIFIED:20240112T172459Z
UID:10000345-1707933600-1707944400@classicalguitarorlando.com
SUMMARY:BLEND & BARREL
DESCRIPTION:
URL:https://classicalguitarorlando.com/event/blend-barrel-3/
LOCATION:Blend & Barrel\, 225 W Seminole Blvd #1108\, Sanford\, FL\, 32771\, United States
ATTACH;FMTTYPE=image/jpeg:https://classicalguitarorlando.com/wp-content/uploads/2023/09/Blend-Barrel.jpg
END:VEVENT
BEGIN:VEVENT
DTSTART;TZID=America/New_York:20240129T181500
DTEND;TZID=America/New_York:20240129T213000
DTSTAMP:20260421T220018
CREATED:20240129T165944Z
LAST-MODIFIED:20240129T165944Z
UID:10000346-1706552100-1706563800@classicalguitarorlando.com
SUMMARY:JW Marriott Orlando Grand Lakes
DESCRIPTION:
URL:https://classicalguitarorlando.com/event/jw-marriott-orlando-grand-lakes/
LOCATION:JW Marriott Orlando Grande Lakes\, 4040 Central Florida Pkwy\, Orlando\, 32837\, United States
ATTACH;FMTTYPE=image/jpeg:https://classicalguitarorlando.com/wp-content/uploads/2022/02/JW-Marriott-Orlando-Grande-Lakes.jpg
END:VEVENT
BEGIN:VEVENT
DTSTART;TZID=America/New_York:20240110T180000
DTEND;TZID=America/New_York:20240110T210000
DTSTAMP:20260421T220018
CREATED:20231219T201418Z
LAST-MODIFIED:20231219T201418Z
UID:10000344-1704909600-1704920400@classicalguitarorlando.com
SUMMARY:Blend & Barrel Lounge
DESCRIPTION:
URL:https://classicalguitarorlando.com/event/blend-barrel-lounge/
LOCATION:Blend & Barrel\, 225 W Seminole Blvd #1108\, Sanford\, FL\, 32771\, United States
ATTACH;FMTTYPE=image/jpeg:https://classicalguitarorlando.com/wp-content/uploads/2023/09/Blend-Barrel.jpg
END:VEVENT
BEGIN:VEVENT
DTSTART;TZID=America/New_York:20231226T124500
DTEND;TZID=America/New_York:20231226T150000
DTSTAMP:20260421T220018
CREATED:20231114T163737Z
LAST-MODIFIED:20231114T163737Z
UID:10000338-1703594700-1703602800@classicalguitarorlando.com
SUMMARY:Family Reunion
DESCRIPTION:
URL:https://classicalguitarorlando.com/event/family-reunion/
LOCATION:FL
ATTACH;FMTTYPE=image/jpeg:https://classicalguitarorlando.com/wp-content/uploads/2023/11/Family-Reunion.jpg
END:VEVENT
BEGIN:VEVENT
DTSTART;TZID=America/New_York:20231224T193000
DTEND;TZID=America/New_York:20231224T210000
DTSTAMP:20260421T220018
CREATED:20231219T201103Z
LAST-MODIFIED:20231219T201103Z
UID:10000343-1703446200-1703451600@classicalguitarorlando.com
SUMMARY:Ritz-Carlton Club Lounge
DESCRIPTION:
URL:https://classicalguitarorlando.com/event/ritz-carlton-club-lounge-2/
LOCATION:The Ritz-Carlton\, Orlando\, Grand Lakes\, 4012 Central Florida Pkwy\, Orlando\, FL\, 32837\, United States
ATTACH;FMTTYPE=image/jpeg:https://classicalguitarorlando.com/wp-content/uploads/2016/03/Ritz-Club-Lounge.jpg
GEO:28.4047463;-81.4289125
X-APPLE-STRUCTURED-LOCATION;VALUE=URI;X-ADDRESS=The Ritz-Carlton Orlando Grand Lakes 4012 Central Florida Pkwy Orlando FL 32837 United States;X-APPLE-RADIUS=500;X-TITLE=4012 Central Florida Pkwy:geo:-81.4289125,28.4047463
END:VEVENT
BEGIN:VEVENT
DTSTART;TZID=America/New_York:20231223T193000
DTEND;TZID=America/New_York:20231223T210000
DTSTAMP:20260421T220018
CREATED:20231219T200947Z
LAST-MODIFIED:20231219T200947Z
UID:10000342-1703359800-1703365200@classicalguitarorlando.com
SUMMARY:Ritz-Carlton Club Lounge
DESCRIPTION:
URL:https://classicalguitarorlando.com/event/ritz-carlton-club-lounge/
LOCATION:The Ritz-Carlton\, Orlando\, Grand Lakes\, 4012 Central Florida Pkwy\, Orlando\, FL\, 32837\, United States
ATTACH;FMTTYPE=image/jpeg:https://classicalguitarorlando.com/wp-content/uploads/2016/03/Ritz-Club-Lounge.jpg
GEO:28.4047463;-81.4289125
X-APPLE-STRUCTURED-LOCATION;VALUE=URI;X-ADDRESS=The Ritz-Carlton Orlando Grand Lakes 4012 Central Florida Pkwy Orlando FL 32837 United States;X-APPLE-RADIUS=500;X-TITLE=4012 Central Florida Pkwy:geo:-81.4289125,28.4047463
END:VEVENT
BEGIN:VEVENT
DTSTART;TZID=America/New_York:20231216T190000
DTEND;TZID=America/New_York:20231216T230000
DTSTAMP:20260421T220018
CREATED:20231109T194904Z
LAST-MODIFIED:20231109T194904Z
UID:10000337-1702753200-1702767600@classicalguitarorlando.com
SUMMARY:Holiday Party
DESCRIPTION:
URL:https://classicalguitarorlando.com/event/holiday-party-3/
LOCATION:FL
ATTACH;FMTTYPE=image/jpeg:https://classicalguitarorlando.com/wp-content/uploads/2023/11/Holiday-Party.jpg
END:VEVENT
BEGIN:VEVENT
DTSTART;TZID=America/New_York:20231214T190000
DTEND;TZID=America/New_York:20231214T210000
DTSTAMP:20260421T220018
CREATED:20231010T010038Z
LAST-MODIFIED:20231010T010038Z
UID:10000334-1702580400-1702587600@classicalguitarorlando.com
SUMMARY:Dinner Party Event
DESCRIPTION:
URL:https://classicalguitarorlando.com/event/dinner-party-event-2/
LOCATION:FL
ATTACH;FMTTYPE=image/jpeg:https://classicalguitarorlando.com/wp-content/uploads/2019/08/Dinner-Party.jpg
END:VEVENT
BEGIN:VEVENT
DTSTART;TZID=America/New_York:20231210T183000
DTEND;TZID=America/New_York:20231210T213000
DTSTAMP:20260421T220018
CREATED:20231125T235330Z
LAST-MODIFIED:20231125T235330Z
UID:10000340-1702233000-1702243800@classicalguitarorlando.com
SUMMARY:Christmas Party
DESCRIPTION:
URL:https://classicalguitarorlando.com/event/christmas-party-2/
LOCATION:FL
ATTACH;FMTTYPE=image/jpeg:https://classicalguitarorlando.com/wp-content/uploads/2020/12/birthday-christmas-party.jpg
END:VEVENT
BEGIN:VEVENT
DTSTART;TZID=America/New_York:20231206T180000
DTEND;TZID=America/New_York:20231206T210000
DTSTAMP:20260421T220018
CREATED:20231114T164021Z
LAST-MODIFIED:20231114T164021Z
UID:10000339-1701885600-1701896400@classicalguitarorlando.com
SUMMARY:Blend & Barrel
DESCRIPTION:
URL:https://classicalguitarorlando.com/event/blend-barrel-2/
LOCATION:Blend & Barrel\, 225 W Seminole Blvd #1108\, Sanford\, FL\, 32771\, United States
ATTACH;FMTTYPE=image/jpeg:https://classicalguitarorlando.com/wp-content/uploads/2023/09/Blend-Barrel.jpg
END:VEVENT
BEGIN:VEVENT
DTSTART;TZID=America/New_York:20231202T180000
DTEND;TZID=America/New_York:20231202T203000
DTSTAMP:20260421T220018
CREATED:20230725T175610Z
LAST-MODIFIED:20230725T175610Z
UID:10000314-1701540000-1701549000@classicalguitarorlando.com
SUMMARY:Wine-Tasting Event
DESCRIPTION:
URL:https://classicalguitarorlando.com/event/wine-tasting-event/
LOCATION:Earthscapes Garden Room\, 816 Alt 19 N\, Palm Harbor\, FL\, 34683\, United States
ATTACH;FMTTYPE=image/jpeg:https://classicalguitarorlando.com/wp-content/uploads/2018/09/Wine-Tasting-Event.jpg
END:VEVENT
BEGIN:VEVENT
DTSTART;TZID=America/New_York:20231118T180000
DTEND;TZID=America/New_York:20231118T210000
DTSTAMP:20260421T220018
CREATED:20230926T154016Z
LAST-MODIFIED:20230926T154016Z
UID:10000331-1700330400-1700341200@classicalguitarorlando.com
SUMMARY:Doglando "Dogsgiving Day Dinner" Event
DESCRIPTION:
URL:https://classicalguitarorlando.com/event/doglando-dogsgiving-day-dinner-event/
LOCATION:Doglando\, 12276 E Colonial Dr\, Orlando\, FL\, 32826\, United States
ATTACH;FMTTYPE=image/jpeg:https://classicalguitarorlando.com/wp-content/uploads/2023/09/Doglando.jpg
END:VEVENT
BEGIN:VEVENT
DTSTART;TZID=America/New_York:20231112T110000
DTEND;TZID=America/New_York:20231112T150000
DTSTAMP:20260421T220018
CREATED:20231029T234548Z
LAST-MODIFIED:20231029T234548Z
UID:10000336-1699786800-1699801200@classicalguitarorlando.com
SUMMARY:London House
DESCRIPTION:
URL:https://classicalguitarorlando.com/event/london-house-3/
LOCATION:London House\, 8000 Via Dellagio Way\, Orlando\, 32819\, United States
ATTACH;FMTTYPE=image/jpeg:https://classicalguitarorlando.com/wp-content/uploads/2022/02/London-House.jpeg
END:VEVENT
BEGIN:VEVENT
DTSTART;TZID=America/New_York:20231108T180000
DTEND;TZID=America/New_York:20231108T210000
DTSTAMP:20260421T220018
CREATED:20231013T181549Z
LAST-MODIFIED:20231013T181549Z
UID:10000335-1699466400-1699477200@classicalguitarorlando.com
SUMMARY:Blend & Barrel
DESCRIPTION:
URL:https://classicalguitarorlando.com/event/blend-barrel/
LOCATION:Blend & Barrel\, 225 W Seminole Blvd #1108\, Sanford\, FL\, 32771\, United States
ATTACH;FMTTYPE=image/jpeg:https://classicalguitarorlando.com/wp-content/uploads/2023/09/Blend-Barrel.jpg
END:VEVENT
BEGIN:VEVENT
DTSTART;TZID=America/New_York:20231102T190000
DTEND;TZID=America/New_York:20231102T210000
DTSTAMP:20260421T220018
CREATED:20231010T005807Z
LAST-MODIFIED:20231010T005807Z
UID:10000333-1698951600-1698958800@classicalguitarorlando.com
SUMMARY:Dinner Party Event
DESCRIPTION:
URL:https://classicalguitarorlando.com/event/dinner-party-event/
LOCATION:FL
ATTACH;FMTTYPE=image/jpeg:https://classicalguitarorlando.com/wp-content/uploads/2019/08/Dinner-Party.jpg
END:VEVENT
BEGIN:VEVENT
DTSTART;TZID=America/New_York:20231014T160000
DTEND;TZID=America/New_York:20231014T190000
DTSTAMP:20260421T220018
CREATED:20230810T154408Z
LAST-MODIFIED:20230810T154408Z
UID:10000316-1697299200-1697310000@classicalguitarorlando.com
SUMMARY:Nehrling Gardens Owl Prowl\, Wine and Art Wander Event
DESCRIPTION:
URL:https://classicalguitarorlando.com/event/nehrling-gardens-owl-prowl-wine-and-art-wander-event/
LOCATION:Nehrling Gardens\, 2267 Hempel Avenue\, Gotha\, FL\, 34734\, United States
ATTACH;FMTTYPE=image/jpeg:https://classicalguitarorlando.com/wp-content/uploads/2023/08/Nehrling-Gardens-Owl-Prowl-Event-2023.jpeg
END:VEVENT
BEGIN:VEVENT
DTSTART;TZID=America/New_York:20231011T180000
DTEND;TZID=America/New_York:20231011T210000
DTSTAMP:20260421T220018
CREATED:20230926T155452Z
LAST-MODIFIED:20230926T155452Z
UID:10000332-1697047200-1697058000@classicalguitarorlando.com
SUMMARY:Blend & Barrel (formerly Executive Sanford)
DESCRIPTION:
URL:https://classicalguitarorlando.com/event/blend-barrel-formerly-executive-sanford/
LOCATION:Blend & Barrel\, 225 W Seminole Blvd #1108\, Sanford\, FL\, 32771\, United States
ATTACH;FMTTYPE=image/jpeg:https://classicalguitarorlando.com/wp-content/uploads/2023/09/Blend-Barrel.jpg
END:VEVENT
BEGIN:VEVENT
DTSTART;TZID=America/New_York:20230916T190000
DTEND;TZID=America/New_York:20230916T220000
DTSTAMP:20260421T220018
CREATED:20230828T181859Z
LAST-MODIFIED:20230828T182128Z
UID:10000329-1694890800-1694901600@classicalguitarorlando.com
SUMMARY:Executive Cigar in Sanford
DESCRIPTION:
URL:https://classicalguitarorlando.com/event/executive-cigar-in-sanford/
LOCATION:Blend & Barrel\, 225 W Seminole Blvd #1108\, Sanford\, FL\, 32771\, United States
ATTACH;FMTTYPE=image/jpeg:https://classicalguitarorlando.com/wp-content/uploads/2023/08/Executive-Cigar.jpg
END:VEVENT
BEGIN:VEVENT
DTSTART;TZID=America/New_York:20230903T180000
DTEND;TZID=America/New_York:20230903T210000
DTSTAMP:20260421T220018
CREATED:20230830T023126Z
LAST-MODIFIED:20230830T023126Z
UID:10000330-1693764000-1693774800@classicalguitarorlando.com
SUMMARY:Citron Restaurant at JW Marriot
DESCRIPTION:
URL:https://classicalguitarorlando.com/event/citron-restaurant-at-jw-marriot-3/
LOCATION:JW Marriott Orlando Grande Lakes\, 4040 Central Florida Pkwy\, Orlando\, 32837\, United States
ATTACH;FMTTYPE=image/jpeg:https://classicalguitarorlando.com/wp-content/uploads/2022/06/Citron-Restaurant-at-JW-Marriott.jpg
END:VEVENT
BEGIN:VEVENT
DTSTART;TZID=America/New_York:20230825T193000
DTEND;TZID=America/New_York:20230825T210000
DTSTAMP:20260421T220018
CREATED:20230330T185454Z
LAST-MODIFIED:20230330T215018Z
UID:10000303-1692991800-1692997200@classicalguitarorlando.com
SUMMARY:In Concert at the St. Johns County Republican Executive Committee
DESCRIPTION:
URL:https://classicalguitarorlando.com/event/in-concert-at-the-st-johns-county-republican-executive-committee/
LOCATION:St. Johns County Republican Executive Committee\, 3149 N Ponce De Leon Blvd Suite 6\,\, St. Augustine\, FL\, 32084\, United States
ATTACH;FMTTYPE=image/jpeg:https://classicalguitarorlando.com/wp-content/uploads/2023/03/St.-Johns-County-Republican-Executive-Committee.jpg
END:VEVENT
BEGIN:VEVENT
DTSTART;TZID=America/New_York:20230812T190000
DTEND;TZID=America/New_York:20230812T223000
DTSTAMP:20260421T220018
CREATED:20230629T155452Z
LAST-MODIFIED:20230629T155452Z
UID:10000310-1691866800-1691879400@classicalguitarorlando.com
SUMMARY:Birthday Party Celebration
DESCRIPTION:
URL:https://classicalguitarorlando.com/event/birthday-party-celebration-2/
LOCATION:FL
ATTACH;FMTTYPE=image/jpeg:https://classicalguitarorlando.com/wp-content/uploads/2023/06/Spanish-Adult-Birthday-Party.jpg
END:VEVENT
BEGIN:VEVENT
DTSTART;TZID=America/New_York:20230802T180000
DTEND;TZID=America/New_York:20230802T210000
DTSTAMP:20260421T220018
CREATED:20230715T224552Z
LAST-MODIFIED:20230715T224552Z
UID:10000313-1690999200-1691010000@classicalguitarorlando.com
SUMMARY:Four Seasons Golf and Sports Club Orlando
DESCRIPTION:
URL:https://classicalguitarorlando.com/event/four-seasons-golf-and-sports-club-orlando/
LOCATION:Four Seasons Golf and Sports Club Orlando\, 3451 Golf View Drive\, Lake Buena Vista\, FL\, 32830\, United States
ATTACH;FMTTYPE=image/jpeg:https://classicalguitarorlando.com/wp-content/uploads/2023/07/Four-Seasons-Golf-and-Sports-Club-Orlando.jpg
END:VEVENT
BEGIN:VEVENT
DTSTART;TZID=America/New_York:20230729T114500
DTEND;TZID=America/New_York:20230729T130000
DTSTAMP:20260421T220018
CREATED:20230707T201806Z
LAST-MODIFIED:20230707T201806Z
UID:10000311-1690631100-1690635600@classicalguitarorlando.com
SUMMARY:Orlando Weekly's Tacos & Tequila Event at Cheyenne Saloon
DESCRIPTION:
URL:https://classicalguitarorlando.com/event/orlando-weeklys-tacos-tequila-event-at-cheyenne-saloon/
LOCATION:Cheyenne Saloon\, 128 W Church St #3304\, Orlando\, FL\, United States
ATTACH;FMTTYPE=image/png:https://classicalguitarorlando.com/wp-content/uploads/2023/07/Orlando-Weekly-Tacos-and-Tequila-Event-scaled.png
END:VEVENT
BEGIN:VEVENT
DTSTART;TZID=America/New_York:20230722T173000
DTEND;TZID=America/New_York:20230722T183000
DTSTAMP:20260421T220018
CREATED:20230715T223206Z
LAST-MODIFIED:20230715T223206Z
UID:10000312-1690047000-1690050600@classicalguitarorlando.com
SUMMARY:Wedding Ceremony
DESCRIPTION:
URL:https://classicalguitarorlando.com/event/wedding-ceremony-19/
LOCATION:FL
ATTACH;FMTTYPE=image/jpeg:https://classicalguitarorlando.com/wp-content/uploads/2016/03/Wedding-scaled.jpg
END:VEVENT
BEGIN:VEVENT
DTSTART;TZID=America/New_York:20230702T183000
DTEND;TZID=America/New_York:20230702T213000
DTSTAMP:20260421T220018
CREATED:20230613T165909Z
LAST-MODIFIED:20230613T165909Z
UID:10000309-1688322600-1688333400@classicalguitarorlando.com
SUMMARY:Pop N' Snax Soft Opening Event
DESCRIPTION:
URL:https://classicalguitarorlando.com/event/pop-n-snax-soft-opening-event/
LOCATION:Pop N’ Snax\, 4119 S Orange Blossom Trail\, Orlando\, 32839\, United States
ATTACH;FMTTYPE=image/jpeg:https://classicalguitarorlando.com/wp-content/uploads/2023/06/Pop-N-Snax.jpg
END:VEVENT
END:VCALENDAR