BEGIN:VCALENDAR
VERSION:2.0
PRODID:-//Brian Hayes, Classical Guitarist - ECPv6.15.20//NONSGML v1.0//EN
CALSCALE:GREGORIAN
METHOD:PUBLISH
X-WR-CALNAME:Brian Hayes, Classical Guitarist
X-ORIGINAL-URL:https://classicalguitarorlando.com
X-WR-CALDESC:Events for Brian Hayes, Classical Guitarist
REFRESH-INTERVAL;VALUE=DURATION:PT1H
X-Robots-Tag:noindex
X-PUBLISHED-TTL:PT1H
BEGIN:VTIMEZONE
TZID:America/New_York
BEGIN:DAYLIGHT
TZOFFSETFROM:-0500
TZOFFSETTO:-0400
TZNAME:EDT
DTSTART:20210314T070000
END:DAYLIGHT
BEGIN:STANDARD
TZOFFSETFROM:-0400
TZOFFSETTO:-0500
TZNAME:EST
DTSTART:20211107T060000
END:STANDARD
BEGIN:DAYLIGHT
TZOFFSETFROM:-0500
TZOFFSETTO:-0400
TZNAME:EDT
DTSTART:20220313T070000
END:DAYLIGHT
BEGIN:STANDARD
TZOFFSETFROM:-0400
TZOFFSETTO:-0500
TZNAME:EST
DTSTART:20221106T060000
END:STANDARD
BEGIN:DAYLIGHT
TZOFFSETFROM:-0500
TZOFFSETTO:-0400
TZNAME:EDT
DTSTART:20230312T070000
END:DAYLIGHT
BEGIN:STANDARD
TZOFFSETFROM:-0400
TZOFFSETTO:-0500
TZNAME:EST
DTSTART:20231105T060000
END:STANDARD
END:VTIMEZONE
BEGIN:VEVENT
DTSTART;TZID=America/New_York:20220924T180000
DTEND;TZID=America/New_York:20220924T210000
DTSTAMP:20260421T135347
CREATED:20220905T175316Z
LAST-MODIFIED:20230202T153242Z
UID:10000017-1664042400-1664053200@classicalguitarorlando.com
SUMMARY:Birthday Party
DESCRIPTION:
URL:https://classicalguitarorlando.com/event/birthday-party-6/
LOCATION:FL
ATTACH;FMTTYPE=image/jpeg:https://classicalguitarorlando.com/wp-content/uploads/2022/09/70th-Birthday-Party.jpg
END:VEVENT
BEGIN:VEVENT
DTSTART;TZID=America/New_York:20220828T100000
DTEND;TZID=America/New_York:20220828T140000
DTSTAMP:20260421T135347
CREATED:20220827T183446Z
LAST-MODIFIED:20230202T153303Z
UID:10000018-1661680800-1661695200@classicalguitarorlando.com
SUMMARY:The Grill at Grande Vista
DESCRIPTION:
URL:https://classicalguitarorlando.com/event/the-grill-at-grande-vista-4/
LOCATION:Marriott’s Grande Vista\, 5925 Avenida Vista\, Orlando\, FL\, 32821\, United States
ATTACH;FMTTYPE=image/jpeg:https://classicalguitarorlando.com/wp-content/uploads/2022/05/Marriotts-Grande-Vista.jpg
END:VEVENT
BEGIN:VEVENT
DTSTART;TZID=America/New_York:20220827T180000
DTEND;TZID=America/New_York:20220827T210000
DTSTAMP:20260421T135347
CREATED:20220803T020258Z
LAST-MODIFIED:20230202T153323Z
UID:10000019-1661623200-1661634000@classicalguitarorlando.com
SUMMARY:DoubleTree by Hilton Hotel Orlando at SeaWorld
DESCRIPTION:
URL:https://classicalguitarorlando.com/event/lake-nona-wave-hotel-2/
LOCATION:DoubleTree by Hilton Hotel Orlando at SeaWorld\, 10100 International Drive\, Orlando\, FL\, 32821\, United States
ATTACH;FMTTYPE=image/jpeg:https://classicalguitarorlando.com/wp-content/uploads/2022/03/DoubleTree-by-Hilton-Hotel-Orlando-at-SeaWorld.jpg
END:VEVENT
BEGIN:VEVENT
DTSTART;TZID=America/New_York:20220814T100000
DTEND;TZID=America/New_York:20220814T143000
DTSTAMP:20260421T135347
CREATED:20220811T203301Z
LAST-MODIFIED:20230202T153348Z
UID:10000020-1660471200-1660487400@classicalguitarorlando.com
SUMMARY:The Grill at Grande Vista
DESCRIPTION:
URL:https://classicalguitarorlando.com/event/the-grill-at-grande-vista-3/
LOCATION:Marriott’s Grande Vista\, 5925 Avenida Vista\, Orlando\, FL\, 32821\, United States
ATTACH;FMTTYPE=image/jpeg:https://classicalguitarorlando.com/wp-content/uploads/2022/06/The-Grill-at-Grande-Vista.jpg
END:VEVENT
BEGIN:VEVENT
DTSTART;TZID=America/New_York:20220812T190000
DTEND;TZID=America/New_York:20220812T230000
DTSTAMP:20260421T135347
CREATED:20220811T202838Z
LAST-MODIFIED:20230202T153421Z
UID:10000021-1660330800-1660345200@classicalguitarorlando.com
SUMMARY:Lake Nona Wave Hotel
DESCRIPTION:
URL:https://classicalguitarorlando.com/event/lake-nona-wave-hotel-3/
LOCATION:Lake Nona Wave Hotel\, 6100 Wave Hotel Dr\,\, Orlando\, FL\, 32827\, United States
ATTACH;FMTTYPE=image/png:https://classicalguitarorlando.com/wp-content/uploads/2022/07/The-Wave-Hotel.png
END:VEVENT
BEGIN:VEVENT
DTSTART;TZID=America/New_York:20220805T173000
DTEND;TZID=America/New_York:20220805T213000
DTSTAMP:20260421T135347
CREATED:20220703T115954Z
LAST-MODIFIED:20230202T153442Z
UID:10000022-1659720600-1659735000@classicalguitarorlando.com
SUMMARY:Frederick’s Wine Room
DESCRIPTION:TEXT: “GUITAR” TO: 833-602-8479 to be notified whenever Brian performs at Orlando area venues!
URL:https://classicalguitarorlando.com/event/fredericks-wine-room-6/
LOCATION:Frederick’s Wine Room\, 909 S Charles Richard Beall Blvd\, DeBary\, FL\, 32713\, United States
ATTACH;FMTTYPE=image/jpeg:https://classicalguitarorlando.com/wp-content/uploads/2022/05/Fredericks-Wine-Room1.jpg
END:VEVENT
BEGIN:VEVENT
DTSTART;TZID=America/New_York:20220728T180000
DTEND;TZID=America/New_York:20220728T220000
DTSTAMP:20260421T135347
CREATED:20220728T200527Z
LAST-MODIFIED:20230202T153501Z
UID:10000023-1659031200-1659045600@classicalguitarorlando.com
SUMMARY:Lake Nona Wave Hotel
DESCRIPTION:
URL:https://classicalguitarorlando.com/event/lake-nona-wave-hotel/
LOCATION:Lake Nona Wave Hotel\, 6100 Wave Hotel Dr\,\, Orlando\, FL\, 32827\, United States
ATTACH;FMTTYPE=image/png:https://classicalguitarorlando.com/wp-content/uploads/2022/07/The-Wave-Hotel.png
END:VEVENT
BEGIN:VEVENT
DTSTART;TZID=America/New_York:20220722T183000
DTEND;TZID=America/New_York:20220722T213000
DTSTAMP:20260421T135347
CREATED:20220703T115838Z
LAST-MODIFIED:20230202T153518Z
UID:10000024-1658514600-1658525400@classicalguitarorlando.com
SUMMARY:Frederick’s Wine Room
DESCRIPTION:TEXT: “GUITAR” TO: 833-602-8479 to be notified whenever Brian performs at Orlando area venues!
URL:https://classicalguitarorlando.com/event/fredericks-wine-room-5/
LOCATION:Frederick’s Wine Room\, 909 S Charles Richard Beall Blvd\, DeBary\, FL\, 32713\, United States
ATTACH;FMTTYPE=image/jpeg:https://classicalguitarorlando.com/wp-content/uploads/2022/05/Fredericks-Wine-Room1.jpg
END:VEVENT
BEGIN:VEVENT
DTSTART;TZID=America/New_York:20220711T160000
DTEND;TZID=America/New_York:20220711T180000
DTSTAMP:20260421T135347
CREATED:20220503T183504Z
LAST-MODIFIED:20230202T153546Z
UID:10000025-1657555200-1657562400@classicalguitarorlando.com
SUMMARY:Publix Greenwise Event
DESCRIPTION:
URL:https://classicalguitarorlando.com/event/publix-greenwise-event-2/
LOCATION:Publix GreenWise Supermarket (Tampa)\, 555 Channelside Drive\, Tampa\, FL\, 33602\, United States
ATTACH;FMTTYPE=image/jpeg:https://classicalguitarorlando.com/wp-content/uploads/2021/07/Publix-GreenWise-Market.jpg
END:VEVENT
BEGIN:VEVENT
DTSTART;TZID=America/New_York:20220710T163000
DTEND;TZID=America/New_York:20220710T183000
DTSTAMP:20260421T135347
CREATED:20220607T184515Z
LAST-MODIFIED:20230202T153617Z
UID:10000026-1657470600-1657477800@classicalguitarorlando.com
SUMMARY:Birthday Party
DESCRIPTION:
URL:https://classicalguitarorlando.com/event/birthday-party-5/
LOCATION:FL
ATTACH;FMTTYPE=image/jpeg:https://classicalguitarorlando.com/wp-content/uploads/2017/01/Adult-Birthday-Party.jpg
END:VEVENT
BEGIN:VEVENT
DTSTART;TZID=America/New_York:20220704T200000
DTEND;TZID=America/New_York:20220704T230000
DTSTAMP:20260421T135347
CREATED:20220704T213617Z
LAST-MODIFIED:20230202T153637Z
UID:10000027-1656964800-1656975600@classicalguitarorlando.com
SUMMARY:July 4th Corporate Event
DESCRIPTION:
URL:https://classicalguitarorlando.com/event/july-4th-corporate-event/
LOCATION:FL
ATTACH;FMTTYPE=image/jpeg:https://classicalguitarorlando.com/wp-content/uploads/2022/07/0986392D-C79C-4D72-B033-6634D83608E1.jpeg
END:VEVENT
BEGIN:VEVENT
DTSTART;TZID=America/New_York:20220703T170000
DTEND;TZID=America/New_York:20220703T210000
DTSTAMP:20260421T135347
CREATED:20220701T032614Z
LAST-MODIFIED:20230202T153655Z
UID:10000028-1656867600-1656882000@classicalguitarorlando.com
SUMMARY:Citron Restaurant at JW Marriot
DESCRIPTION:
URL:https://classicalguitarorlando.com/event/citron-restaurant-at-jw-marriot/
LOCATION:JW Marriott Orlando Grande Lakes\, 4040 Central Florida Pkwy\, Orlando\, 32837\, United States
ATTACH;FMTTYPE=image/jpeg:https://classicalguitarorlando.com/wp-content/uploads/2022/06/Citron-Restaurant-at-JW-Marriott.jpg
END:VEVENT
BEGIN:VEVENT
DTSTART;TZID=America/New_York:20220703T100000
DTEND;TZID=America/New_York:20220703T143000
DTSTAMP:20260421T135347
CREATED:20220701T024031Z
LAST-MODIFIED:20230202T153717Z
UID:10000029-1656842400-1656858600@classicalguitarorlando.com
SUMMARY:The Grill at Grande Vista
DESCRIPTION:
URL:https://classicalguitarorlando.com/event/the-grill-at-grande-vista-2/
LOCATION:Marriott’s Grande Vista\, 5925 Avenida Vista\, Orlando\, FL\, 32821\, United States
ATTACH;FMTTYPE=image/jpeg:https://classicalguitarorlando.com/wp-content/uploads/2022/06/The-Grill-at-Grande-Vista.jpg
END:VEVENT
BEGIN:VEVENT
DTSTART;TZID=America/New_York:20220626T100000
DTEND;TZID=America/New_York:20220626T143000
DTSTAMP:20260421T135347
CREATED:20220622T070254Z
LAST-MODIFIED:20230202T153737Z
UID:10000030-1656237600-1656253800@classicalguitarorlando.com
SUMMARY:The Grill at Grande Vista
DESCRIPTION:
URL:https://classicalguitarorlando.com/event/the-grill-at-grande-vista/
LOCATION:Marriott’s Grande Vista\, 5925 Avenida Vista\, Orlando\, FL\, 32821\, United States
ATTACH;FMTTYPE=image/jpeg:https://classicalguitarorlando.com/wp-content/uploads/2022/05/Marriotts-Grande-Vista.jpg
END:VEVENT
BEGIN:VEVENT
DTSTART;TZID=America/New_York:20220625T183000
DTEND;TZID=America/New_York:20220625T213000
DTSTAMP:20260421T135347
CREATED:20220513T191714Z
LAST-MODIFIED:20230202T153757Z
UID:10000031-1656181800-1656192600@classicalguitarorlando.com
SUMMARY:Frederick's Wine Room
DESCRIPTION:TEXT: “GUITAR” \nTO: 833-602-8479 \nto be notified whenever Brian performs at Orlando area venues!
URL:https://classicalguitarorlando.com/event/fredericks-wine-room-4/
LOCATION:Frederick’s Wine Room\, 909 S Charles Richard Beall Blvd\, DeBary\, FL\, 32713\, United States
ATTACH;FMTTYPE=image/jpeg:https://classicalguitarorlando.com/wp-content/uploads/2022/05/Fredericks-Wine-Room1.jpg
END:VEVENT
BEGIN:VEVENT
DTSTART;TZID=America/New_York:20220616T180000
DTEND;TZID=America/New_York:20220616T193000
DTSTAMP:20260421T135347
CREATED:20220425T155407Z
LAST-MODIFIED:20230202T153815Z
UID:10000032-1655402400-1655407800@classicalguitarorlando.com
SUMMARY:Cocktail Party at Corona Cigar Company in Lake Mary
DESCRIPTION:
URL:https://classicalguitarorlando.com/event/cocktail-party-at-corona-cigar-company-in-lake-mary/
LOCATION:Corona Cigar Company\, Lake Mary\, 1130 TownPark Ave\, Lake Mary\, FL\, 32746\, United States
ATTACH;FMTTYPE=image/jpeg:https://classicalguitarorlando.com/wp-content/uploads/2022/04/Corona-Cigar-Company-Lake-Mary.jpg
END:VEVENT
BEGIN:VEVENT
DTSTART;TZID=America/New_York:20220611T183000
DTEND;TZID=America/New_York:20220611T213000
DTSTAMP:20260421T135347
CREATED:20220513T191539Z
LAST-MODIFIED:20230202T153840Z
UID:10000033-1654972200-1654983000@classicalguitarorlando.com
SUMMARY:Frederick's Wine Room
DESCRIPTION:
URL:https://classicalguitarorlando.com/event/fredericks-wine-room-3/
LOCATION:Frederick’s Wine Room\, 909 S Charles Richard Beall Blvd\, DeBary\, FL\, 32713\, United States
ATTACH;FMTTYPE=image/jpeg:https://classicalguitarorlando.com/wp-content/uploads/2022/05/Fredericks-Wine-Room1.jpg
END:VEVENT
BEGIN:VEVENT
DTSTART;TZID=America/New_York:20220611T120000
DTEND;TZID=America/New_York:20220611T150000
DTSTAMP:20260421T135347
CREATED:20220503T183347Z
LAST-MODIFIED:20230202T153859Z
UID:10000034-1654948800-1654959600@classicalguitarorlando.com
SUMMARY:Publix Greenwise Event
DESCRIPTION:
URL:https://classicalguitarorlando.com/event/publix-greenwise-event/
LOCATION:Publix GreenWise Supermarket (Tampa)\, 555 Channelside Drive\, Tampa\, FL\, 33602\, United States
ATTACH;FMTTYPE=image/jpeg:https://classicalguitarorlando.com/wp-content/uploads/2021/07/Publix-GreenWise-Market.jpg
END:VEVENT
BEGIN:VEVENT
DTSTART;TZID=America/New_York:20220604T183000
DTEND;TZID=America/New_York:20220604T213000
DTSTAMP:20260421T135347
CREATED:20220513T191409Z
LAST-MODIFIED:20230202T153921Z
UID:10000035-1654367400-1654378200@classicalguitarorlando.com
SUMMARY:Frederick's Wine Room
DESCRIPTION:
URL:https://classicalguitarorlando.com/event/fredericks-wine-room-2/
LOCATION:Frederick’s Wine Room\, 909 S Charles Richard Beall Blvd\, DeBary\, FL\, 32713\, United States
ATTACH;FMTTYPE=image/jpeg:https://classicalguitarorlando.com/wp-content/uploads/2022/05/Fredericks-Wine-Room1.jpg
END:VEVENT
BEGIN:VEVENT
DTSTART;TZID=America/New_York:20220528T193000
DTEND;TZID=America/New_York:20220528T210000
DTSTAMP:20260421T135347
CREATED:20220429T020054Z
LAST-MODIFIED:20230202T153943Z
UID:10000036-1653766200-1653771600@classicalguitarorlando.com
SUMMARY:Birthday Party
DESCRIPTION:
URL:https://classicalguitarorlando.com/event/birthday-party-4/
LOCATION:FL
ATTACH;FMTTYPE=image/jpeg:https://classicalguitarorlando.com/wp-content/uploads/2016/01/50th-anniversary-party.jpg
END:VEVENT
BEGIN:VEVENT
DTSTART;TZID=America/New_York:20220528T160000
DTEND;TZID=America/New_York:20220528T180000
DTSTAMP:20260421T135347
CREATED:20220512T161746Z
LAST-MODIFIED:20230202T154002Z
UID:10000037-1653753600-1653760800@classicalguitarorlando.com
SUMMARY:Higgins House Bed and Breakfast
DESCRIPTION:
URL:https://classicalguitarorlando.com/event/higgins-house-bed-and-breakfast/
LOCATION:Higgins House Bed and Breakfast\, 420 S Oak Ave\, Sanford\, FL\, 32771\, United States
ATTACH;FMTTYPE=image/jpeg:https://classicalguitarorlando.com/wp-content/uploads/2022/05/Higgins-House.jpg
END:VEVENT
BEGIN:VEVENT
DTSTART;TZID=America/New_York:20220521T183000
DTEND;TZID=America/New_York:20220521T213000
DTSTAMP:20260421T135347
CREATED:20220513T190842Z
LAST-MODIFIED:20230202T154027Z
UID:10000038-1653157800-1653168600@classicalguitarorlando.com
SUMMARY:Frederick’s Wine Room
DESCRIPTION:
URL:https://classicalguitarorlando.com/event/fredericks-wine-room/
LOCATION:Frederick’s Wine Room\, 909 S Charles Richard Beall Blvd\, DeBary\, FL\, 32713\, United States
ATTACH;FMTTYPE=image/jpeg:https://classicalguitarorlando.com/wp-content/uploads/2022/05/Fredericks-Wine-Room1.jpg
END:VEVENT
BEGIN:VEVENT
DTSTART;TZID=America/New_York:20220519T123000
DTEND;TZID=America/New_York:20220519T133000
DTSTAMP:20260421T135347
CREATED:20220513T230214Z
LAST-MODIFIED:20230202T154049Z
UID:10000039-1652963400-1652967000@classicalguitarorlando.com
SUMMARY:JW Marriott Orlando Grande Lakes
DESCRIPTION:
URL:https://classicalguitarorlando.com/event/jw-marriott-orlando-grande-lakes-2/
LOCATION:JW Marriott Orlando Grande Lakes\, 4040 Central Florida Pkwy\, Orlando\, 32837\, United States
ATTACH;FMTTYPE=image/jpeg:https://classicalguitarorlando.com/wp-content/uploads/2022/02/JW-Marriott-Orlando-Grande-Lakes.jpg
END:VEVENT
BEGIN:VEVENT
DTSTART;TZID=America/New_York:20220515T100000
DTEND;TZID=America/New_York:20220515T140000
DTSTAMP:20260421T135347
CREATED:20220512T191102Z
LAST-MODIFIED:20230202T154109Z
UID:10000040-1652608800-1652623200@classicalguitarorlando.com
SUMMARY:Marriott's Grande Vista
DESCRIPTION:
URL:https://classicalguitarorlando.com/event/marriotts-grande-vista/
LOCATION:Marriott’s Grande Vista\, 5925 Avenida Vista\, Orlando\, FL\, 32821\, United States
ATTACH;FMTTYPE=image/jpeg:https://classicalguitarorlando.com/wp-content/uploads/2022/05/Marriotts-Grande-Vista.jpg
END:VEVENT
BEGIN:VEVENT
DTSTART;TZID=America/New_York:20220505T120000
DTEND;TZID=America/New_York:20220505T150000
DTSTAMP:20260421T135347
CREATED:20220324T021740Z
LAST-MODIFIED:20230202T154140Z
UID:10000041-1651752000-1651762800@classicalguitarorlando.com
SUMMARY:Publix Greenwise Cinco de Mayo Event
DESCRIPTION:
URL:https://classicalguitarorlando.com/event/publix-greenwise-cinco-de-mayo-event/
LOCATION:Publix GreenWise Supermarket (Tampa)\, 555 Channelside Drive\, Tampa\, FL\, 33602\, United States
ATTACH;FMTTYPE=image/jpeg:https://classicalguitarorlando.com/wp-content/uploads/2021/07/Publix-GreenWise-Market.jpg
END:VEVENT
BEGIN:VEVENT
DTSTART;TZID=America/New_York:20220503T183000
DTEND;TZID=America/New_York:20220503T213000
DTSTAMP:20260421T135347
CREATED:20220425T193050Z
LAST-MODIFIED:20230202T154200Z
UID:10000042-1651602600-1651613400@classicalguitarorlando.com
SUMMARY:The Ritz-Carlton\, Grande Lakes
DESCRIPTION:
URL:https://classicalguitarorlando.com/event/the-ritz-carlton-grande-lakes/
LOCATION:The Ritz-Carlton\, Orlando\, Grand Lakes\, 4012 Central Florida Pkwy\, Orlando\, FL\, 32837\, United States
ATTACH;FMTTYPE=image/jpeg:https://classicalguitarorlando.com/wp-content/uploads/2016/03/Ritz-Club-Lounge.jpg
GEO:28.4047463;-81.4289125
X-APPLE-STRUCTURED-LOCATION;VALUE=URI;X-ADDRESS=The Ritz-Carlton Orlando Grand Lakes 4012 Central Florida Pkwy Orlando FL 32837 United States;X-APPLE-RADIUS=500;X-TITLE=4012 Central Florida Pkwy:geo:-81.4289125,28.4047463
END:VEVENT
BEGIN:VEVENT
DTSTART;TZID=America/New_York:20220430T193000
DTEND;TZID=America/New_York:20220430T223000
DTSTAMP:20260421T135347
CREATED:20220426T023703Z
LAST-MODIFIED:20230202T154219Z
UID:10000043-1651347000-1651357800@classicalguitarorlando.com
SUMMARY:Birthday Party
DESCRIPTION:
URL:https://classicalguitarorlando.com/event/birthday-party-3/
LOCATION:FL
ATTACH;FMTTYPE=image/jpeg:https://classicalguitarorlando.com/wp-content/uploads/2017/01/Adult-Birthday-Party.jpg
END:VEVENT
BEGIN:VEVENT
DTSTART;TZID=America/New_York:20220430T164500
DTEND;TZID=America/New_York:20220430T174500
DTSTAMP:20260421T135347
CREATED:20220218T191045Z
LAST-MODIFIED:20230202T154240Z
UID:10000044-1651337100-1651340700@classicalguitarorlando.com
SUMMARY:Wedding Ceremony
DESCRIPTION:
URL:https://classicalguitarorlando.com/event/wedding-ceremony-2/
LOCATION:The Rose Plantation\, 200 Rose Ave\, Fruitland Park\, 34731\, United States
ATTACH;FMTTYPE=image/jpeg:https://classicalguitarorlando.com/wp-content/uploads/2016/03/Wedding-scaled.jpg
END:VEVENT
BEGIN:VEVENT
DTSTART;TZID=America/New_York:20220417T123000
DTEND;TZID=America/New_York:20220417T153000
DTSTAMP:20260421T135347
CREATED:20220329T015818Z
LAST-MODIFIED:20230202T154301Z
UID:10000045-1650198600-1650209400@classicalguitarorlando.com
SUMMARY:DoubleTree by Hilton Hotel Orlando at SeaWorld
DESCRIPTION:
URL:https://classicalguitarorlando.com/event/four-seasons-resort-2/
LOCATION:DoubleTree by Hilton Hotel Orlando at SeaWorld\, 10100 International Drive\, Orlando\, FL\, 32821\, United States
ATTACH;FMTTYPE=image/jpeg:https://classicalguitarorlando.com/wp-content/uploads/2022/03/DoubleTree-by-Hilton-Hotel-Orlando-at-SeaWorld.jpg
END:VEVENT
BEGIN:VEVENT
DTSTART;TZID=America/New_York:20220410T100000
DTEND;TZID=America/New_York:20220410T140000
DTSTAMP:20260421T135347
CREATED:20220329T015650Z
LAST-MODIFIED:20230202T154328Z
UID:10000046-1649584800-1649599200@classicalguitarorlando.com
SUMMARY:Sunday Brunch at London House
DESCRIPTION:
URL:https://classicalguitarorlando.com/event/london-house-2/
LOCATION:London House\, 8000 Via Dellagio Way\, Orlando\, 32819\, United States
ATTACH;FMTTYPE=image/jpeg:https://classicalguitarorlando.com/wp-content/uploads/2022/02/London-House.jpeg
END:VEVENT
END:VCALENDAR