BEGIN:VCALENDAR
VERSION:2.0
PRODID:-//Brian Hayes, Classical Guitarist - ECPv6.15.20//NONSGML v1.0//EN
CALSCALE:GREGORIAN
METHOD:PUBLISH
X-WR-CALNAME:Brian Hayes, Classical Guitarist
X-ORIGINAL-URL:https://classicalguitarorlando.com
X-WR-CALDESC:Events for Brian Hayes, Classical Guitarist
REFRESH-INTERVAL;VALUE=DURATION:PT1H
X-Robots-Tag:noindex
X-PUBLISHED-TTL:PT1H
BEGIN:VTIMEZONE
TZID:America/New_York
BEGIN:DAYLIGHT
TZOFFSETFROM:-0500
TZOFFSETTO:-0400
TZNAME:EDT
DTSTART:20190310T070000
END:DAYLIGHT
BEGIN:STANDARD
TZOFFSETFROM:-0400
TZOFFSETTO:-0500
TZNAME:EST
DTSTART:20191103T060000
END:STANDARD
BEGIN:DAYLIGHT
TZOFFSETFROM:-0500
TZOFFSETTO:-0400
TZNAME:EDT
DTSTART:20200308T070000
END:DAYLIGHT
BEGIN:STANDARD
TZOFFSETFROM:-0400
TZOFFSETTO:-0500
TZNAME:EST
DTSTART:20201101T060000
END:STANDARD
BEGIN:DAYLIGHT
TZOFFSETFROM:-0500
TZOFFSETTO:-0400
TZNAME:EDT
DTSTART:20210314T070000
END:DAYLIGHT
BEGIN:STANDARD
TZOFFSETFROM:-0400
TZOFFSETTO:-0500
TZNAME:EST
DTSTART:20211107T060000
END:STANDARD
BEGIN:DAYLIGHT
TZOFFSETFROM:-0500
TZOFFSETTO:-0400
TZNAME:EDT
DTSTART:20220313T070000
END:DAYLIGHT
BEGIN:STANDARD
TZOFFSETFROM:-0400
TZOFFSETTO:-0500
TZNAME:EST
DTSTART:20221106T060000
END:STANDARD
BEGIN:DAYLIGHT
TZOFFSETFROM:-0500
TZOFFSETTO:-0400
TZNAME:EDT
DTSTART:20230312T070000
END:DAYLIGHT
BEGIN:STANDARD
TZOFFSETFROM:-0400
TZOFFSETTO:-0500
TZNAME:EST
DTSTART:20231105T060000
END:STANDARD
END:VTIMEZONE
BEGIN:VEVENT
DTSTART;TZID=America/New_York:20220211T180000
DTEND;TZID=America/New_York:20220211T210000
DTSTAMP:20260421T204504
CREATED:20220211T172927Z
LAST-MODIFIED:20230202T154636Z
UID:10000055-1644602400-1644613200@classicalguitarorlando.com
SUMMARY:Drafts Sports Bar & Grill
DESCRIPTION:
URL:https://classicalguitarorlando.com/event/drafts-sports-bar-grill/
LOCATION:Drafts Sports Bar & Grill\, 9500 Turkey Lake Road\, Orlando\, FL\, 32819\, United States
ATTACH;FMTTYPE=image/jpeg:https://classicalguitarorlando.com/wp-content/uploads/2022/02/Drafts-Sports-Bar-Grill.jpg
END:VEVENT
BEGIN:VEVENT
DTSTART;TZID=America/New_York:20220117T170000
DTEND;TZID=America/New_York:20220117T200000
DTSTAMP:20260421T204504
CREATED:20211230T193711Z
LAST-MODIFIED:20230202T154655Z
UID:10000056-1642438800-1642449600@classicalguitarorlando.com
SUMMARY:Birthday Party Celebration
DESCRIPTION:
URL:https://classicalguitarorlando.com/event/birthday-party-celebration/
LOCATION:FL
ATTACH;FMTTYPE=image/jpeg:https://classicalguitarorlando.com/wp-content/uploads/2019/05/Birthday-dinner.jpg
END:VEVENT
BEGIN:VEVENT
DTSTART;TZID=America/New_York:20220115T160000
DTEND;TZID=America/New_York:20220115T170000
DTSTAMP:20260421T204504
CREATED:20211228T201009Z
LAST-MODIFIED:20230202T154715Z
UID:10000057-1642262400-1642266000@classicalguitarorlando.com
SUMMARY:Wedding Ceremony
DESCRIPTION:
URL:https://classicalguitarorlando.com/event/wedding-ceremony-15/
LOCATION:Casa Feliz\, 656 N Park Ave\, Winter Park\, FL\, 32789\, United States
ATTACH;FMTTYPE=image/jpeg:https://classicalguitarorlando.com/wp-content/uploads/2016/03/Wedding-scaled.jpg
GEO:28.6026677;-81.3510844
X-APPLE-STRUCTURED-LOCATION;VALUE=URI;X-ADDRESS=Casa Feliz 656 N Park Ave Winter Park FL 32789 United States;X-APPLE-RADIUS=500;X-TITLE=656 N Park Ave:geo:-81.3510844,28.6026677
END:VEVENT
BEGIN:VEVENT
DTSTART;TZID=America/New_York:20211226T153000
DTEND;TZID=America/New_York:20211226T173000
DTSTAMP:20260421T204504
CREATED:20211207T173654Z
LAST-MODIFIED:20230202T154732Z
UID:10000058-1640532600-1640539800@classicalguitarorlando.com
SUMMARY:Private Party
DESCRIPTION:
URL:https://classicalguitarorlando.com/event/private-party/
LOCATION:FL
ATTACH;FMTTYPE=image/jpeg:https://classicalguitarorlando.com/wp-content/uploads/2021/12/Girls-Ladies-Only-Party.jpg
END:VEVENT
BEGIN:VEVENT
DTSTART;TZID=America/New_York:20211212T170000
DTEND;TZID=America/New_York:20211212T200000
DTSTAMP:20260421T204504
CREATED:20211107T185510Z
LAST-MODIFIED:20230202T154753Z
UID:10000059-1639328400-1639339200@classicalguitarorlando.com
SUMMARY:Interlachen Country Club
DESCRIPTION:
URL:https://classicalguitarorlando.com/event/interlachen-country-club/
LOCATION:Interlachen Country Club\, 2245 Interlachen Court\, Winter Park\, FL\, 32792\, United States
ATTACH;FMTTYPE=image/jpeg:https://classicalguitarorlando.com/wp-content/uploads/2021/11/Interlachen-Country-Club.jpg
END:VEVENT
BEGIN:VEVENT
DTSTART;TZID=America/New_York:20211125T160000
DTEND;TZID=America/New_York:20211125T180000
DTSTAMP:20260421T204504
CREATED:20211107T192701Z
LAST-MODIFIED:20230202T154816Z
UID:10000060-1637856000-1637863200@classicalguitarorlando.com
SUMMARY:Thanksgiving Family Reunion Event
DESCRIPTION:
URL:https://classicalguitarorlando.com/event/thanksgiving-family-reunion-event/
LOCATION:FL
ATTACH;FMTTYPE=image/jpeg:https://classicalguitarorlando.com/wp-content/uploads/2021/11/Thanksgiving-Family-Reunion.jpg
END:VEVENT
BEGIN:VEVENT
DTSTART;TZID=America/New_York:20211111T150000
DTEND;TZID=America/New_York:20211111T163000
DTSTAMP:20260421T204504
CREATED:20210720T041339Z
LAST-MODIFIED:20230202T154848Z
UID:10000061-1636642800-1636648200@classicalguitarorlando.com
SUMMARY:Wedding Cocktail Hour
DESCRIPTION:
URL:https://classicalguitarorlando.com/event/wedding-cocktail-hour/
LOCATION:Howey Mansion\, 1001 Citrus Ave\, Howey-In-The-Hills\, FL\, 34737\, United States
ATTACH;FMTTYPE=image/jpeg:https://classicalguitarorlando.com/wp-content/uploads/2017/03/Cocktail-Party.jpg
END:VEVENT
BEGIN:VEVENT
DTSTART;TZID=America/New_York:20211105T173000
DTEND;TZID=America/New_York:20211105T193000
DTSTAMP:20260421T204504
CREATED:20210910T163423Z
LAST-MODIFIED:20230202T154908Z
UID:10000062-1636133400-1636140600@classicalguitarorlando.com
SUMMARY:Wine Tasking Event
DESCRIPTION:
URL:https://classicalguitarorlando.com/event/wine-tasking-event/
LOCATION:Si Como No Inn\, 2480 N Ocean Shore Blvd\, Flagler Beach\, FL\, 32136\, United States
ATTACH;FMTTYPE=image/jpeg:https://classicalguitarorlando.com/wp-content/uploads/2018/09/Wine-Tasting-Event.jpg
GEO:29.4749754;-81.1270035
X-APPLE-STRUCTURED-LOCATION;VALUE=URI;X-ADDRESS=Si Como No Inn 2480 N Ocean Shore Blvd Flagler Beach FL 32136 United States;X-APPLE-RADIUS=500;X-TITLE=2480 N Ocean Shore Blvd:geo:-81.1270035,29.4749754
END:VEVENT
BEGIN:VEVENT
DTSTART;TZID=America/New_York:20211002T120000
DTEND;TZID=America/New_York:20211002T150000
DTSTAMP:20260421T204504
CREATED:20210720T031149Z
LAST-MODIFIED:20230202T154926Z
UID:10000063-1633176000-1633186800@classicalguitarorlando.com
SUMMARY:Publix GreenWise Supermarket Event
DESCRIPTION:
URL:https://classicalguitarorlando.com/event/publix-greenwise-supermarket-event/
LOCATION:Publix GreenWise Supermarket (Tampa)\, 555 Channelside Drive\, Tampa\, FL\, 33602\, United States
ATTACH;FMTTYPE=image/jpeg:https://classicalguitarorlando.com/wp-content/uploads/2021/07/Publix-GreenWise-Market.jpg
END:VEVENT
BEGIN:VEVENT
DTSTART;TZID=America/New_York:20210925T180000
DTEND;TZID=America/New_York:20210925T190000
DTSTAMP:20260421T204504
CREATED:20210910T174754Z
LAST-MODIFIED:20230202T154949Z
UID:10000064-1632592800-1632596400@classicalguitarorlando.com
SUMMARY:Surprise Birthday Party Cocktail Hour
DESCRIPTION:
URL:https://classicalguitarorlando.com/event/surprise-birthday-party-cocktail-hour-event/
LOCATION:FL
ATTACH;FMTTYPE=image/jpeg:https://classicalguitarorlando.com/wp-content/uploads/2021/09/Surprise-Birthday-Party-Cocktail-Hour.jpg
END:VEVENT
BEGIN:VEVENT
DTSTART;TZID=America/New_York:20210904T193000
DTEND;TZID=America/New_York:20210904T223000
DTSTAMP:20260421T204504
CREATED:20220324T020817Z
LAST-MODIFIED:20230202T155013Z
UID:10000065-1630783800-1630794600@classicalguitarorlando.com
SUMMARY:Ellen's Wine Room
DESCRIPTION:
URL:https://classicalguitarorlando.com/event/ellens-wine-room-3/
LOCATION:Ellen’s Wine Room\, 440 Sanford Ave\, Sanford\, FL\, 32771\, United States
ATTACH;FMTTYPE=image/jpeg:https://classicalguitarorlando.com/wp-content/uploads/2020/11/Ellens-Wine-Room.jpg
END:VEVENT
BEGIN:VEVENT
DTSTART;TZID=America/New_York:20210814T170000
DTEND;TZID=America/New_York:20210814T200000
DTSTAMP:20260421T204504
CREATED:20210720T023359Z
LAST-MODIFIED:20230202T155036Z
UID:10000066-1628960400-1628971200@classicalguitarorlando.com
SUMMARY:Surprise Party
DESCRIPTION:
URL:https://classicalguitarorlando.com/event/surprise-party/
LOCATION:FL
ATTACH;FMTTYPE=image/jpeg:https://classicalguitarorlando.com/wp-content/uploads/2021/07/Surprise-Party.jpeg
END:VEVENT
BEGIN:VEVENT
DTSTART;TZID=America/New_York:20210725T103000
DTEND;TZID=America/New_York:20210725T133000
DTSTAMP:20260421T204504
CREATED:20210702T164603Z
LAST-MODIFIED:20230202T155105Z
UID:10000067-1627209000-1627219800@classicalguitarorlando.com
SUMMARY:Interlachen Country Club Sunday Brunch
DESCRIPTION:
URL:https://classicalguitarorlando.com/event/interlachen-country-club-sunday-brunch-2/
LOCATION:Interlachen Country Club\, 2245 Interlachen Court\, Winter Park\, FL\, 32792\, United States
ATTACH;FMTTYPE=image/png:https://classicalguitarorlando.com/wp-content/uploads/2021/06/Sunday-Brunch.png
END:VEVENT
BEGIN:VEVENT
DTSTART;TZID=America/New_York:20210724T180000
DTEND;TZID=America/New_York:20210724T210000
DTSTAMP:20260421T204504
CREATED:20210609T155802Z
LAST-MODIFIED:20230202T155125Z
UID:10000068-1627149600-1627160400@classicalguitarorlando.com
SUMMARY:Spanish Dinner party
DESCRIPTION:
URL:https://classicalguitarorlando.com/event/spanish-dinner-party/
LOCATION:FL
ATTACH;FMTTYPE=image/jpeg:https://classicalguitarorlando.com/wp-content/uploads/2021/06/Spanish-Dinner-Party.jpg
END:VEVENT
BEGIN:VEVENT
DTSTART;TZID=America/New_York:20210718T180000
DTEND;TZID=America/New_York:20210718T200000
DTSTAMP:20260421T204504
CREATED:20210719T034024Z
LAST-MODIFIED:20230202T155404Z
UID:10000069-1626631200-1626638400@classicalguitarorlando.com
SUMMARY:The New Standard
DESCRIPTION:
URL:https://classicalguitarorlando.com/event/the-new-standard-2/
LOCATION:Dexter’s New Standard\, 1035 Orlando Ave\, Winter Park\, FL\, 32789\, United States
ATTACH;FMTTYPE=image/jpeg:https://classicalguitarorlando.com/wp-content/uploads/2019/12/Dexters-New-Standard.jpg
END:VEVENT
BEGIN:VEVENT
DTSTART;TZID=America/New_York:20210620T103000
DTEND;TZID=America/New_York:20210620T133000
DTSTAMP:20260421T204504
CREATED:20210616T162537Z
LAST-MODIFIED:20230202T155448Z
UID:10000070-1624185000-1624195800@classicalguitarorlando.com
SUMMARY:Interlachen Country Club Sunday Brunch
DESCRIPTION:
URL:https://classicalguitarorlando.com/event/interlachen-country-club-sunday-brunch/
LOCATION:Interlachen Country Club\, 2245 Interlachen Court\, Winter Park\, FL\, 32792\, United States
ATTACH;FMTTYPE=image/png:https://classicalguitarorlando.com/wp-content/uploads/2021/06/Sunday-Brunch.png
END:VEVENT
BEGIN:VEVENT
DTSTART;TZID=America/New_York:20210617T173000
DTEND;TZID=America/New_York:20210617T193000
DTSTAMP:20260421T204504
CREATED:20210519T153806Z
LAST-MODIFIED:20230202T155538Z
UID:10000071-1623951000-1623958200@classicalguitarorlando.com
SUMMARY:FAIA Convention
DESCRIPTION:
URL:https://classicalguitarorlando.com/event/faia-convention-4/
LOCATION:Rosen Shingle Creek\, 9939 Universal Blvd\, Orlando\, FL\, 32819\, United States
ATTACH;FMTTYPE=image/jpeg:https://classicalguitarorlando.com/wp-content/uploads/2021/05/Rosen-Shingle-Creek.jpg
GEO:28.4258288;-81.4345457
X-APPLE-STRUCTURED-LOCATION;VALUE=URI;X-ADDRESS=Rosen Shingle Creek 9939 Universal Blvd Orlando FL 32819 United States;X-APPLE-RADIUS=500;X-TITLE=9939 Universal Blvd:geo:-81.4345457,28.4258288
END:VEVENT
BEGIN:VEVENT
DTSTART;TZID=America/New_York:20210527T173000
DTEND;TZID=America/New_York:20210527T193000
DTSTAMP:20260421T204504
CREATED:20210507T195237Z
LAST-MODIFIED:20230202T155608Z
UID:10000072-1622136600-1622143800@classicalguitarorlando.com
SUMMARY:Tavares History Museum Grand Opening Event
DESCRIPTION:
URL:https://classicalguitarorlando.com/event/tavares-history-museum-grand-opening-event/
LOCATION:FL
ATTACH;FMTTYPE=image/jpeg:https://classicalguitarorlando.com/wp-content/uploads/2021/05/Tavares.jpg
END:VEVENT
BEGIN:VEVENT
DTSTART;TZID=America/New_York:20210515T190000
DTEND;TZID=America/New_York:20210515T210000
DTSTAMP:20260421T204504
CREATED:20210418T124722Z
LAST-MODIFIED:20230202T155714Z
UID:10000073-1621105200-1621112400@classicalguitarorlando.com
SUMMARY:Quarterly Music Cafe
DESCRIPTION:
URL:https://classicalguitarorlando.com/event/quarterly-music-cafe/
LOCATION:Church of the Holy Presence\, 355 N. Kepler Road\, Deland\, FL\, 32724\, United States
ATTACH;FMTTYPE=image/jpeg:https://classicalguitarorlando.com/wp-content/uploads/2021/04/Music-Cafe.jpg
END:VEVENT
BEGIN:VEVENT
DTSTART;TZID=America/New_York:20210509T160000
DTEND;TZID=America/New_York:20210509T180000
DTSTAMP:20260421T204504
CREATED:20210507T184812Z
LAST-MODIFIED:20230202T155733Z
UID:10000074-1620576000-1620583200@classicalguitarorlando.com
SUMMARY:Mother's Day Event
DESCRIPTION:
URL:https://classicalguitarorlando.com/event/mothers-day-event/
LOCATION:FL
ATTACH;FMTTYPE=image/jpeg:https://classicalguitarorlando.com/wp-content/uploads/2021/05/Mothers-Day.jpg
END:VEVENT
BEGIN:VEVENT
DTSTART;TZID=America/New_York:20210319T160000
DTEND;TZID=America/New_York:20210319T183000
DTSTAMP:20260421T204504
CREATED:20200604T213859Z
LAST-MODIFIED:20230202T155821Z
UID:10000075-1616169600-1616178600@classicalguitarorlando.com
SUMMARY:Wedding Ceremony
DESCRIPTION:
URL:https://classicalguitarorlando.com/event/private-event-103/
LOCATION:Venue 1902\, 301 W 7th St\,\, Sanford\, FL\, 32771\, United States
ATTACH;FMTTYPE=image/jpeg:https://classicalguitarorlando.com/wp-content/uploads/2016/03/Wedding-scaled.jpg
END:VEVENT
BEGIN:VEVENT
DTSTART;TZID=America/New_York:20201225T153000
DTEND;TZID=America/New_York:20201225T200000
DTSTAMP:20260421T204504
CREATED:20201216T025609Z
LAST-MODIFIED:20230202T155846Z
UID:10000076-1608910200-1608926400@classicalguitarorlando.com
SUMMARY:Birthday/Christmas Party
DESCRIPTION:
URL:https://classicalguitarorlando.com/event/birthday-christmas-party/
LOCATION:Hyatt Regency Clearwater Beach\, 301 S Gulfview Blvd\, Clearwater Beach\, FL\, 33767\, United States
ATTACH;FMTTYPE=image/jpeg:https://classicalguitarorlando.com/wp-content/uploads/2020/12/birthday-christmas-party.jpg
END:VEVENT
BEGIN:VEVENT
DTSTART;TZID=America/New_York:20201224T190000
DTEND;TZID=America/New_York:20201224T230000
DTSTAMP:20260421T204504
CREATED:20201211T234242Z
LAST-MODIFIED:20230202T155909Z
UID:10000077-1608836400-1608850800@classicalguitarorlando.com
SUMMARY:Melia Hotel in Celebration
DESCRIPTION:
URL:https://classicalguitarorlando.com/event/melia-hotel-in-celebration/
LOCATION:Melia Hotel in Celebration\, 225\, Celebration Place\, Orlando\, FL\, 34747\, United States
ATTACH;FMTTYPE=image/jpeg:https://classicalguitarorlando.com/wp-content/uploads/2020/12/Melia-Hotel-in-Celebration.jpg
END:VEVENT
BEGIN:VEVENT
DTSTART;TZID=America/New_York:20201218T153000
DTEND;TZID=America/New_York:20201218T173000
DTSTAMP:20260421T204504
CREATED:20201031T144925Z
LAST-MODIFIED:20230202T155928Z
UID:10000078-1608305400-1608312600@classicalguitarorlando.com
SUMMARY:Wedding Ceremony
DESCRIPTION:
URL:https://classicalguitarorlando.com/event/wedding-ceremony/
LOCATION:Mead Gardens\, 1300 S Denning Dr\,\, Winter Park\, FL\, 32789\, United States
ATTACH;FMTTYPE=image/jpeg:https://classicalguitarorlando.com/wp-content/uploads/2020/10/Mead-Gardens.jpg
END:VEVENT
BEGIN:VEVENT
DTSTART;TZID=America/New_York:20201113T200000
DTEND;TZID=America/New_York:20201113T230000
DTSTAMP:20260421T204504
CREATED:20201107T160548Z
LAST-MODIFIED:20230202T155947Z
UID:10000079-1605297600-1605308400@classicalguitarorlando.com
SUMMARY:Ellen's Wine Room
DESCRIPTION:
URL:https://classicalguitarorlando.com/event/ellens-wine-room-2/
LOCATION:Ellen’s Wine Room\, 440 Sanford Ave\, Sanford\, FL\, 32771\, United States
ATTACH;FMTTYPE=image/jpeg:https://classicalguitarorlando.com/wp-content/uploads/2020/11/Ellens-Wine-Room.jpg
END:VEVENT
BEGIN:VEVENT
DTSTART;TZID=America/New_York:20201107T170000
DTEND;TZID=America/New_York:20201107T200000
DTSTAMP:20260421T204504
CREATED:20201107T160804Z
LAST-MODIFIED:20230202T160006Z
UID:10000080-1604768400-1604779200@classicalguitarorlando.com
SUMMARY:Birthday Party
DESCRIPTION:
URL:https://classicalguitarorlando.com/event/birthday-party-2/
LOCATION:FL
ATTACH;FMTTYPE=image/jpeg:https://classicalguitarorlando.com/wp-content/uploads/2017/05/IMG_8856.jpg
END:VEVENT
BEGIN:VEVENT
DTSTART;TZID=America/New_York:20201004T173000
DTEND;TZID=America/New_York:20201004T193000
DTSTAMP:20260421T204504
CREATED:20201031T143938Z
LAST-MODIFIED:20230202T160046Z
UID:10000081-1601832600-1601839800@classicalguitarorlando.com
SUMMARY:Private Party
DESCRIPTION:
URL:https://classicalguitarorlando.com/event/private-event-5/
LOCATION:FL
ATTACH;FMTTYPE=image/jpeg:https://classicalguitarorlando.com/wp-content/uploads/2018/10/Paella-Party.jpg
END:VEVENT
BEGIN:VEVENT
DTSTART;TZID=America/New_York:20200807T210000
DTEND;TZID=America/New_York:20200807T230000
DTSTAMP:20260421T204504
CREATED:20200808T205336Z
LAST-MODIFIED:20230202T160107Z
UID:10000082-1596834000-1596841200@classicalguitarorlando.com
SUMMARY:Black Velvet Wine and Caviar Bar
DESCRIPTION:
URL:https://classicalguitarorlando.com/event/black-velvet-wine-and-caviar-bar/
LOCATION:Black Velvet Wine and Caviar Bar\, 436 N Semoran Blvd\, Winter Park\, FL\, 32792\, United States
ATTACH;FMTTYPE=image/jpeg:https://classicalguitarorlando.com/wp-content/uploads/2020/08/1-Black-Velvet-Caviar-and-Wine-Bar-8-7-20.jpg
END:VEVENT
BEGIN:VEVENT
DTSTART;TZID=America/New_York:20200708T190000
DTEND;TZID=America/New_York:20200708T200000
DTSTAMP:20260421T204504
CREATED:20200709T193036Z
LAST-MODIFIED:20230202T160127Z
UID:10000083-1594234800-1594238400@classicalguitarorlando.com
SUMMARY:Private Event
DESCRIPTION:
URL:https://classicalguitarorlando.com/event/private-event-104/
LOCATION:FL
ATTACH;FMTTYPE=image/jpeg:https://classicalguitarorlando.com/wp-content/uploads/2017/01/Adult-Birthday-Party.jpg
END:VEVENT
BEGIN:VEVENT
DTSTART;TZID=America/New_York:20200619T183000
DTEND;TZID=America/New_York:20200619T210000
DTSTAMP:20260421T204504
CREATED:20200725T182253Z
LAST-MODIFIED:20230202T160148Z
UID:10000084-1592591400-1592600400@classicalguitarorlando.com
SUMMARY:The New Standard
DESCRIPTION:
URL:https://classicalguitarorlando.com/event/the-new-standard/
LOCATION:Dexter’s New Standard\, 1035 Orlando Ave\, Winter Park\, FL\, 32789\, United States
ATTACH;FMTTYPE=image/jpeg:https://classicalguitarorlando.com/wp-content/uploads/2019/12/Dexters-New-Standard.jpg
END:VEVENT
END:VCALENDAR