BEGIN:VCALENDAR
VERSION:2.0
PRODID:-//Brian Hayes, Classical Guitarist - ECPv6.15.20//NONSGML v1.0//EN
CALSCALE:GREGORIAN
METHOD:PUBLISH
X-WR-CALNAME:Brian Hayes, Classical Guitarist
X-ORIGINAL-URL:https://classicalguitarorlando.com
X-WR-CALDESC:Events for Brian Hayes, Classical Guitarist
REFRESH-INTERVAL;VALUE=DURATION:PT1H
X-Robots-Tag:noindex
X-PUBLISHED-TTL:PT1H
BEGIN:VTIMEZONE
TZID:America/New_York
BEGIN:DAYLIGHT
TZOFFSETFROM:-0500
TZOFFSETTO:-0400
TZNAME:EDT
DTSTART:20240310T070000
END:DAYLIGHT
BEGIN:STANDARD
TZOFFSETFROM:-0400
TZOFFSETTO:-0500
TZNAME:EST
DTSTART:20241103T060000
END:STANDARD
BEGIN:DAYLIGHT
TZOFFSETFROM:-0500
TZOFFSETTO:-0400
TZNAME:EDT
DTSTART:20250309T070000
END:DAYLIGHT
BEGIN:STANDARD
TZOFFSETFROM:-0400
TZOFFSETTO:-0500
TZNAME:EST
DTSTART:20251102T060000
END:STANDARD
BEGIN:DAYLIGHT
TZOFFSETFROM:-0500
TZOFFSETTO:-0400
TZNAME:EDT
DTSTART:20260308T070000
END:DAYLIGHT
BEGIN:STANDARD
TZOFFSETFROM:-0400
TZOFFSETTO:-0500
TZNAME:EST
DTSTART:20261101T060000
END:STANDARD
END:VTIMEZONE
BEGIN:VEVENT
DTSTART;TZID=America/New_York:20250514T123000
DTEND;TZID=America/New_York:20250514T133000
DTSTAMP:20260421T133441
CREATED:20241120T170724Z
LAST-MODIFIED:20241120T170724Z
UID:10000368-1747225800-1747229400@classicalguitarorlando.com
SUMMARY:In Concert at Tavares Public Library
DESCRIPTION:
URL:https://classicalguitarorlando.com/event/in-concert-at-tavares-public-library/
LOCATION:Taveras Public Library\, : 314 N. New Hampshire Ave\, Tavares\, FL\, 32778\, United States
ATTACH;FMTTYPE=image/jpeg:https://classicalguitarorlando.com/wp-content/uploads/2019/10/Tavares-Public-Library.jpg
END:VEVENT
BEGIN:VEVENT
DTSTART;TZID=America/New_York:20250515T180000
DTEND;TZID=America/New_York:20250515T210000
DTSTAMP:20260421T133441
CREATED:20250509T015327Z
LAST-MODIFIED:20250509T015327Z
UID:10000380-1747332000-1747342800@classicalguitarorlando.com
SUMMARY:The Pinery Orlando
DESCRIPTION:
URL:https://classicalguitarorlando.com/event/the-pinery-orlando/
LOCATION:The Pinery\, 295 NE Ivanhoe Blvd Suite A\,\, Orlando\, FL\, 32804\, United States
ATTACH;FMTTYPE=image/jpeg:https://classicalguitarorlando.com/wp-content/uploads/2025/05/The-Pinery.jpg
END:VEVENT
BEGIN:VEVENT
DTSTART;TZID=America/New_York:20250516T173000
DTEND;TZID=America/New_York:20250516T200000
DTSTAMP:20260421T133441
CREATED:20250427T002505Z
LAST-MODIFIED:20250427T002505Z
UID:10000377-1747416600-1747425600@classicalguitarorlando.com
SUMMARY:Andrei's Restaurant at Indian River Preserve
DESCRIPTION:
URL:https://classicalguitarorlando.com/event/andreis-restaurant-at-indian-river-preserve-6/
LOCATION:Andrei’s Restaurant at Indian River Preserve\, 3950 Walkabout Way\, Mims\, FL\, 32754\, United States
ATTACH;FMTTYPE=image/jpeg:https://classicalguitarorlando.com/wp-content/uploads/2024/05/Andreis-Restaurant-at-Indian-River-Preserve.jpg
END:VEVENT
BEGIN:VEVENT
DTSTART;TZID=America/New_York:20250517T133000
DTEND;TZID=America/New_York:20250517T153000
DTSTAMP:20260421T133441
CREATED:20250509T015856Z
LAST-MODIFIED:20250509T015856Z
UID:10000381-1747488600-1747495800@classicalguitarorlando.com
SUMMARY:Ravello at Four Seasons Orlando
DESCRIPTION:
URL:https://classicalguitarorlando.com/event/ravello-at-four-seasons-orlando/
LOCATION:Ravello at Four Seasons Orlando\, 10100 Dream Tree Blvd\,\, Lake Buena Vista\, FL\, 32836\, United States
ATTACH;FMTTYPE=image/jpeg:https://classicalguitarorlando.com/wp-content/uploads/2025/05/Ravello-at-Four-Seasons-Orlando.jpg
END:VEVENT
END:VCALENDAR