BEGIN:VCALENDAR
VERSION:2.0
PRODID:-//Brian Hayes, Classical Guitarist - ECPv6.15.20//NONSGML v1.0//EN
CALSCALE:GREGORIAN
METHOD:PUBLISH
X-WR-CALNAME:Brian Hayes, Classical Guitarist
X-ORIGINAL-URL:https://classicalguitarorlando.com
X-WR-CALDESC:Events for Brian Hayes, Classical Guitarist
REFRESH-INTERVAL;VALUE=DURATION:PT1H
X-Robots-Tag:noindex
X-PUBLISHED-TTL:PT1H
BEGIN:VTIMEZONE
TZID:America/New_York
BEGIN:DAYLIGHT
TZOFFSETFROM:-0500
TZOFFSETTO:-0400
TZNAME:EDT
DTSTART:20240310T070000
END:DAYLIGHT
BEGIN:STANDARD
TZOFFSETFROM:-0400
TZOFFSETTO:-0500
TZNAME:EST
DTSTART:20241103T060000
END:STANDARD
BEGIN:DAYLIGHT
TZOFFSETFROM:-0500
TZOFFSETTO:-0400
TZNAME:EDT
DTSTART:20250309T070000
END:DAYLIGHT
BEGIN:STANDARD
TZOFFSETFROM:-0400
TZOFFSETTO:-0500
TZNAME:EST
DTSTART:20251102T060000
END:STANDARD
BEGIN:DAYLIGHT
TZOFFSETFROM:-0500
TZOFFSETTO:-0400
TZNAME:EDT
DTSTART:20260308T070000
END:DAYLIGHT
BEGIN:STANDARD
TZOFFSETFROM:-0400
TZOFFSETTO:-0500
TZNAME:EST
DTSTART:20261101T060000
END:STANDARD
END:VTIMEZONE
BEGIN:VEVENT
DTSTART;TZID=America/New_York:20251015T163000
DTEND;TZID=America/New_York:20251015T193000
DTSTAMP:20260421T071512
CREATED:20251015T170032Z
LAST-MODIFIED:20251015T170032Z
UID:10000387-1760545800-1760556600@classicalguitarorlando.com
SUMMARY:Mariott Grand Vista
DESCRIPTION:
URL:https://classicalguitarorlando.com/event/mariott-grand-vista/
LOCATION:Marriott’s Grande Vista\, 5925 Avenida Vista\, Orlando\, FL\, 32821\, United States
ATTACH;FMTTYPE=image/jpeg:https://classicalguitarorlando.com/wp-content/uploads/2022/05/Marriotts-Grande-Vista.jpg
END:VEVENT
BEGIN:VEVENT
DTSTART;TZID=America/New_York:20251017T173000
DTEND;TZID=America/New_York:20251017T200000
DTSTAMP:20260421T071512
CREATED:20250901T195734Z
LAST-MODIFIED:20250901T195734Z
UID:10000384-1760722200-1760731200@classicalguitarorlando.com
SUMMARY:Andrei’s Restaurant at Indian River Preserve
DESCRIPTION:
URL:https://classicalguitarorlando.com/event/andreis-restaurant-at-indian-river-preserve-8/
LOCATION:FL
ATTACH;FMTTYPE=image/jpeg:https://classicalguitarorlando.com/wp-content/uploads/2024/05/Andreis-Restaurant-at-Indian-River-Preserve.jpg
END:VEVENT
END:VCALENDAR