BEGIN:VCALENDAR
VERSION:2.0
PRODID:-//Brian Hayes, Classical Guitarist - ECPv6.15.20//NONSGML v1.0//EN
CALSCALE:GREGORIAN
METHOD:PUBLISH
X-ORIGINAL-URL:https://classicalguitarorlando.com
X-WR-CALDESC:Events for Brian Hayes, Classical Guitarist
REFRESH-INTERVAL;VALUE=DURATION:PT1H
X-Robots-Tag:noindex
X-PUBLISHED-TTL:PT1H
BEGIN:VTIMEZONE
TZID:America/New_York
BEGIN:DAYLIGHT
TZOFFSETFROM:-0500
TZOFFSETTO:-0400
TZNAME:EDT
DTSTART:20240310T070000
END:DAYLIGHT
BEGIN:STANDARD
TZOFFSETFROM:-0400
TZOFFSETTO:-0500
TZNAME:EST
DTSTART:20241103T060000
END:STANDARD
BEGIN:DAYLIGHT
TZOFFSETFROM:-0500
TZOFFSETTO:-0400
TZNAME:EDT
DTSTART:20250309T070000
END:DAYLIGHT
BEGIN:STANDARD
TZOFFSETFROM:-0400
TZOFFSETTO:-0500
TZNAME:EST
DTSTART:20251102T060000
END:STANDARD
BEGIN:DAYLIGHT
TZOFFSETFROM:-0500
TZOFFSETTO:-0400
TZNAME:EDT
DTSTART:20260308T070000
END:DAYLIGHT
BEGIN:STANDARD
TZOFFSETFROM:-0400
TZOFFSETTO:-0500
TZNAME:EST
DTSTART:20261101T060000
END:STANDARD
END:VTIMEZONE
BEGIN:VEVENT
DTSTART;TZID=America/New_York:20251108T183000
DTEND;TZID=America/New_York:20251108T210000
DTSTAMP:20260421T061225
CREATED:20241204T181211Z
LAST-MODIFIED:20241204T181211Z
UID:10000370-1762626600-1762635600@classicalguitarorlando.com
SUMMARY:Ritz Carlton Amelia Island
DESCRIPTION:
URL:https://classicalguitarorlando.com/event/ritz-carlton-amelia-island-2/
LOCATION:Ritz Carlton Amelia Island\, 4750 Amelia Island Pkwy\, Amelia Island\, FL\, 32034\, United States
ATTACH;FMTTYPE=image/jpeg:https://classicalguitarorlando.com/wp-content/uploads/2024/07/Ritz-Carlton-Amelia-Island.jpg
END:VEVENT
BEGIN:VEVENT
DTSTART;TZID=America/New_York:20251113T183000
DTEND;TZID=America/New_York:20251113T203000
DTSTAMP:20260421T061225
CREATED:20251112T163804Z
LAST-MODIFIED:20251112T163804Z
UID:10000388-1763058600-1763065800@classicalguitarorlando.com
SUMMARY:Conrad Orlando at Evermore
DESCRIPTION:
URL:https://classicalguitarorlando.com/event/conrad-orlando-at-evermore/
LOCATION:Conrad Orlando at Evermore\, 1500 Eastbeach Wy\,\, Orlando\, FL\, 32836\, United States
ATTACH;FMTTYPE=image/jpeg:https://classicalguitarorlando.com/wp-content/uploads/2025/11/Conrad-Orlando-at-Evermore.jpg
END:VEVENT
BEGIN:VEVENT
DTSTART;TZID=America/New_York:20251126T153000
DTEND;TZID=America/New_York:20251126T190000
DTSTAMP:20260421T061225
CREATED:20250617T143610Z
LAST-MODIFIED:20250617T143610Z
UID:10000382-1764171000-1764183600@classicalguitarorlando.com
SUMMARY:Birthday Party
DESCRIPTION:
URL:https://classicalguitarorlando.com/event/birthday-party-9/
LOCATION:FL
ATTACH;FMTTYPE=image/jpeg:https://classicalguitarorlando.com/wp-content/uploads/2025/06/80th-Birthday-Party.jpg
END:VEVENT
BEGIN:VEVENT
DTSTART;TZID=America/New_York:20251128T180000
DTEND;TZID=America/New_York:20251128T200000
DTSTAMP:20260421T061225
CREATED:20251121T142625Z
LAST-MODIFIED:20251121T142625Z
UID:10000392-1764352800-1764360000@classicalguitarorlando.com
SUMMARY:Marriott's Lakeshore Reserve
DESCRIPTION:
URL:https://classicalguitarorlando.com/event/marriotts-lakeshore-reserve-2/
LOCATION:Marriott’s Lakeshore Reserve\, 11248 Lakeshore Reserve Drive\, Orlando\, FL\, 32837\, United States
ATTACH;FMTTYPE=image/jpeg:https://classicalguitarorlando.com/wp-content/uploads/2020/09/marriotts-lakeshore-reserve.jpg
END:VEVENT
END:VCALENDAR