BEGIN:VCALENDAR
VERSION:2.0
PRODID:-//Brian Hayes, Classical Guitarist - ECPv6.15.20//NONSGML v1.0//EN
CALSCALE:GREGORIAN
METHOD:PUBLISH
X-ORIGINAL-URL:https://classicalguitarorlando.com
X-WR-CALDESC:Events for Brian Hayes, Classical Guitarist
REFRESH-INTERVAL;VALUE=DURATION:PT1H
X-Robots-Tag:noindex
X-PUBLISHED-TTL:PT1H
BEGIN:VTIMEZONE
TZID:America/New_York
BEGIN:DAYLIGHT
TZOFFSETFROM:-0500
TZOFFSETTO:-0400
TZNAME:EDT
DTSTART:20170312T070000
END:DAYLIGHT
BEGIN:STANDARD
TZOFFSETFROM:-0400
TZOFFSETTO:-0500
TZNAME:EST
DTSTART:20171105T060000
END:STANDARD
BEGIN:DAYLIGHT
TZOFFSETFROM:-0500
TZOFFSETTO:-0400
TZNAME:EDT
DTSTART:20180311T070000
END:DAYLIGHT
BEGIN:STANDARD
TZOFFSETFROM:-0400
TZOFFSETTO:-0500
TZNAME:EST
DTSTART:20181104T060000
END:STANDARD
BEGIN:DAYLIGHT
TZOFFSETFROM:-0500
TZOFFSETTO:-0400
TZNAME:EDT
DTSTART:20190310T070000
END:DAYLIGHT
BEGIN:STANDARD
TZOFFSETFROM:-0400
TZOFFSETTO:-0500
TZNAME:EST
DTSTART:20191103T060000
END:STANDARD
END:VTIMEZONE
BEGIN:VEVENT
DTSTART;TZID=America/New_York:20180912T173000
DTEND;TZID=America/New_York:20180912T193000
DTSTAMP:20260422T005612
CREATED:20200912T153713Z
LAST-MODIFIED:20230202T162438Z
UID:10000140-1536773400-1536780600@classicalguitarorlando.com
SUMMARY:CCIM Event
DESCRIPTION:
URL:https://classicalguitarorlando.com/event/ccim-event-6/
LOCATION:Jax Thornton Park\, 617 E. Central Blvd.\, Orlando\, FL\, 32801\, United States
ATTACH;FMTTYPE=image/png:https://classicalguitarorlando.com/wp-content/uploads/2020/09/CCIM-at-Jax-Thornton-Park.png
GEO:28.5425077;-81.3692539
X-APPLE-STRUCTURED-LOCATION;VALUE=URI;X-ADDRESS=Jax Thornton Park 617 E. Central Blvd. Orlando FL 32801 United States;X-APPLE-RADIUS=500;X-TITLE=617 E. Central Blvd.:geo:-81.3692539,28.5425077
END:VEVENT
END:VCALENDAR